BEGIN:VCALENDAR
VERSION:2.0
PRODID:-//thesaintspub.com - ECPv6.15.20//NONSGML v1.0//EN
CALSCALE:GREGORIAN
METHOD:PUBLISH
X-ORIGINAL-URL:https://thesaintspub.com
X-WR-CALDESC:Events for thesaintspub.com
REFRESH-INTERVAL;VALUE=DURATION:PT1H
X-Robots-Tag:noindex
X-PUBLISHED-TTL:PT1H
BEGIN:VTIMEZONE
TZID:UTC
BEGIN:STANDARD
TZOFFSETFROM:+0000
TZOFFSETTO:+0000
TZNAME:UTC
DTSTART:20240101T000000
END:STANDARD
END:VTIMEZONE
BEGIN:VEVENT
DTSTART;TZID=UTC:20250402T183000
DTEND;TZID=UTC:20250402T213000
DTSTAMP:20260423T101505
CREATED:20250218T134848Z
LAST-MODIFIED:20250218T134848Z
UID:5686-1743618600-1743629400@thesaintspub.com
SUMMARY:Top Clown Karaoke
DESCRIPTION:
URL:https://thesaintspub.com/event/top-clown-karaoke-175/
LOCATION:The Saints Pub\, 2601 SE Morningside Blvd\, Port St. Lucie\, FL\, 34952\, United States
CATEGORIES:events
ORGANIZER;CN="The Saints Pub":MAILTO:info@thesaintspub.com
END:VEVENT
BEGIN:VEVENT
DTSTART;TZID=UTC:20250402T190000
DTEND;TZID=UTC:20250402T203000
DTSTAMP:20260423T101505
CREATED:20250218T134825Z
LAST-MODIFIED:20250218T134825Z
UID:5687-1743620400-1743625800@thesaintspub.com
SUMMARY:Line Dancing in The Sandpiper Room
DESCRIPTION:
URL:https://thesaintspub.com/event/line-dancing-in-the-sandpiper-room-118/
LOCATION:The Saints Pub\, 2601 SE Morningside Blvd\, Port St. Lucie\, FL\, 34952\, United States
CATEGORIES:events
ORGANIZER;CN="The Saints Pub":MAILTO:info@thesaintspub.com
END:VEVENT
END:VCALENDAR