BEGIN:VCALENDAR
VERSION:2.0
PRODID:-//thesaintspub.com - ECPv6.15.20//NONSGML v1.0//EN
CALSCALE:GREGORIAN
METHOD:PUBLISH
X-ORIGINAL-URL:https://thesaintspub.com
X-WR-CALDESC:Events for thesaintspub.com
REFRESH-INTERVAL;VALUE=DURATION:PT1H
X-Robots-Tag:noindex
X-PUBLISHED-TTL:PT1H
BEGIN:VTIMEZONE
TZID:UTC
BEGIN:STANDARD
TZOFFSETFROM:+0000
TZOFFSETTO:+0000
TZNAME:UTC
DTSTART:20240101T000000
END:STANDARD
END:VTIMEZONE
BEGIN:VEVENT
DTSTART;TZID=UTC:20250716T183000
DTEND;TZID=UTC:20250716T213000
DTSTAMP:20260423T045110
CREATED:20250623T154346Z
LAST-MODIFIED:20250623T154346Z
UID:5849-1752690600-1752701400@thesaintspub.com
SUMMARY:Top Clown Karaoke
DESCRIPTION:
URL:https://thesaintspub.com/event/top-clown-karaoke-190/
LOCATION:The Saints Pub\, 2601 SE Morningside Blvd\, Port St. Lucie\, FL\, 34952\, United States
CATEGORIES:events
ORGANIZER;CN="The Saints Pub":MAILTO:info@thesaintspub.com
END:VEVENT
BEGIN:VEVENT
DTSTART;TZID=UTC:20250716T190000
DTEND;TZID=UTC:20250716T203000
DTSTAMP:20260423T045110
CREATED:20250623T154416Z
LAST-MODIFIED:20250623T154416Z
UID:5851-1752692400-1752697800@thesaintspub.com
SUMMARY:Country Line Dancing in The Sandpiper Room
DESCRIPTION:
URL:https://thesaintspub.com/event/country-line-dancing-in-the-sandpiper-room-10/
LOCATION:The Saints Pub\, 2601 SE Morningside Blvd\, Port St. Lucie\, FL\, 34952\, United States
CATEGORIES:events
ORGANIZER;CN="The Saints Pub":MAILTO:info@thesaintspub.com
END:VEVENT
END:VCALENDAR