BEGIN:VCALENDAR
VERSION:2.0
PRODID:-//thesaintspub.com - ECPv6.15.20//NONSGML v1.0//EN
CALSCALE:GREGORIAN
METHOD:PUBLISH
X-ORIGINAL-URL:https://thesaintspub.com
X-WR-CALDESC:Events for thesaintspub.com
REFRESH-INTERVAL;VALUE=DURATION:PT1H
X-Robots-Tag:noindex
X-PUBLISHED-TTL:PT1H
BEGIN:VTIMEZONE
TZID:UTC
BEGIN:STANDARD
TZOFFSETFROM:+0000
TZOFFSETTO:+0000
TZNAME:UTC
DTSTART:20250101T000000
END:STANDARD
END:VTIMEZONE
BEGIN:VEVENT
DTSTART;TZID=UTC:20260128T183000
DTEND;TZID=UTC:20260128T203000
DTSTAMP:20260422T153244
CREATED:20251231T190858Z
LAST-MODIFIED:20260106T192952Z
UID:6291-1769625000-1769632200@thesaintspub.com
SUMMARY:Top Clown Karaoke
DESCRIPTION:
URL:https://thesaintspub.com/event/top-clown-karaoke-215/
LOCATION:Pub\, Charlottesville\, VA 123456 United States\, Charlottesville\, United States
CATEGORIES:events
ORGANIZER;CN="Pub":MAILTO:pubzinne@example.com
END:VEVENT
BEGIN:VEVENT
DTSTART;TZID=UTC:20260128T190000
DTEND;TZID=UTC:20260128T210000
DTSTAMP:20260422T153244
CREATED:20251231T191016Z
LAST-MODIFIED:20260106T194416Z
UID:6293-1769626800-1769634000@thesaintspub.com
SUMMARY:Country Line Dancing
DESCRIPTION:
URL:https://thesaintspub.com/event/country-line-dancing-4/
LOCATION:Pub\, Charlottesville\, VA 123456 United States\, Charlottesville\, United States
CATEGORIES:events
ORGANIZER;CN="Pub":MAILTO:pubzinne@example.com
END:VEVENT
END:VCALENDAR