BEGIN:VCALENDAR
VERSION:2.0
PRODID:-//thesaintspub.com - ECPv6.15.20//NONSGML v1.0//EN
CALSCALE:GREGORIAN
METHOD:PUBLISH
X-ORIGINAL-URL:https://thesaintspub.com
X-WR-CALDESC:Events for thesaintspub.com
REFRESH-INTERVAL;VALUE=DURATION:PT1H
X-Robots-Tag:noindex
X-PUBLISHED-TTL:PT1H
BEGIN:VTIMEZONE
TZID:UTC
BEGIN:STANDARD
TZOFFSETFROM:+0000
TZOFFSETTO:+0000
TZNAME:UTC
DTSTART:20250101T000000
END:STANDARD
END:VTIMEZONE
BEGIN:VEVENT
DTSTART;TZID=UTC:20260417T183000
DTEND;TZID=UTC:20260417T190000
DTSTAMP:20260422T121636
CREATED:20260309T190538Z
LAST-MODIFIED:20260309T190538Z
UID:6658-1776450600-1776452400@thesaintspub.com
SUMMARY:Radio Dayz
DESCRIPTION:
URL:https://thesaintspub.com/event/radio-dayz-2/
LOCATION:Pub\, Charlottesville\, VA 123456 United States\, Charlottesville\, United States
CATEGORIES:events
ORGANIZER;CN="Pub":MAILTO:pubzinne@example.com
END:VEVENT
END:VCALENDAR