BEGIN:VCALENDAR
VERSION:2.0
PRODID:-//thesaintspub.com - ECPv6.15.20//NONSGML v1.0//EN
CALSCALE:GREGORIAN
METHOD:PUBLISH
X-WR-CALNAME:thesaintspub.com
X-ORIGINAL-URL:https://thesaintspub.com
X-WR-CALDESC:Events for thesaintspub.com
REFRESH-INTERVAL;VALUE=DURATION:PT1H
X-Robots-Tag:noindex
X-PUBLISHED-TTL:PT1H
BEGIN:VTIMEZONE
TZID:UTC
BEGIN:STANDARD
TZOFFSETFROM:+0000
TZOFFSETTO:+0000
TZNAME:UTC
DTSTART:20230101T000000
END:STANDARD
END:VTIMEZONE
BEGIN:VEVENT
DTSTART;TZID=UTC:20240810T190000
DTEND;TZID=UTC:20240810T203000
DTSTAMP:20260424T090136
CREATED:20240705T150359Z
LAST-MODIFIED:20240705T150359Z
UID:5387-1723316400-1723321800@thesaintspub.com
SUMMARY:Line Dancing in The Sandpiper Room
DESCRIPTION:
URL:https://thesaintspub.com/event/line-dancing-in-the-sandpiper-room-89/
LOCATION:The Saints Pub\, 2601 SE Morningside Blvd\, Port St. Lucie\, FL\, 34952\, United States
CATEGORIES:events
ORGANIZER;CN="The Saints Pub":MAILTO:info@thesaintspub.com
END:VEVENT
BEGIN:VEVENT
DTSTART;TZID=UTC:20240810T183000
DTEND;TZID=UTC:20240810T213000
DTSTAMP:20260424T090136
CREATED:20240705T150329Z
LAST-MODIFIED:20240705T150329Z
UID:5385-1723314600-1723325400@thesaintspub.com
SUMMARY:Top Clown Karaoke
DESCRIPTION:
URL:https://thesaintspub.com/event/top-clown-karaoke-144/
LOCATION:The Saints Pub\, 2601 SE Morningside Blvd\, Port St. Lucie\, FL\, 34952\, United States
CATEGORIES:events
ORGANIZER;CN="The Saints Pub":MAILTO:info@thesaintspub.com
END:VEVENT
BEGIN:VEVENT
DTSTART;TZID=UTC:20240810T183000
DTEND;TZID=UTC:20240810T213000
DTSTAMP:20260424T090136
CREATED:20240705T150212Z
LAST-MODIFIED:20240705T150212Z
UID:5381-1723314600-1723325400@thesaintspub.com
SUMMARY:Alita & The Boyz
DESCRIPTION:
URL:https://thesaintspub.com/event/alita-the-boyz-4/
LOCATION:The Saints Pub\, 2601 SE Morningside Blvd\, Port St. Lucie\, FL\, 34952\, United States
CATEGORIES:events
ORGANIZER;CN="The Saints Pub":MAILTO:info@thesaintspub.com
END:VEVENT
BEGIN:VEVENT
DTSTART;TZID=UTC:20240809T183000
DTEND;TZID=UTC:20240809T213000
DTSTAMP:20260424T090136
CREATED:20240705T150239Z
LAST-MODIFIED:20240705T150239Z
UID:5383-1723228200-1723239000@thesaintspub.com
SUMMARY:Big T
DESCRIPTION:
URL:https://thesaintspub.com/event/big-t-15/
LOCATION:The Saints Pub\, 2601 SE Morningside Blvd\, Port St. Lucie\, FL\, 34952\, United States
CATEGORIES:events
ORGANIZER;CN="The Saints Pub":MAILTO:info@thesaintspub.com
END:VEVENT
BEGIN:VEVENT
DTSTART;TZID=UTC:20240808T183000
DTEND;TZID=UTC:20240808T203000
DTSTAMP:20260424T090136
CREATED:20240705T150137Z
LAST-MODIFIED:20240705T150137Z
UID:5379-1723141800-1723149000@thesaintspub.com
SUMMARY:Sean O’Brien’s Free Trivia Contest with Prizes
DESCRIPTION:
URL:https://thesaintspub.com/event/sean-obriens-free-trivia-contest-with-prizes-3/
LOCATION:The Saints Pub\, 2601 SE Morningside Blvd\, Port St. Lucie\, FL\, 34952\, United States
CATEGORIES:events
ORGANIZER;CN="The Saints Pub":MAILTO:info@thesaintspub.com
END:VEVENT
BEGIN:VEVENT
DTSTART;TZID=UTC:20240807T190000
DTEND;TZID=UTC:20240807T203000
DTSTAMP:20260424T090136
CREATED:20240705T150048Z
LAST-MODIFIED:20240705T150048Z
UID:5377-1723057200-1723062600@thesaintspub.com
SUMMARY:Line Dancing in The Sandpiper Room
DESCRIPTION:
URL:https://thesaintspub.com/event/line-dancing-in-the-sandpiper-room-88/
LOCATION:The Saints Pub\, 2601 SE Morningside Blvd\, Port St. Lucie\, FL\, 34952\, United States
CATEGORIES:events
ORGANIZER;CN="The Saints Pub":MAILTO:info@thesaintspub.com
END:VEVENT
BEGIN:VEVENT
DTSTART;TZID=UTC:20240807T183000
DTEND;TZID=UTC:20240807T213000
DTSTAMP:20260424T090136
CREATED:20240705T145843Z
LAST-MODIFIED:20240705T145843Z
UID:5375-1723055400-1723066200@thesaintspub.com
SUMMARY:Top Clown Karaoke
DESCRIPTION:
URL:https://thesaintspub.com/event/top-clown-karaoke-143/
LOCATION:The Saints Pub\, 2601 SE Morningside Blvd\, Port St. Lucie\, FL\, 34952\, United States
CATEGORIES:events
ORGANIZER;CN="The Saints Pub":MAILTO:info@thesaintspub.com
END:VEVENT
BEGIN:VEVENT
DTSTART;TZID=UTC:20240803T183000
DTEND;TZID=UTC:20240803T213000
DTSTAMP:20260424T090136
CREATED:20240705T145730Z
LAST-MODIFIED:20240705T145730Z
UID:5373-1722709800-1722720600@thesaintspub.com
SUMMARY:The Terri Hines Band
DESCRIPTION:
URL:https://thesaintspub.com/event/the-terri-hines-band-51/
LOCATION:The Saints Pub\, 2601 SE Morningside Blvd\, Port St. Lucie\, FL\, 34952\, United States
CATEGORIES:events
ORGANIZER;CN="The Saints Pub":MAILTO:info@thesaintspub.com
END:VEVENT
BEGIN:VEVENT
DTSTART;TZID=UTC:20240802T183000
DTEND;TZID=UTC:20240802T213000
DTSTAMP:20260424T090136
CREATED:20240705T145521Z
LAST-MODIFIED:20240705T145521Z
UID:5371-1722623400-1722634200@thesaintspub.com
SUMMARY:J-Roxx
DESCRIPTION:
URL:https://thesaintspub.com/event/j-roxx/
LOCATION:The Saints Pub\, 2601 SE Morningside Blvd\, Port St. Lucie\, FL\, 34952\, United States
CATEGORIES:events
ORGANIZER;CN="The Saints Pub":MAILTO:info@thesaintspub.com
END:VEVENT
BEGIN:VEVENT
DTSTART;TZID=UTC:20240801T183000
DTEND;TZID=UTC:20240801T213000
DTSTAMP:20260424T090136
CREATED:20240705T145409Z
LAST-MODIFIED:20240705T145601Z
UID:5368-1722537000-1722547800@thesaintspub.com
SUMMARY:Cup of Joe’s Duo
DESCRIPTION:
URL:https://thesaintspub.com/event/cup-of-joes-duo/
LOCATION:The Saints Pub\, 2601 SE Morningside Blvd\, Port St. Lucie\, FL\, 34952\, United States
CATEGORIES:events
ORGANIZER;CN="The Saints Pub":MAILTO:info@thesaintspub.com
END:VEVENT
BEGIN:VEVENT
DTSTART;TZID=UTC:20240731T190000
DTEND;TZID=UTC:20240731T203000
DTSTAMP:20260424T090136
CREATED:20240705T145305Z
LAST-MODIFIED:20240705T145305Z
UID:5366-1722452400-1722457800@thesaintspub.com
SUMMARY:Line Dancing in The Sandpiper Room
DESCRIPTION:
URL:https://thesaintspub.com/event/line-dancing-in-the-sandpiper-room-87/
LOCATION:The Saints Pub\, 2601 SE Morningside Blvd\, Port St. Lucie\, FL\, 34952\, United States
CATEGORIES:events
ORGANIZER;CN="The Saints Pub":MAILTO:info@thesaintspub.com
END:VEVENT
BEGIN:VEVENT
DTSTART;TZID=UTC:20240731T183000
DTEND;TZID=UTC:20240731T213000
DTSTAMP:20260424T090136
CREATED:20240705T145235Z
LAST-MODIFIED:20240705T145235Z
UID:5364-1722450600-1722461400@thesaintspub.com
SUMMARY:Top Clown Karaoke
DESCRIPTION:
URL:https://thesaintspub.com/event/top-clown-karaoke-142/
LOCATION:The Saints Pub\, 2601 SE Morningside Blvd\, Port St. Lucie\, FL\, 34952\, United States
CATEGORIES:events
ORGANIZER;CN="The Saints Pub":MAILTO:info@thesaintspub.com
END:VEVENT
BEGIN:VEVENT
DTSTART;TZID=UTC:20240727T183000
DTEND;TZID=UTC:20240727T213000
DTSTAMP:20260424T090136
CREATED:20240705T145148Z
LAST-MODIFIED:20240722T212215Z
UID:5362-1722105000-1722115800@thesaintspub.com
SUMMARY:3rd Shot
DESCRIPTION:
URL:https://thesaintspub.com/event/big-t-14/
LOCATION:The Saints Pub\, 2601 SE Morningside Blvd\, Port St. Lucie\, FL\, 34952\, United States
CATEGORIES:events
ORGANIZER;CN="The Saints Pub":MAILTO:info@thesaintspub.com
END:VEVENT
BEGIN:VEVENT
DTSTART;TZID=UTC:20240726T183000
DTEND;TZID=UTC:20240726T213000
DTSTAMP:20260424T090136
CREATED:20240326T160628Z
LAST-MODIFIED:20240705T145049Z
UID:4614-1722018600-1722029400@thesaintspub.com
SUMMARY:Scott Barreto
DESCRIPTION:
URL:https://thesaintspub.com/event/scott-barreto-16/
LOCATION:The Saints Pub\, 2601 SE Morningside Blvd\, Port St. Lucie\, FL\, 34952\, United States
CATEGORIES:events
ORGANIZER;CN="The Saints Pub":MAILTO:info@thesaintspub.com
END:VEVENT
BEGIN:VEVENT
DTSTART;TZID=UTC:20240725T183000
DTEND;TZID=UTC:20240725T203000
DTSTAMP:20260424T090136
CREATED:20240705T145024Z
LAST-MODIFIED:20240705T145024Z
UID:5359-1721932200-1721939400@thesaintspub.com
SUMMARY:Sean O’Brien’s Free Trivia Contest with Prizes
DESCRIPTION:
URL:https://thesaintspub.com/event/sean-obriens-free-trivia-contest-with-prizes-2/
LOCATION:The Saints Pub\, 2601 SE Morningside Blvd\, Port St. Lucie\, FL\, 34952\, United States
CATEGORIES:events
ORGANIZER;CN="The Saints Pub":MAILTO:info@thesaintspub.com
END:VEVENT
BEGIN:VEVENT
DTSTART;TZID=UTC:20240724T190000
DTEND;TZID=UTC:20240724T203000
DTSTAMP:20260424T090136
CREATED:20240705T144953Z
LAST-MODIFIED:20240705T144953Z
UID:5357-1721847600-1721853000@thesaintspub.com
SUMMARY:Line Dancing in The Sandpiper Room
DESCRIPTION:
URL:https://thesaintspub.com/event/line-dancing-in-the-sandpiper-room-86/
LOCATION:The Saints Pub\, 2601 SE Morningside Blvd\, Port St. Lucie\, FL\, 34952\, United States
CATEGORIES:events
ORGANIZER;CN="The Saints Pub":MAILTO:info@thesaintspub.com
END:VEVENT
BEGIN:VEVENT
DTSTART;TZID=UTC:20240724T183000
DTEND;TZID=UTC:20240724T213000
DTSTAMP:20260424T090136
CREATED:20240705T144914Z
LAST-MODIFIED:20240705T144914Z
UID:5355-1721845800-1721856600@thesaintspub.com
SUMMARY:Top Clown Karaoke
DESCRIPTION:
URL:https://thesaintspub.com/event/top-clown-karaoke-141/
LOCATION:The Saints Pub\, 2601 SE Morningside Blvd\, Port St. Lucie\, FL\, 34952\, United States
CATEGORIES:events
ORGANIZER;CN="The Saints Pub":MAILTO:info@thesaintspub.com
END:VEVENT
BEGIN:VEVENT
DTSTART;TZID=UTC:20240720T183000
DTEND;TZID=UTC:20240720T213000
DTSTAMP:20260424T090136
CREATED:20240705T144836Z
LAST-MODIFIED:20240705T150558Z
UID:5353-1721500200-1721511000@thesaintspub.com
SUMMARY:Shaboom
DESCRIPTION:
URL:https://thesaintspub.com/event/shaboom-15/
LOCATION:The Saints Pub\, 2601 SE Morningside Blvd\, Port St. Lucie\, FL\, 34952\, United States
CATEGORIES:events
ORGANIZER;CN="The Saints Pub":MAILTO:info@thesaintspub.com
END:VEVENT
BEGIN:VEVENT
DTSTART;TZID=UTC:20240719T183000
DTEND;TZID=UTC:20240719T213000
DTSTAMP:20260424T090136
CREATED:20240705T144328Z
LAST-MODIFIED:20240705T144328Z
UID:5351-1721413800-1721424600@thesaintspub.com
SUMMARY:The Terri Hines Band
DESCRIPTION:
URL:https://thesaintspub.com/event/the-terri-hines-band-50/
LOCATION:The Saints Pub\, 2601 SE Morningside Blvd\, Port St. Lucie\, FL\, 34952\, United States
CATEGORIES:events
ORGANIZER;CN="The Saints Pub":MAILTO:info@thesaintspub.com
END:VEVENT
BEGIN:VEVENT
DTSTART;TZID=UTC:20240718T180000
DTEND;TZID=UTC:20240718T210000
DTSTAMP:20260424T090136
CREATED:20240705T144224Z
LAST-MODIFIED:20240705T144224Z
UID:5349-1721325600-1721336400@thesaintspub.com
SUMMARY:Musical Bingo for Charity
DESCRIPTION:
URL:https://thesaintspub.com/event/musical-bingo-charity/
LOCATION:The Saints Pub\, 2601 SE Morningside Blvd\, Port St. Lucie\, FL\, 34952\, United States
CATEGORIES:events
ORGANIZER;CN="The Saints Pub":MAILTO:info@thesaintspub.com
END:VEVENT
BEGIN:VEVENT
DTSTART;TZID=UTC:20240717T190000
DTEND;TZID=UTC:20240717T203000
DTSTAMP:20260424T090136
CREATED:20240705T144100Z
LAST-MODIFIED:20240705T144100Z
UID:5347-1721242800-1721248200@thesaintspub.com
SUMMARY:Line Dancing in The Sandpiper Room
DESCRIPTION:
URL:https://thesaintspub.com/event/line-dancing-in-the-sandpiper-room-85/
LOCATION:The Saints Pub\, 2601 SE Morningside Blvd\, Port St. Lucie\, FL\, 34952\, United States
CATEGORIES:events
ORGANIZER;CN="The Saints Pub":MAILTO:info@thesaintspub.com
END:VEVENT
BEGIN:VEVENT
DTSTART;TZID=UTC:20240717T183000
DTEND;TZID=UTC:20240717T213000
DTSTAMP:20260424T090136
CREATED:20240705T144013Z
LAST-MODIFIED:20240705T144013Z
UID:5345-1721241000-1721251800@thesaintspub.com
SUMMARY:Top Clown Karaoke
DESCRIPTION:
URL:https://thesaintspub.com/event/top-clown-karaoke-140/
LOCATION:The Saints Pub\, 2601 SE Morningside Blvd\, Port St. Lucie\, FL\, 34952\, United States
CATEGORIES:events
ORGANIZER;CN="The Saints Pub":MAILTO:info@thesaintspub.com
END:VEVENT
BEGIN:VEVENT
DTSTART;TZID=UTC:20240713T183000
DTEND;TZID=UTC:20240713T213000
DTSTAMP:20260424T090136
CREATED:20240705T143931Z
LAST-MODIFIED:20240705T143931Z
UID:5343-1720895400-1720906200@thesaintspub.com
SUMMARY:Shepherd-N-Green
DESCRIPTION:
URL:https://thesaintspub.com/event/shepherd-n-green-35/
LOCATION:The Saints Pub\, 2601 SE Morningside Blvd\, Port St. Lucie\, FL\, 34952\, United States
CATEGORIES:events
ORGANIZER;CN="The Saints Pub":MAILTO:info@thesaintspub.com
END:VEVENT
BEGIN:VEVENT
DTSTART;TZID=UTC:20240712T183000
DTEND;TZID=UTC:20240712T213000
DTSTAMP:20260424T090136
CREATED:20240705T143801Z
LAST-MODIFIED:20240705T143801Z
UID:5341-1720809000-1720819800@thesaintspub.com
SUMMARY:Alita & The Boyz
DESCRIPTION:
URL:https://thesaintspub.com/event/alita-the-boyz-3/
LOCATION:The Saints Pub\, 2601 SE Morningside Blvd\, Port St. Lucie\, FL\, 34952\, United States
CATEGORIES:events
ORGANIZER;CN="The Saints Pub":MAILTO:info@thesaintspub.com
END:VEVENT
BEGIN:VEVENT
DTSTART;TZID=UTC:20240711T183000
DTEND;TZID=UTC:20240711T203000
DTSTAMP:20260424T090136
CREATED:20240705T143557Z
LAST-MODIFIED:20240705T143557Z
UID:5339-1720722600-1720729800@thesaintspub.com
SUMMARY:Sean O’Brien’s Free Trivia Contest with Prizes
DESCRIPTION:
URL:https://thesaintspub.com/event/sean-obriens-free-trivia-contest-with-prizes/
LOCATION:The Saints Pub\, 2601 SE Morningside Blvd\, Port St. Lucie\, FL\, 34952\, United States
CATEGORIES:events
ORGANIZER;CN="The Saints Pub":MAILTO:info@thesaintspub.com
END:VEVENT
BEGIN:VEVENT
DTSTART;TZID=UTC:20240710T190000
DTEND;TZID=UTC:20240710T203000
DTSTAMP:20260424T090136
CREATED:20240705T143335Z
LAST-MODIFIED:20240705T143335Z
UID:5337-1720638000-1720643400@thesaintspub.com
SUMMARY:Line Dancing in The Sandpiper Room
DESCRIPTION:
URL:https://thesaintspub.com/event/line-dancing-in-the-sandpiper-room-84/
LOCATION:The Saints Pub\, 2601 SE Morningside Blvd\, Port St. Lucie\, FL\, 34952\, United States
CATEGORIES:events
ORGANIZER;CN="The Saints Pub":MAILTO:info@thesaintspub.com
END:VEVENT
BEGIN:VEVENT
DTSTART;TZID=UTC:20240710T183000
DTEND;TZID=UTC:20240710T213000
DTSTAMP:20260424T090136
CREATED:20240705T143123Z
LAST-MODIFIED:20240705T143123Z
UID:5335-1720636200-1720647000@thesaintspub.com
SUMMARY:Top Clown Karaoke
DESCRIPTION:
URL:https://thesaintspub.com/event/top-clown-karaoke-139/
LOCATION:The Saints Pub\, 2601 SE Morningside Blvd\, Port St. Lucie\, FL\, 34952\, United States
CATEGORIES:events
ORGANIZER;CN="The Saints Pub":MAILTO:info@thesaintspub.com
END:VEVENT
BEGIN:VEVENT
DTSTART;TZID=UTC:20240706T183000
DTEND;TZID=UTC:20240706T213000
DTSTAMP:20260424T090136
CREATED:20240703T162222Z
LAST-MODIFIED:20240703T162222Z
UID:5333-1720290600-1720301400@thesaintspub.com
SUMMARY:The Terri Hines Band
DESCRIPTION:
URL:https://thesaintspub.com/event/the-terri-hines-band-49/
LOCATION:The Saints Pub\, 2601 SE Morningside Blvd\, Port St. Lucie\, FL\, 34952\, United States
CATEGORIES:events
ORGANIZER;CN="The Saints Pub":MAILTO:info@thesaintspub.com
END:VEVENT
BEGIN:VEVENT
DTSTART;TZID=UTC:20240705T183000
DTEND;TZID=UTC:20240705T213000
DTSTAMP:20260424T090136
CREATED:20240703T162125Z
LAST-MODIFIED:20240703T162125Z
UID:5331-1720204200-1720215000@thesaintspub.com
SUMMARY:Albert & Juan
DESCRIPTION:
URL:https://thesaintspub.com/event/albert-juan-5/
LOCATION:The Saints Pub\, 2601 SE Morningside Blvd\, Port St. Lucie\, FL\, 34952\, United States
CATEGORIES:events
ORGANIZER;CN="The Saints Pub":MAILTO:info@thesaintspub.com
END:VEVENT
BEGIN:VEVENT
DTSTART;TZID=UTC:20240703T190000
DTEND;TZID=UTC:20240703T203000
DTSTAMP:20260424T090136
CREATED:20240528T171748Z
LAST-MODIFIED:20240528T171748Z
UID:5268-1720033200-1720038600@thesaintspub.com
SUMMARY:Line Dancing in The Sandpiper Room
DESCRIPTION:
URL:https://thesaintspub.com/event/line-dancing-in-the-sandpiper-room-83/
LOCATION:The Saints Pub\, 2601 SE Morningside Blvd\, Port St. Lucie\, FL\, 34952\, United States
CATEGORIES:events
ORGANIZER;CN="The Saints Pub":MAILTO:info@thesaintspub.com
END:VEVENT
END:VCALENDAR