BEGIN:VCALENDAR
VERSION:2.0
PRODID:-//thesaintspub.com - ECPv6.15.20//NONSGML v1.0//EN
CALSCALE:GREGORIAN
METHOD:PUBLISH
X-WR-CALNAME:thesaintspub.com
X-ORIGINAL-URL:https://thesaintspub.com
X-WR-CALDESC:Events for thesaintspub.com
REFRESH-INTERVAL;VALUE=DURATION:PT1H
X-Robots-Tag:noindex
X-PUBLISHED-TTL:PT1H
BEGIN:VTIMEZONE
TZID:UTC
BEGIN:STANDARD
TZOFFSETFROM:+0000
TZOFFSETTO:+0000
TZNAME:UTC
DTSTART:20220101T000000
END:STANDARD
END:VTIMEZONE
BEGIN:VEVENT
DTSTART;TZID=UTC:20231115T183000
DTEND;TZID=UTC:20231115T213000
DTSTAMP:20260425T033539
CREATED:20231020T152249Z
LAST-MODIFIED:20231020T152249Z
UID:4366-1700073000-1700083800@thesaintspub.com
SUMMARY:Top Clown Karaoke
DESCRIPTION:
URL:https://thesaintspub.com/event/top-clown-karaoke-106/
LOCATION:Pub\, Charlottesville\, VA 123456 United States\, Charlottesville\, United States
CATEGORIES:events
ORGANIZER;CN="Pub":MAILTO:pubzinne@example.com
END:VEVENT
BEGIN:VEVENT
DTSTART;TZID=UTC:20231111T183000
DTEND;TZID=UTC:20231111T213000
DTSTAMP:20260425T033539
CREATED:20231020T152134Z
LAST-MODIFIED:20231020T152134Z
UID:4364-1699727400-1699738200@thesaintspub.com
SUMMARY:Solid Gold
DESCRIPTION:
URL:https://thesaintspub.com/event/solid-gold-41/
LOCATION:Pub\, Charlottesville\, VA 123456 United States\, Charlottesville\, United States
CATEGORIES:events
ORGANIZER;CN="Pub":MAILTO:pubzinne@example.com
END:VEVENT
BEGIN:VEVENT
DTSTART;TZID=UTC:20231110T183000
DTEND;TZID=UTC:20231110T213000
DTSTAMP:20260425T033539
CREATED:20231020T152105Z
LAST-MODIFIED:20231020T152105Z
UID:4362-1699641000-1699651800@thesaintspub.com
SUMMARY:Shepherd-N-Green
DESCRIPTION:
URL:https://thesaintspub.com/event/shepherd-n-green-24/
LOCATION:Pub\, Charlottesville\, VA 123456 United States\, Charlottesville\, United States
CATEGORIES:events
ORGANIZER;CN="Pub":MAILTO:pubzinne@example.com
END:VEVENT
BEGIN:VEVENT
DTSTART;TZID=UTC:20231108T190000
DTEND;TZID=UTC:20231108T203000
DTSTAMP:20260425T033539
CREATED:20231020T151937Z
LAST-MODIFIED:20231020T151937Z
UID:4358-1699470000-1699475400@thesaintspub.com
SUMMARY:Line Dancing in The Sandpiper Room
DESCRIPTION:
URL:https://thesaintspub.com/event/line-dancing-in-the-sandpiper-room-50/
LOCATION:Pub\, Charlottesville\, VA 123456 United States\, Charlottesville\, United States
CATEGORIES:events
ORGANIZER;CN="Pub":MAILTO:pubzinne@example.com
END:VEVENT
BEGIN:VEVENT
DTSTART;TZID=UTC:20231108T183000
DTEND;TZID=UTC:20231108T213000
DTSTAMP:20260425T033539
CREATED:20231020T152026Z
LAST-MODIFIED:20231020T152026Z
UID:4360-1699468200-1699479000@thesaintspub.com
SUMMARY:Top Clown Karaoke
DESCRIPTION:
URL:https://thesaintspub.com/event/top-clown-karaoke-105/
LOCATION:Pub\, Charlottesville\, VA 123456 United States\, Charlottesville\, United States
CATEGORIES:events
ORGANIZER;CN="Pub":MAILTO:pubzinne@example.com
END:VEVENT
BEGIN:VEVENT
DTSTART;TZID=UTC:20231104T183000
DTEND;TZID=UTC:20231104T213000
DTSTAMP:20260425T033539
CREATED:20231015T033401Z
LAST-MODIFIED:20231015T033401Z
UID:4356-1699122600-1699133400@thesaintspub.com
SUMMARY:The Terri Hines Band
DESCRIPTION:
URL:https://thesaintspub.com/event/the-terri-hines-band-33/
LOCATION:Pub\, Charlottesville\, VA 123456 United States\, Charlottesville\, United States
CATEGORIES:events
ORGANIZER;CN="Pub":MAILTO:pubzinne@example.com
END:VEVENT
BEGIN:VEVENT
DTSTART;TZID=UTC:20231103T183000
DTEND;TZID=UTC:20231103T213000
DTSTAMP:20260425T033539
CREATED:20230621T181416Z
LAST-MODIFIED:20230621T181416Z
UID:4204-1699036200-1699047000@thesaintspub.com
SUMMARY:Scott Barreto
DESCRIPTION:
URL:https://thesaintspub.com/event/scott-barreto-12/
LOCATION:Pub\, Charlottesville\, VA 123456 United States\, Charlottesville\, United States
CATEGORIES:events
ORGANIZER;CN="Pub":MAILTO:pubzinne@example.com
END:VEVENT
BEGIN:VEVENT
DTSTART;TZID=UTC:20231101T190000
DTEND;TZID=UTC:20231101T203000
DTSTAMP:20260425T033539
CREATED:20231015T033320Z
LAST-MODIFIED:20231015T033320Z
UID:4354-1698865200-1698870600@thesaintspub.com
SUMMARY:Line Dancing in The Sandpiper Room
DESCRIPTION:
URL:https://thesaintspub.com/event/line-dancing-in-the-sandpiper-room-49/
LOCATION:Pub\, Charlottesville\, VA 123456 United States\, Charlottesville\, United States
CATEGORIES:events
ORGANIZER;CN="Pub":MAILTO:pubzinne@example.com
END:VEVENT
BEGIN:VEVENT
DTSTART;TZID=UTC:20231101T183000
DTEND;TZID=UTC:20231101T213000
DTSTAMP:20260425T033539
CREATED:20231015T033258Z
LAST-MODIFIED:20231015T033258Z
UID:4352-1698863400-1698874200@thesaintspub.com
SUMMARY:Top Clown Karaoke
DESCRIPTION:
URL:https://thesaintspub.com/event/top-clown-karaoke-104/
LOCATION:Pub\, Charlottesville\, VA 123456 United States\, Charlottesville\, United States
CATEGORIES:events
ORGANIZER;CN="Pub":MAILTO:pubzinne@example.com
END:VEVENT
BEGIN:VEVENT
DTSTART;TZID=UTC:20231028T183000
DTEND;TZID=UTC:20231028T213000
DTSTAMP:20260425T033539
CREATED:20231015T033144Z
LAST-MODIFIED:20231015T033228Z
UID:4349-1698517800-1698528600@thesaintspub.com
SUMMARY:Solid Gold
DESCRIPTION:
URL:https://thesaintspub.com/event/solid-gold-40/
LOCATION:Pub\, Charlottesville\, VA 123456 United States\, Charlottesville\, United States
CATEGORIES:events
ORGANIZER;CN="Pub":MAILTO:pubzinne@example.com
END:VEVENT
BEGIN:VEVENT
DTSTART;TZID=UTC:20231025T190000
DTEND;TZID=UTC:20231025T203000
DTSTAMP:20260425T033539
CREATED:20231015T033056Z
LAST-MODIFIED:20231015T033056Z
UID:4345-1698260400-1698265800@thesaintspub.com
SUMMARY:Line Dancing in The Sandpiper Room
DESCRIPTION:
URL:https://thesaintspub.com/event/line-dancing-in-the-sandpiper-room-48/
LOCATION:Pub\, Charlottesville\, VA 123456 United States\, Charlottesville\, United States
CATEGORIES:events
ORGANIZER;CN="Pub":MAILTO:pubzinne@example.com
END:VEVENT
BEGIN:VEVENT
DTSTART;TZID=UTC:20231025T183000
DTEND;TZID=UTC:20231025T213000
DTSTAMP:20260425T033539
CREATED:20231015T033119Z
LAST-MODIFIED:20231015T033119Z
UID:4347-1698258600-1698269400@thesaintspub.com
SUMMARY:Top Clown Karaoke
DESCRIPTION:
URL:https://thesaintspub.com/event/top-clown-karaoke-103/
LOCATION:Pub\, Charlottesville\, VA 123456 United States\, Charlottesville\, United States
CATEGORIES:events
ORGANIZER;CN="Pub":MAILTO:pubzinne@example.com
END:VEVENT
BEGIN:VEVENT
DTSTART;TZID=UTC:20231021T183000
DTEND;TZID=UTC:20231021T213000
DTSTAMP:20260425T033539
CREATED:20231015T032907Z
LAST-MODIFIED:20231015T032936Z
UID:4343-1697913000-1697923800@thesaintspub.com
SUMMARY:Shaboom
DESCRIPTION:
URL:https://thesaintspub.com/event/shaboom-7/
LOCATION:Pub\, Charlottesville\, VA 123456 United States\, Charlottesville\, United States
CATEGORIES:events
ORGANIZER;CN="Pub":MAILTO:pubzinne@example.com
END:VEVENT
BEGIN:VEVENT
DTSTART;TZID=UTC:20231020T183000
DTEND;TZID=UTC:20231020T213000
DTSTAMP:20260425T033539
CREATED:20231015T032817Z
LAST-MODIFIED:20231015T032817Z
UID:4341-1697826600-1697837400@thesaintspub.com
SUMMARY:The Terri Hines Band
DESCRIPTION:
URL:https://thesaintspub.com/event/the-terri-hines-band-32/
LOCATION:Pub\, Charlottesville\, VA 123456 United States\, Charlottesville\, United States
CATEGORIES:events
ORGANIZER;CN="Pub":MAILTO:pubzinne@example.com
END:VEVENT
BEGIN:VEVENT
DTSTART;TZID=UTC:20231018T190000
DTEND;TZID=UTC:20231018T203000
DTSTAMP:20260425T033539
CREATED:20231015T032634Z
LAST-MODIFIED:20231015T032634Z
UID:4337-1697655600-1697661000@thesaintspub.com
SUMMARY:Line Dancing in The Sandpiper Room
DESCRIPTION:
URL:https://thesaintspub.com/event/line-dancing-in-the-sandpiper-room-47/
LOCATION:Pub\, Charlottesville\, VA 123456 United States\, Charlottesville\, United States
CATEGORIES:events
ORGANIZER;CN="Pub":MAILTO:pubzinne@example.com
END:VEVENT
BEGIN:VEVENT
DTSTART;TZID=UTC:20231018T183000
DTEND;TZID=UTC:20231018T213000
DTSTAMP:20260425T033539
CREATED:20231015T032713Z
LAST-MODIFIED:20231015T032713Z
UID:4339-1697653800-1697664600@thesaintspub.com
SUMMARY:Top Clown Karaoke
DESCRIPTION:
URL:https://thesaintspub.com/event/top-clown-karaoke-102/
LOCATION:Pub\, Charlottesville\, VA 123456 United States\, Charlottesville\, United States
CATEGORIES:events
ORGANIZER;CN="Pub":MAILTO:pubzinne@example.com
END:VEVENT
BEGIN:VEVENT
DTSTART;TZID=UTC:20231014T183000
DTEND;TZID=UTC:20231014T213000
DTSTAMP:20260425T033539
CREATED:20230922T001836Z
LAST-MODIFIED:20230922T001836Z
UID:4332-1697308200-1697319000@thesaintspub.com
SUMMARY:Shepherd-N-Green
DESCRIPTION:
URL:https://thesaintspub.com/event/shepherd-n-green-23/
LOCATION:Pub\, Charlottesville\, VA 123456 United States\, Charlottesville\, United States
CATEGORIES:events
ORGANIZER;CN="Pub":MAILTO:pubzinne@example.com
END:VEVENT
BEGIN:VEVENT
DTSTART;TZID=UTC:20231013T183000
DTEND;TZID=UTC:20231013T213000
DTSTAMP:20260425T033539
CREATED:20231015T032452Z
LAST-MODIFIED:20231015T032452Z
UID:4335-1697221800-1697232600@thesaintspub.com
SUMMARY:DECADES
DESCRIPTION:
URL:https://thesaintspub.com/event/decades-26/
LOCATION:Pub\, Charlottesville\, VA 123456 United States\, Charlottesville\, United States
CATEGORIES:events
ORGANIZER;CN="Pub":MAILTO:pubzinne@example.com
END:VEVENT
BEGIN:VEVENT
DTSTART;TZID=UTC:20231013T183000
DTEND;TZID=UTC:20231013T213000
DTSTAMP:20260425T033539
CREATED:20230922T001746Z
LAST-MODIFIED:20230922T001746Z
UID:4330-1697221800-1697232600@thesaintspub.com
SUMMARY:DECADES
DESCRIPTION:
URL:https://thesaintspub.com/event/decades-25/
LOCATION:Pub\, Charlottesville\, VA 123456 United States\, Charlottesville\, United States
CATEGORIES:events
ORGANIZER;CN="Pub":MAILTO:pubzinne@example.com
END:VEVENT
BEGIN:VEVENT
DTSTART;TZID=UTC:20231013T180000
DTEND;TZID=UTC:20231013T210000
DTSTAMP:20260425T033539
CREATED:20230728T132802Z
LAST-MODIFIED:20230728T132802Z
UID:4270-1697220000-1697230800@thesaintspub.com
SUMMARY:Halloween Musical Bingo
DESCRIPTION:
URL:https://thesaintspub.com/event/halloween-musical-bingo/
LOCATION:Pub\, Charlottesville\, VA 123456 United States\, Charlottesville\, United States
CATEGORIES:events
ORGANIZER;CN="Pub":MAILTO:pubzinne@example.com
END:VEVENT
BEGIN:VEVENT
DTSTART;TZID=UTC:20231011T190000
DTEND;TZID=UTC:20231011T203000
DTSTAMP:20260425T033539
CREATED:20230922T001613Z
LAST-MODIFIED:20230922T001712Z
UID:4328-1697050800-1697056200@thesaintspub.com
SUMMARY:Line Dancing in The Sandpiper Room
DESCRIPTION:
URL:https://thesaintspub.com/event/line-dancing-in-the-sandpiper-room-46/
LOCATION:Pub\, Charlottesville\, VA 123456 United States\, Charlottesville\, United States
CATEGORIES:events
ORGANIZER;CN="Pub":MAILTO:pubzinne@example.com
END:VEVENT
BEGIN:VEVENT
DTSTART;TZID=UTC:20231011T183000
DTEND;TZID=UTC:20231011T213000
DTSTAMP:20260425T033539
CREATED:20230922T001543Z
LAST-MODIFIED:20230922T001644Z
UID:4326-1697049000-1697059800@thesaintspub.com
SUMMARY:Top Clown Karaoke
DESCRIPTION:
URL:https://thesaintspub.com/event/top-clown-karaoke-101/
LOCATION:Pub\, Charlottesville\, VA 123456 United States\, Charlottesville\, United States
CATEGORIES:events
ORGANIZER;CN="Pub":MAILTO:pubzinne@example.com
END:VEVENT
BEGIN:VEVENT
DTSTART;TZID=UTC:20231007T183000
DTEND;TZID=UTC:20231007T213000
DTSTAMP:20260425T033539
CREATED:20230922T001501Z
LAST-MODIFIED:20230922T001501Z
UID:4324-1696703400-1696714200@thesaintspub.com
SUMMARY:The Terri Hines Band
DESCRIPTION:
URL:https://thesaintspub.com/event/the-terri-hines-band-31/
LOCATION:Pub\, Charlottesville\, VA 123456 United States\, Charlottesville\, United States
CATEGORIES:events
ORGANIZER;CN="Pub":MAILTO:pubzinne@example.com
END:VEVENT
BEGIN:VEVENT
DTSTART;TZID=UTC:20231006T183000
DTEND;TZID=UTC:20231006T213000
DTSTAMP:20260425T033539
CREATED:20230922T001351Z
LAST-MODIFIED:20230922T001416Z
UID:4322-1696617000-1696627800@thesaintspub.com
SUMMARY:Big T
DESCRIPTION:
URL:https://thesaintspub.com/event/big-t-2/
LOCATION:Pub\, Charlottesville\, VA 123456 United States\, Charlottesville\, United States
CATEGORIES:events
ORGANIZER;CN="Pub":MAILTO:pubzinne@example.com
END:VEVENT
BEGIN:VEVENT
DTSTART;TZID=UTC:20231004T190000
DTEND;TZID=UTC:20231004T203000
DTSTAMP:20260425T033539
CREATED:20230906T152304Z
LAST-MODIFIED:20230906T152304Z
UID:4318-1696446000-1696451400@thesaintspub.com
SUMMARY:Line Dancing in The Sandpiper Room
DESCRIPTION:
URL:https://thesaintspub.com/event/line-dancing-in-the-sandpiper-room-45/
LOCATION:Pub\, Charlottesville\, VA 123456 United States\, Charlottesville\, United States
CATEGORIES:events
ORGANIZER;CN="Pub":MAILTO:pubzinne@example.com
END:VEVENT
BEGIN:VEVENT
DTSTART;TZID=UTC:20231004T183000
DTEND;TZID=UTC:20231004T213000
DTSTAMP:20260425T033539
CREATED:20230906T152239Z
LAST-MODIFIED:20230906T152239Z
UID:4316-1696444200-1696455000@thesaintspub.com
SUMMARY:Top Clown Karaoke
DESCRIPTION:
URL:https://thesaintspub.com/event/top-clown-karaoke-100/
LOCATION:Pub\, Charlottesville\, VA 123456 United States\, Charlottesville\, United States
CATEGORIES:events
ORGANIZER;CN="Pub":MAILTO:pubzinne@example.com
END:VEVENT
BEGIN:VEVENT
DTSTART;TZID=UTC:20230930T183000
DTEND;TZID=UTC:20230930T213000
DTSTAMP:20260425T033539
CREATED:20230906T152210Z
LAST-MODIFIED:20230906T152210Z
UID:4314-1696098600-1696109400@thesaintspub.com
SUMMARY:Solid Gold
DESCRIPTION:
URL:https://thesaintspub.com/event/solid-gold-39/
LOCATION:Pub\, Charlottesville\, VA 123456 United States\, Charlottesville\, United States
CATEGORIES:events
ORGANIZER;CN="Pub":MAILTO:pubzinne@example.com
END:VEVENT
BEGIN:VEVENT
DTSTART;TZID=UTC:20230929T183000
DTEND;TZID=UTC:20230929T213000
DTSTAMP:20260425T033539
CREATED:20230906T152748Z
LAST-MODIFIED:20230906T152748Z
UID:4320-1696012200-1696023000@thesaintspub.com
SUMMARY:Big T
DESCRIPTION:
URL:https://thesaintspub.com/event/big-t/
LOCATION:Pub\, Charlottesville\, VA 123456 United States\, Charlottesville\, United States
CATEGORIES:events
ORGANIZER;CN="Pub":MAILTO:pubzinne@example.com
END:VEVENT
BEGIN:VEVENT
DTSTART;TZID=UTC:20230927T190000
DTEND;TZID=UTC:20230927T203000
DTSTAMP:20260425T033539
CREATED:20230906T152139Z
LAST-MODIFIED:20230906T152139Z
UID:4312-1695841200-1695846600@thesaintspub.com
SUMMARY:Line Dancing in The Sandpiper Room
DESCRIPTION:
URL:https://thesaintspub.com/event/line-dancing-in-the-sandpiper-room-44/
LOCATION:Pub\, Charlottesville\, VA 123456 United States\, Charlottesville\, United States
CATEGORIES:events
ORGANIZER;CN="Pub":MAILTO:pubzinne@example.com
END:VEVENT
BEGIN:VEVENT
DTSTART;TZID=UTC:20230927T183000
DTEND;TZID=UTC:20230927T213000
DTSTAMP:20260425T033539
CREATED:20230906T152117Z
LAST-MODIFIED:20230906T152117Z
UID:4310-1695839400-1695850200@thesaintspub.com
SUMMARY:Top Clown Karaoke
DESCRIPTION:
URL:https://thesaintspub.com/event/top-clown-karaoke-99/
LOCATION:Pub\, Charlottesville\, VA 123456 United States\, Charlottesville\, United States
CATEGORIES:events
ORGANIZER;CN="Pub":MAILTO:pubzinne@example.com
END:VEVENT
END:VCALENDAR