BEGIN:VCALENDAR
VERSION:2.0
PRODID:-//thesaintspub.com - ECPv6.15.20//NONSGML v1.0//EN
CALSCALE:GREGORIAN
METHOD:PUBLISH
X-WR-CALNAME:thesaintspub.com
X-ORIGINAL-URL:https://thesaintspub.com
X-WR-CALDESC:Events for thesaintspub.com
REFRESH-INTERVAL;VALUE=DURATION:PT1H
X-Robots-Tag:noindex
X-PUBLISHED-TTL:PT1H
BEGIN:VTIMEZONE
TZID:UTC
BEGIN:STANDARD
TZOFFSETFROM:+0000
TZOFFSETTO:+0000
TZNAME:UTC
DTSTART:20250101T000000
END:STANDARD
END:VTIMEZONE
BEGIN:VEVENT
DTSTART;TZID=UTC:20260513T190000
DTEND;TZID=UTC:20260513T203000
DTSTAMP:20260422T222542
CREATED:20260417T151851Z
LAST-MODIFIED:20260417T151851Z
UID:6798-1778698800-1778704200@thesaintspub.com
SUMMARY:Country Line Dancing
DESCRIPTION:
URL:https://thesaintspub.com/event/country-line-dancing-19/
LOCATION:Pub\, Charlottesville\, VA 123456 United States\, Charlottesville\, United States
CATEGORIES:events
ORGANIZER;CN="Pub":MAILTO:pubzinne@example.com
END:VEVENT
BEGIN:VEVENT
DTSTART;TZID=UTC:20260513T183000
DTEND;TZID=UTC:20260513T190000
DTSTAMP:20260422T222542
CREATED:20260417T145743Z
LAST-MODIFIED:20260417T145743Z
UID:6796-1778697000-1778698800@thesaintspub.com
SUMMARY:Top Clown Karaoke
DESCRIPTION:
URL:https://thesaintspub.com/event/top-clown-karaoke-230/
LOCATION:Pub\, Charlottesville\, VA 123456 United States\, Charlottesville\, United States
CATEGORIES:events
ORGANIZER;CN="Pub":MAILTO:pubzinne@example.com
END:VEVENT
BEGIN:VEVENT
DTSTART;TZID=UTC:20260509T183000
DTEND;TZID=UTC:20260509T203000
DTSTAMP:20260422T222542
CREATED:20260417T145406Z
LAST-MODIFIED:20260417T145406Z
UID:6794-1778351400-1778358600@thesaintspub.com
SUMMARY:Albert & Juan
DESCRIPTION:
URL:https://thesaintspub.com/event/albert-juan-18/
CATEGORIES:events
END:VEVENT
BEGIN:VEVENT
DTSTART;TZID=UTC:20260508T183000
DTEND;TZID=UTC:20260508T190000
DTSTAMP:20260422T222542
CREATED:20260417T145111Z
LAST-MODIFIED:20260417T145111Z
UID:6792-1778265000-1778266800@thesaintspub.com
SUMMARY:Alita & The Boyz
DESCRIPTION:
URL:https://thesaintspub.com/event/alita-the-boyz-24/
LOCATION:Pub\, Charlottesville\, VA 123456 United States\, Charlottesville\, United States
CATEGORIES:events
ORGANIZER;CN="Pub":MAILTO:pubzinne@example.com
END:VEVENT
BEGIN:VEVENT
DTSTART;TZID=UTC:20260507T183000
DTEND;TZID=UTC:20260507T213000
DTSTAMP:20260422T222542
CREATED:20260417T145006Z
LAST-MODIFIED:20260417T145014Z
UID:6789-1778178600-1778189400@thesaintspub.com
SUMMARY:Cup of Joes
DESCRIPTION:
URL:https://thesaintspub.com/event/cup-of-joes-band-2/
LOCATION:The Saints Pub\, 2601 SE Morningside Blvd\, Port St. Lucie\, FL\, 34952\, United States
CATEGORIES:events
ORGANIZER;CN="The Saints Pub":MAILTO:info@thesaintspub.com
END:VEVENT
BEGIN:VEVENT
DTSTART;TZID=UTC:20260506T190000
DTEND;TZID=UTC:20260506T203000
DTSTAMP:20260422T222542
CREATED:20260417T144853Z
LAST-MODIFIED:20260417T144853Z
UID:6787-1778094000-1778099400@thesaintspub.com
SUMMARY:Country Line Dancing
DESCRIPTION:
URL:https://thesaintspub.com/event/country-line-dancing-18/
LOCATION:Pub\, Charlottesville\, VA 123456 United States\, Charlottesville\, United States
CATEGORIES:events
ORGANIZER;CN="Pub":MAILTO:pubzinne@example.com
END:VEVENT
BEGIN:VEVENT
DTSTART;TZID=UTC:20260506T183000
DTEND;TZID=UTC:20260506T190000
DTSTAMP:20260422T222542
CREATED:20260417T144709Z
LAST-MODIFIED:20260417T144709Z
UID:6785-1778092200-1778094000@thesaintspub.com
SUMMARY:Top Clown Karaoke
DESCRIPTION:
URL:https://thesaintspub.com/event/top-clown-karaoke-229/
LOCATION:Pub\, Charlottesville\, VA 123456 United States\, Charlottesville\, United States
CATEGORIES:events
ORGANIZER;CN="Pub":MAILTO:pubzinne@example.com
END:VEVENT
BEGIN:VEVENT
DTSTART;TZID=UTC:20260504T183000
DTEND;TZID=UTC:20260504T193000
DTSTAMP:20260422T222542
CREATED:20260417T144551Z
LAST-MODIFIED:20260417T155908Z
UID:6782-1777919400-1777923000@thesaintspub.com
SUMMARY:Sierra Band
DESCRIPTION:
URL:https://thesaintspub.com/event/the-sierra-band-2/
LOCATION:Pub\, Charlottesville\, VA 123456 United States\, Charlottesville\, United States
CATEGORIES:events
ORGANIZER;CN="Pub":MAILTO:pubzinne@example.com
END:VEVENT
BEGIN:VEVENT
DTSTART;TZID=UTC:20260503T183000
DTEND;TZID=UTC:20260503T190000
DTSTAMP:20260422T222542
CREATED:20260417T144238Z
LAST-MODIFIED:20260417T144253Z
UID:6780-1777833000-1777834800@thesaintspub.com
SUMMARY:Terri Hines Band
DESCRIPTION:
URL:https://thesaintspub.com/event/terri-hines-band-7/
LOCATION:Pub\, Charlottesville\, VA 123456 United States\, Charlottesville\, United States
CATEGORIES:events
ORGANIZER;CN="Pub":MAILTO:pubzinne@example.com
END:VEVENT
BEGIN:VEVENT
DTSTART;TZID=UTC:20260429T190000
DTEND;TZID=UTC:20260429T203000
DTSTAMP:20260422T222542
CREATED:20260417T144003Z
LAST-MODIFIED:20260417T144003Z
UID:6778-1777489200-1777494600@thesaintspub.com
SUMMARY:Country Line Dancing
DESCRIPTION:
URL:https://thesaintspub.com/event/country-line-dancing-17/
LOCATION:Pub\, Charlottesville\, VA 123456 United States\, Charlottesville\, United States
CATEGORIES:events
ORGANIZER;CN="Pub":MAILTO:pubzinne@example.com
END:VEVENT
BEGIN:VEVENT
DTSTART;TZID=UTC:20260429T183000
DTEND;TZID=UTC:20260429T190000
DTSTAMP:20260422T222542
CREATED:20260417T143921Z
LAST-MODIFIED:20260417T143921Z
UID:6776-1777487400-1777489200@thesaintspub.com
SUMMARY:Top Clown Karaoke
DESCRIPTION:
URL:https://thesaintspub.com/event/top-clown-karaoke-228/
LOCATION:Pub\, Charlottesville\, VA 123456 United States\, Charlottesville\, United States
CATEGORIES:events
ORGANIZER;CN="Pub":MAILTO:pubzinne@example.com
END:VEVENT
BEGIN:VEVENT
DTSTART;TZID=UTC:20260425T183000
DTEND;TZID=UTC:20260425T190000
DTSTAMP:20260422T222542
CREATED:20260309T191208Z
LAST-MODIFIED:20260309T191208Z
UID:6668-1777141800-1777143600@thesaintspub.com
SUMMARY:Joey & The Paradons
DESCRIPTION:
URL:https://thesaintspub.com/event/joey-the-paradons-9/
LOCATION:Pub\, Charlottesville\, VA 123456 United States\, Charlottesville\, United States
CATEGORIES:events
ORGANIZER;CN="Pub":MAILTO:pubzinne@example.com
END:VEVENT
BEGIN:VEVENT
DTSTART;TZID=UTC:20260424T183000
DTEND;TZID=UTC:20260424T190000
DTSTAMP:20260422T222542
CREATED:20260309T190856Z
LAST-MODIFIED:20260309T190856Z
UID:6666-1777055400-1777057200@thesaintspub.com
SUMMARY:Big T
DESCRIPTION:
URL:https://thesaintspub.com/event/big-t-27/
LOCATION:Pub\, Charlottesville\, VA 123456 United States\, Charlottesville\, United States
CATEGORIES:events
ORGANIZER;CN="Pub":MAILTO:pubzinne@example.com
END:VEVENT
BEGIN:VEVENT
DTSTART;TZID=UTC:20260422T190000
DTEND;TZID=UTC:20260422T203000
DTSTAMP:20260422T222542
CREATED:20260309T190800Z
LAST-MODIFIED:20260309T190800Z
UID:6664-1776884400-1776889800@thesaintspub.com
SUMMARY:Country Line Dancing
DESCRIPTION:
URL:https://thesaintspub.com/event/country-line-dancing-16/
LOCATION:Pub\, Charlottesville\, VA 123456 United States\, Charlottesville\, United States
CATEGORIES:events
ORGANIZER;CN="Pub":MAILTO:pubzinne@example.com
END:VEVENT
BEGIN:VEVENT
DTSTART;TZID=UTC:20260422T183000
DTEND;TZID=UTC:20260422T190000
DTSTAMP:20260422T222542
CREATED:20260309T190719Z
LAST-MODIFIED:20260309T190719Z
UID:6662-1776882600-1776884400@thesaintspub.com
SUMMARY:Top Clown Karaoke
DESCRIPTION:
URL:https://thesaintspub.com/event/top-clown-karaoke-227/
LOCATION:Pub\, Charlottesville\, VA 123456 United States\, Charlottesville\, United States
CATEGORIES:events
ORGANIZER;CN="Pub":MAILTO:pubzinne@example.com
END:VEVENT
BEGIN:VEVENT
DTSTART;TZID=UTC:20260418T183000
DTEND;TZID=UTC:20260418T190000
DTSTAMP:20260422T222542
CREATED:20260309T190627Z
LAST-MODIFIED:20260309T190627Z
UID:6660-1776537000-1776538800@thesaintspub.com
SUMMARY:Shaboom
DESCRIPTION:
URL:https://thesaintspub.com/event/shaboom-35/
LOCATION:Pub\, Charlottesville\, VA 123456 United States\, Charlottesville\, United States
CATEGORIES:events
ORGANIZER;CN="Pub":MAILTO:pubzinne@example.com
END:VEVENT
BEGIN:VEVENT
DTSTART;TZID=UTC:20260417T183000
DTEND;TZID=UTC:20260417T190000
DTSTAMP:20260422T222542
CREATED:20260309T190538Z
LAST-MODIFIED:20260309T190538Z
UID:6658-1776450600-1776452400@thesaintspub.com
SUMMARY:Radio Dayz
DESCRIPTION:
URL:https://thesaintspub.com/event/radio-dayz-2/
LOCATION:Pub\, Charlottesville\, VA 123456 United States\, Charlottesville\, United States
CATEGORIES:events
ORGANIZER;CN="Pub":MAILTO:pubzinne@example.com
END:VEVENT
BEGIN:VEVENT
DTSTART;TZID=UTC:20260415T190000
DTEND;TZID=UTC:20260415T203000
DTSTAMP:20260422T222542
CREATED:20260309T190450Z
LAST-MODIFIED:20260309T190450Z
UID:6656-1776279600-1776285000@thesaintspub.com
SUMMARY:Country Line Dancing
DESCRIPTION:
URL:https://thesaintspub.com/event/country-line-dancing-15/
LOCATION:Pub\, Charlottesville\, VA 123456 United States\, Charlottesville\, United States
CATEGORIES:events
ORGANIZER;CN="Pub":MAILTO:pubzinne@example.com
END:VEVENT
BEGIN:VEVENT
DTSTART;TZID=UTC:20260415T183000
DTEND;TZID=UTC:20260415T190000
DTSTAMP:20260422T222542
CREATED:20260309T190336Z
LAST-MODIFIED:20260309T190336Z
UID:6654-1776277800-1776279600@thesaintspub.com
SUMMARY:Top Clown Karaoke
DESCRIPTION:
URL:https://thesaintspub.com/event/top-clown-karaoke-226/
LOCATION:Pub\, Charlottesville\, VA 123456 United States\, Charlottesville\, United States
CATEGORIES:events
ORGANIZER;CN="Pub":MAILTO:pubzinne@example.com
END:VEVENT
BEGIN:VEVENT
DTSTART;TZID=UTC:20260411T183000
DTEND;TZID=UTC:20260411T190000
DTSTAMP:20260422T222542
CREATED:20260309T190302Z
LAST-MODIFIED:20260309T190302Z
UID:6652-1775932200-1775934000@thesaintspub.com
SUMMARY:Joey & The Paradons
DESCRIPTION:
URL:https://thesaintspub.com/event/joey-the-paradons-8/
LOCATION:Pub\, Charlottesville\, VA 123456 United States\, Charlottesville\, United States
CATEGORIES:events
ORGANIZER;CN="Pub":MAILTO:pubzinne@example.com
END:VEVENT
BEGIN:VEVENT
DTSTART;TZID=UTC:20260410T183000
DTEND;TZID=UTC:20260410T190000
DTSTAMP:20260422T222542
CREATED:20260309T190210Z
LAST-MODIFIED:20260309T190210Z
UID:6650-1775845800-1775847600@thesaintspub.com
SUMMARY:Alita & The Boyz
DESCRIPTION:
URL:https://thesaintspub.com/event/alita-the-boyz-23/
LOCATION:Pub\, Charlottesville\, VA 123456 United States\, Charlottesville\, United States
CATEGORIES:events
ORGANIZER;CN="Pub":MAILTO:pubzinne@example.com
END:VEVENT
BEGIN:VEVENT
DTSTART;TZID=UTC:20260408T190000
DTEND;TZID=UTC:20260408T203000
DTSTAMP:20260422T222542
CREATED:20260309T190044Z
LAST-MODIFIED:20260309T190044Z
UID:6648-1775674800-1775680200@thesaintspub.com
SUMMARY:Country Line Dancing
DESCRIPTION:
URL:https://thesaintspub.com/event/country-line-dancing-14/
LOCATION:Pub\, Charlottesville\, VA 123456 United States\, Charlottesville\, United States
CATEGORIES:events
ORGANIZER;CN="Pub":MAILTO:pubzinne@example.com
END:VEVENT
BEGIN:VEVENT
DTSTART;TZID=UTC:20260408T183000
DTEND;TZID=UTC:20260408T190000
DTSTAMP:20260422T222542
CREATED:20260309T190005Z
LAST-MODIFIED:20260309T190005Z
UID:6645-1775673000-1775674800@thesaintspub.com
SUMMARY:Top Clown Karaoke
DESCRIPTION:
URL:https://thesaintspub.com/event/top-clown-karaoke-225/
LOCATION:Pub\, Charlottesville\, VA 123456 United States\, Charlottesville\, United States
CATEGORIES:events
ORGANIZER;CN="Pub":MAILTO:pubzinne@example.com
END:VEVENT
BEGIN:VEVENT
DTSTART;TZID=UTC:20260404T183000
DTEND;TZID=UTC:20260404T190000
DTSTAMP:20260422T222542
CREATED:20260224T173102Z
LAST-MODIFIED:20260224T173102Z
UID:6640-1775327400-1775329200@thesaintspub.com
SUMMARY:Terri Hines Band
DESCRIPTION:
URL:https://thesaintspub.com/event/terri-hines-band-6/
LOCATION:Pub\, Charlottesville\, VA 123456 United States\, Charlottesville\, United States
CATEGORIES:events
ORGANIZER;CN="Pub":MAILTO:pubzinne@example.com
END:VEVENT
BEGIN:VEVENT
DTSTART;TZID=UTC:20260403T183000
DTEND;TZID=UTC:20260403T190000
DTSTAMP:20260422T222542
CREATED:20260224T173008Z
LAST-MODIFIED:20260309T193010Z
UID:6638-1775241000-1775242800@thesaintspub.com
SUMMARY:The Hi-Liters
DESCRIPTION:
URL:https://thesaintspub.com/event/the-hi-liters/
LOCATION:Pub\, Charlottesville\, VA 123456 United States\, Charlottesville\, United States
CATEGORIES:events
ORGANIZER;CN="Pub":MAILTO:pubzinne@example.com
END:VEVENT
BEGIN:VEVENT
DTSTART;TZID=UTC:20260401T190000
DTEND;TZID=UTC:20260401T203000
DTSTAMP:20260422T222542
CREATED:20260224T172839Z
LAST-MODIFIED:20260224T172839Z
UID:6636-1775070000-1775075400@thesaintspub.com
SUMMARY:Country Line Dancing
DESCRIPTION:
URL:https://thesaintspub.com/event/country-line-dancing-13/
LOCATION:Pub\, Charlottesville\, VA 123456 United States\, Charlottesville\, United States
CATEGORIES:events
ORGANIZER;CN="Pub":MAILTO:pubzinne@example.com
END:VEVENT
BEGIN:VEVENT
DTSTART;TZID=UTC:20260401T183000
DTEND;TZID=UTC:20260401T190000
DTSTAMP:20260422T222542
CREATED:20260224T172758Z
LAST-MODIFIED:20260224T172758Z
UID:6634-1775068200-1775070000@thesaintspub.com
SUMMARY:Top Clown Karaoke
DESCRIPTION:
URL:https://thesaintspub.com/event/top-clown-karaoke-224/
LOCATION:Pub\, Charlottesville\, VA 123456 United States\, Charlottesville\, United States
CATEGORIES:events
ORGANIZER;CN="Pub":MAILTO:pubzinne@example.com
END:VEVENT
BEGIN:VEVENT
DTSTART;TZID=UTC:20260328T183000
DTEND;TZID=UTC:20260328T190000
DTSTAMP:20260422T222542
CREATED:20260224T172547Z
LAST-MODIFIED:20260224T172547Z
UID:6632-1774722600-1774724400@thesaintspub.com
SUMMARY:Shaboom
DESCRIPTION:
URL:https://thesaintspub.com/event/shaboom-34/
LOCATION:Pub\, Charlottesville\, VA 123456 United States\, Charlottesville\, United States
CATEGORIES:events
ORGANIZER;CN="Pub":MAILTO:pubzinne@example.com
END:VEVENT
BEGIN:VEVENT
DTSTART;TZID=UTC:20260327T183000
DTEND;TZID=UTC:20260327T190000
DTSTAMP:20260422T222542
CREATED:20260224T172430Z
LAST-MODIFIED:20260224T172430Z
UID:6629-1774636200-1774638000@thesaintspub.com
SUMMARY:Big T
DESCRIPTION:
URL:https://thesaintspub.com/event/big-t-26/
LOCATION:Pub\, Charlottesville\, VA 123456 United States\, Charlottesville\, United States
CATEGORIES:events
ORGANIZER;CN="Pub":MAILTO:pubzinne@example.com
END:VEVENT
BEGIN:VEVENT
DTSTART;TZID=UTC:20260325T190000
DTEND;TZID=UTC:20260325T203000
DTSTAMP:20260422T222542
CREATED:20260224T171625Z
LAST-MODIFIED:20260224T171659Z
UID:6619-1774465200-1774470600@thesaintspub.com
SUMMARY:Country Line Dancing
DESCRIPTION:
URL:https://thesaintspub.com/event/country-line-dancing-12/
LOCATION:Pub\, Charlottesville\, VA 123456 United States\, Charlottesville\, United States
CATEGORIES:events
ORGANIZER;CN="Pub":MAILTO:pubzinne@example.com
END:VEVENT
END:VCALENDAR