BEGIN:VCALENDAR
VERSION:2.0
PRODID:-//thesaintspub.com - ECPv6.15.20//NONSGML v1.0//EN
CALSCALE:GREGORIAN
METHOD:PUBLISH
X-WR-CALNAME:thesaintspub.com
X-ORIGINAL-URL:https://thesaintspub.com
X-WR-CALDESC:Events for thesaintspub.com
REFRESH-INTERVAL;VALUE=DURATION:PT1H
X-Robots-Tag:noindex
X-PUBLISHED-TTL:PT1H
BEGIN:VTIMEZONE
TZID:UTC
BEGIN:STANDARD
TZOFFSETFROM:+0000
TZOFFSETTO:+0000
TZNAME:UTC
DTSTART:20230101T000000
END:STANDARD
END:VTIMEZONE
BEGIN:VEVENT
DTSTART;TZID=UTC:20240502T183000
DTEND;TZID=UTC:20240502T213000
DTSTAMP:20260424T140205
CREATED:20240430T151657Z
LAST-MODIFIED:20240430T151657Z
UID:4659-1714674600-1714685400@thesaintspub.com
SUMMARY:Joe Cavallaro
DESCRIPTION:
URL:https://thesaintspub.com/event/joe-cavallaro/
LOCATION:The Saints Pub\, 2601 SE Morningside Blvd\, Port St. Lucie\, FL\, 34952\, United States
CATEGORIES:events
ORGANIZER;CN="The Saints Pub":MAILTO:info@thesaintspub.com
END:VEVENT
BEGIN:VEVENT
DTSTART;TZID=UTC:20240503T183000
DTEND;TZID=UTC:20240503T213000
DTSTAMP:20260424T140205
CREATED:20240430T151518Z
LAST-MODIFIED:20240430T192934Z
UID:4657-1714761000-1714771800@thesaintspub.com
SUMMARY:Scott Barreto
DESCRIPTION:
URL:https://thesaintspub.com/event/scott-barreto-15/
LOCATION:The Saints Pub\, 2601 SE Morningside Blvd\, Port St. Lucie\, FL\, 34952\, United States
CATEGORIES:events
ORGANIZER;CN="The Saints Pub":MAILTO:info@thesaintspub.com
END:VEVENT
BEGIN:VEVENT
DTSTART;TZID=UTC:20240504T183000
DTEND;TZID=UTC:20240504T213000
DTSTAMP:20260424T140205
CREATED:20240326T160230Z
LAST-MODIFIED:20240430T192138Z
UID:4606-1714847400-1714858200@thesaintspub.com
SUMMARY:The Terri Hines Band
DESCRIPTION:
URL:https://thesaintspub.com/event/the-terri-hines-band-44/
LOCATION:The Saints Pub\, 2601 SE Morningside Blvd\, Port St. Lucie\, FL\, 34952\, United States
CATEGORIES:events
ORGANIZER;CN="The Saints Pub":MAILTO:info@thesaintspub.com
END:VEVENT
BEGIN:VEVENT
DTSTART;TZID=UTC:20240508T183000
DTEND;TZID=UTC:20240508T213000
DTSTAMP:20260424T140205
CREATED:20240326T160021Z
LAST-MODIFIED:20240430T191534Z
UID:4602-1715193000-1715203800@thesaintspub.com
SUMMARY:Top Clown Karaoke
DESCRIPTION:
URL:https://thesaintspub.com/event/top-clown-karaoke-131/
LOCATION:The Saints Pub\, 2601 SE Morningside Blvd\, Port St. Lucie\, FL\, 34952\, United States
CATEGORIES:events
ORGANIZER;CN="The Saints Pub":MAILTO:info@thesaintspub.com
END:VEVENT
BEGIN:VEVENT
DTSTART;TZID=UTC:20240508T190000
DTEND;TZID=UTC:20240508T203000
DTSTAMP:20260424T140205
CREATED:20240326T160052Z
LAST-MODIFIED:20240411T160928Z
UID:4604-1715194800-1715200200@thesaintspub.com
SUMMARY:Line Dancing in The Sandpiper Room
DESCRIPTION:
URL:https://thesaintspub.com/event/line-dancing-in-the-sandpiper-room-76/
LOCATION:The Saints Pub\, 2601 SE Morningside Blvd\, Port St. Lucie\, FL\, 34952\, United States
CATEGORIES:events
ORGANIZER;CN="The Saints Pub":MAILTO:info@thesaintspub.com
END:VEVENT
BEGIN:VEVENT
DTSTART;TZID=UTC:20240509T183000
DTEND;TZID=UTC:20240509T203000
DTSTAMP:20260424T140205
CREATED:20240507T190612Z
LAST-MODIFIED:20240507T190612Z
UID:4677-1715279400-1715286600@thesaintspub.com
SUMMARY:Trivia Night
DESCRIPTION:
URL:https://thesaintspub.com/event/trivia-night/
LOCATION:The Saints Pub\, 2601 SE Morningside Blvd\, Port St. Lucie\, FL\, 34952\, United States
CATEGORIES:events
ORGANIZER;CN="The Saints Pub":MAILTO:info@thesaintspub.com
END:VEVENT
BEGIN:VEVENT
DTSTART;TZID=UTC:20240510T183000
DTEND;TZID=UTC:20240510T213000
DTSTAMP:20260424T140205
CREATED:20240430T150546Z
LAST-MODIFIED:20240430T150546Z
UID:4637-1715365800-1715376600@thesaintspub.com
SUMMARY:Big T
DESCRIPTION:
URL:https://thesaintspub.com/event/big-t-11/
LOCATION:The Saints Pub\, 2601 SE Morningside Blvd\, Port St. Lucie\, FL\, 34952\, United States
CATEGORIES:events
ORGANIZER;CN="The Saints Pub":MAILTO:info@thesaintspub.com
END:VEVENT
BEGIN:VEVENT
DTSTART;TZID=UTC:20240511T183000
DTEND;TZID=UTC:20240511T213000
DTSTAMP:20260424T140205
CREATED:20240430T150640Z
LAST-MODIFIED:20240430T192527Z
UID:4639-1715452200-1715463000@thesaintspub.com
SUMMARY:Shepherd-N-Green
DESCRIPTION:
URL:https://thesaintspub.com/event/shepherd-n-green-33/
LOCATION:The Saints Pub\, 2601 SE Morningside Blvd\, Port St. Lucie\, FL\, 34952\, United States
CATEGORIES:events
ORGANIZER;CN="The Saints Pub":MAILTO:info@thesaintspub.com
END:VEVENT
BEGIN:VEVENT
DTSTART;TZID=UTC:20240515T183000
DTEND;TZID=UTC:20240515T213000
DTSTAMP:20260424T140205
CREATED:20240430T150715Z
LAST-MODIFIED:20240430T192552Z
UID:4641-1715797800-1715808600@thesaintspub.com
SUMMARY:Top Clown Karaoke
DESCRIPTION:
URL:https://thesaintspub.com/event/top-clown-karaoke-132/
LOCATION:The Saints Pub\, 2601 SE Morningside Blvd\, Port St. Lucie\, FL\, 34952\, United States
CATEGORIES:events
ORGANIZER;CN="The Saints Pub":MAILTO:info@thesaintspub.com
END:VEVENT
BEGIN:VEVENT
DTSTART;TZID=UTC:20240515T190000
DTEND;TZID=UTC:20240515T203000
DTSTAMP:20260424T140205
CREATED:20240430T150754Z
LAST-MODIFIED:20240430T150754Z
UID:4643-1715799600-1715805000@thesaintspub.com
SUMMARY:Line Dancing in The Sandpiper Room
DESCRIPTION:
URL:https://thesaintspub.com/event/line-dancing-in-the-sandpiper-room-77/
LOCATION:The Saints Pub\, 2601 SE Morningside Blvd\, Port St. Lucie\, FL\, 34952\, United States
CATEGORIES:events
ORGANIZER;CN="The Saints Pub":MAILTO:info@thesaintspub.com
END:VEVENT
BEGIN:VEVENT
DTSTART;TZID=UTC:20240517T183000
DTEND;TZID=UTC:20240517T213000
DTSTAMP:20260424T140205
CREATED:20240430T150836Z
LAST-MODIFIED:20240430T192614Z
UID:4645-1715970600-1715981400@thesaintspub.com
SUMMARY:The Terri Hines Band
DESCRIPTION:
URL:https://thesaintspub.com/event/the-terri-hines-band-45/
LOCATION:The Saints Pub\, 2601 SE Morningside Blvd\, Port St. Lucie\, FL\, 34952\, United States
CATEGORIES:events
ORGANIZER;CN="The Saints Pub":MAILTO:info@thesaintspub.com
END:VEVENT
BEGIN:VEVENT
DTSTART;TZID=UTC:20240518T183000
DTEND;TZID=UTC:20240518T213000
DTSTAMP:20260424T140205
CREATED:20240430T150950Z
LAST-MODIFIED:20240430T192624Z
UID:4647-1716057000-1716067800@thesaintspub.com
SUMMARY:Albert & Juan
DESCRIPTION:
URL:https://thesaintspub.com/event/albert-juan-3/
LOCATION:The Saints Pub\, 2601 SE Morningside Blvd\, Port St. Lucie\, FL\, 34952\, United States
CATEGORIES:events
ORGANIZER;CN="The Saints Pub":MAILTO:info@thesaintspub.com
END:VEVENT
BEGIN:VEVENT
DTSTART;TZID=UTC:20240522T183000
DTEND;TZID=UTC:20240522T213000
DTSTAMP:20260424T140205
CREATED:20240430T151021Z
LAST-MODIFIED:20240430T192736Z
UID:4649-1716402600-1716413400@thesaintspub.com
SUMMARY:Top Clown Karaoke
DESCRIPTION:
URL:https://thesaintspub.com/event/top-clown-karaoke-133/
LOCATION:The Saints Pub\, 2601 SE Morningside Blvd\, Port St. Lucie\, FL\, 34952\, United States
CATEGORIES:events
ORGANIZER;CN="The Saints Pub":MAILTO:info@thesaintspub.com
END:VEVENT
BEGIN:VEVENT
DTSTART;TZID=UTC:20240522T190000
DTEND;TZID=UTC:20240522T203000
DTSTAMP:20260424T140205
CREATED:20240430T151045Z
LAST-MODIFIED:20240430T151045Z
UID:4651-1716404400-1716409800@thesaintspub.com
SUMMARY:Line Dancing in The Sandpiper Room
DESCRIPTION:
URL:https://thesaintspub.com/event/line-dancing-in-the-sandpiper-room-78/
LOCATION:The Saints Pub\, 2601 SE Morningside Blvd\, Port St. Lucie\, FL\, 34952\, United States
CATEGORIES:events
ORGANIZER;CN="The Saints Pub":MAILTO:info@thesaintspub.com
END:VEVENT
BEGIN:VEVENT
DTSTART;TZID=UTC:20240523T183000
DTEND;TZID=UTC:20240523T203000
DTSTAMP:20260424T140205
CREATED:20240507T190718Z
LAST-MODIFIED:20240512T133630Z
UID:4679-1716489000-1716496200@thesaintspub.com
SUMMARY:Trivia Night with Prizes
DESCRIPTION:
URL:https://thesaintspub.com/event/trivia-night-2/
LOCATION:The Saints Pub\, 2601 SE Morningside Blvd\, Port St. Lucie\, FL\, 34952\, United States
CATEGORIES:events
ORGANIZER;CN="The Saints Pub":MAILTO:info@thesaintspub.com
END:VEVENT
BEGIN:VEVENT
DTSTART;TZID=UTC:20240524T183000
DTEND;TZID=UTC:20240524T213000
DTSTAMP:20260424T140205
CREATED:20240430T151159Z
LAST-MODIFIED:20240430T192701Z
UID:4653-1716575400-1716586200@thesaintspub.com
SUMMARY:The Terri Hines Band
DESCRIPTION:
URL:https://thesaintspub.com/event/the-terri-hines-band-46/
LOCATION:The Saints Pub\, 2601 SE Morningside Blvd\, Port St. Lucie\, FL\, 34952\, United States
CATEGORIES:events
ORGANIZER;CN="The Saints Pub":MAILTO:info@thesaintspub.com
END:VEVENT
BEGIN:VEVENT
DTSTART;TZID=UTC:20240525T183000
DTEND;TZID=UTC:20240525T213000
DTSTAMP:20260424T140205
CREATED:20240430T151234Z
LAST-MODIFIED:20240430T151234Z
UID:4655-1716661800-1716672600@thesaintspub.com
SUMMARY:Big T
DESCRIPTION:
URL:https://thesaintspub.com/event/big-t-12/
LOCATION:The Saints Pub\, 2601 SE Morningside Blvd\, Port St. Lucie\, FL\, 34952\, United States
CATEGORIES:events
ORGANIZER;CN="The Saints Pub":MAILTO:info@thesaintspub.com
END:VEVENT
BEGIN:VEVENT
DTSTART;TZID=UTC:20240530T183000
DTEND;TZID=UTC:20240530T203000
DTSTAMP:20260424T140205
CREATED:20240507T190744Z
LAST-MODIFIED:20240512T133651Z
UID:4681-1717093800-1717101000@thesaintspub.com
SUMMARY:Trivia Night with Prizes
DESCRIPTION:
URL:https://thesaintspub.com/event/trivia-night-3/
LOCATION:The Saints Pub\, 2601 SE Morningside Blvd\, Port St. Lucie\, FL\, 34952\, United States
CATEGORIES:events
ORGANIZER;CN="The Saints Pub":MAILTO:info@thesaintspub.com
END:VEVENT
BEGIN:VEVENT
DTSTART;TZID=UTC:20240531T183000
DTEND;TZID=UTC:20240531T213000
DTSTAMP:20260424T140205
CREATED:20240512T133803Z
LAST-MODIFIED:20240512T133803Z
UID:4687-1717180200-1717191000@thesaintspub.com
SUMMARY:Shaboom
DESCRIPTION:
URL:https://thesaintspub.com/event/shaboom-13/
LOCATION:Pub\, Charlottesville\, VA 123456 United States\, Charlottesville\, United States
CATEGORIES:events
ORGANIZER;CN="The Saints Pub":MAILTO:info@thesaintspub.com
END:VEVENT
BEGIN:VEVENT
DTSTART;TZID=UTC:20240601T183000
DTEND;TZID=UTC:20240601T213000
DTSTAMP:20260424T140205
CREATED:20240512T133857Z
LAST-MODIFIED:20240521T163838Z
UID:4689-1717266600-1717277400@thesaintspub.com
SUMMARY:JROX
DESCRIPTION:
URL:https://thesaintspub.com/event/jrox/
LOCATION:The Saints Pub\, 2601 SE Morningside Blvd\, Port St. Lucie\, FL\, 34952\, United States
CATEGORIES:events
ORGANIZER;CN="The Saints Pub":MAILTO:info@thesaintspub.com
END:VEVENT
BEGIN:VEVENT
DTSTART;TZID=UTC:20240605T183000
DTEND;TZID=UTC:20240605T213000
DTSTAMP:20260424T140205
CREATED:20240512T134213Z
LAST-MODIFIED:20240512T134213Z
UID:4691-1717612200-1717623000@thesaintspub.com
SUMMARY:Top Clown Karaoke
DESCRIPTION:
URL:https://thesaintspub.com/event/top-clown-karaoke-134/
LOCATION:The Saints Pub\, 2601 SE Morningside Blvd\, Port St. Lucie\, FL\, 34952\, United States
CATEGORIES:events
ORGANIZER;CN="The Saints Pub":MAILTO:info@thesaintspub.com
END:VEVENT
BEGIN:VEVENT
DTSTART;TZID=UTC:20240605T190000
DTEND;TZID=UTC:20240605T203000
DTSTAMP:20260424T140205
CREATED:20240512T134317Z
LAST-MODIFIED:20240512T134317Z
UID:4693-1717614000-1717619400@thesaintspub.com
SUMMARY:Line Dancing in The Sandpiper Room
DESCRIPTION:
URL:https://thesaintspub.com/event/line-dancing-in-the-sandpiper-room-79/
LOCATION:The Saints Pub\, 2601 SE Morningside Blvd\, Port St. Lucie\, FL\, 34952\, United States
CATEGORIES:events
ORGANIZER;CN="The Saints Pub":MAILTO:info@thesaintspub.com
END:VEVENT
BEGIN:VEVENT
DTSTART;TZID=UTC:20240607T183000
DTEND;TZID=UTC:20240607T213000
DTSTAMP:20260424T140205
CREATED:20240326T160559Z
LAST-MODIFIED:20240411T160815Z
UID:4612-1717785000-1717795800@thesaintspub.com
SUMMARY:Scott Barreto Dance Party
DESCRIPTION:
URL:https://thesaintspub.com/event/scott-barreto-dance-party-3/
LOCATION:The Saints Pub\, 2601 SE Morningside Blvd\, Port St. Lucie\, FL\, 34952\, United States
CATEGORIES:events
ORGANIZER;CN="The Saints Pub":MAILTO:info@thesaintspub.com
END:VEVENT
BEGIN:VEVENT
DTSTART;TZID=UTC:20240608T183000
DTEND;TZID=UTC:20240608T213000
DTSTAMP:20260424T140205
CREATED:20240528T165347Z
LAST-MODIFIED:20240528T165545Z
UID:5237-1717871400-1717882200@thesaintspub.com
SUMMARY:Shepherd-N-Green
DESCRIPTION:
URL:https://thesaintspub.com/event/shepherd-n-green-34/
LOCATION:The Saints Pub\, 2601 SE Morningside Blvd\, Port St. Lucie\, FL\, 34952\, United States
CATEGORIES:events
ORGANIZER;CN="The Saints Pub":MAILTO:info@thesaintspub.com
END:VEVENT
BEGIN:VEVENT
DTSTART;TZID=UTC:20240612T183000
DTEND;TZID=UTC:20240612T213000
DTSTAMP:20260424T140205
CREATED:20240528T165805Z
LAST-MODIFIED:20240528T165805Z
UID:5239-1718217000-1718227800@thesaintspub.com
SUMMARY:Top Clown Karaoke
DESCRIPTION:
URL:https://thesaintspub.com/event/top-clown-karaoke-135/
LOCATION:The Saints Pub\, 2601 SE Morningside Blvd\, Port St. Lucie\, FL\, 34952\, United States
CATEGORIES:events
ORGANIZER;CN="The Saints Pub":MAILTO:info@thesaintspub.com
END:VEVENT
BEGIN:VEVENT
DTSTART;TZID=UTC:20240612T190000
DTEND;TZID=UTC:20240612T203000
DTSTAMP:20260424T140205
CREATED:20240528T165922Z
LAST-MODIFIED:20240528T165922Z
UID:5241-1718218800-1718224200@thesaintspub.com
SUMMARY:Line Dancing in The Sandpiper Room
DESCRIPTION:
URL:https://thesaintspub.com/event/line-dancing-in-the-sandpiper-room-80/
LOCATION:The Saints Pub\, 2601 SE Morningside Blvd\, Port St. Lucie\, FL\, 34952\, United States
CATEGORIES:events
ORGANIZER;CN="The Saints Pub":MAILTO:info@thesaintspub.com
END:VEVENT
BEGIN:VEVENT
DTSTART;TZID=UTC:20240613T183000
DTEND;TZID=UTC:20240613T203000
DTSTAMP:20260424T140205
CREATED:20240528T170042Z
LAST-MODIFIED:20240528T170042Z
UID:5243-1718303400-1718310600@thesaintspub.com
SUMMARY:Free Trivia Contest with Prizes
DESCRIPTION:
URL:https://thesaintspub.com/event/free-trivia-contest-with-prizes/
LOCATION:The Saints Pub\, 2601 SE Morningside Blvd\, Port St. Lucie\, FL\, 34952\, United States
CATEGORIES:events
ORGANIZER;CN="The Saints Pub":MAILTO:info@thesaintspub.com
END:VEVENT
BEGIN:VEVENT
DTSTART;TZID=UTC:20240614T183000
DTEND;TZID=UTC:20240614T213000
DTSTAMP:20260424T140205
CREATED:20240528T170755Z
LAST-MODIFIED:20240528T170755Z
UID:5254-1718389800-1718400600@thesaintspub.com
SUMMARY:The Terri Hines Band
DESCRIPTION:
URL:https://thesaintspub.com/event/the-terri-hines-band-48/
LOCATION:The Saints Pub\, 2601 SE Morningside Blvd\, Port St. Lucie\, FL\, 34952\, United States
CATEGORIES:events
ORGANIZER;CN="The Saints Pub":MAILTO:info@thesaintspub.com
END:VEVENT
BEGIN:VEVENT
DTSTART;TZID=UTC:20240615T183000
DTEND;TZID=UTC:20240615T213000
DTSTAMP:20260424T140205
CREATED:20240528T170307Z
LAST-MODIFIED:20240528T170307Z
UID:5247-1718476200-1718487000@thesaintspub.com
SUMMARY:Shaboom
DESCRIPTION:
URL:https://thesaintspub.com/event/shaboom-14/
LOCATION:Pub\, Charlottesville\, VA 123456 United States\, Charlottesville\, United States
CATEGORIES:events
ORGANIZER;CN="The Saints Pub":MAILTO:info@thesaintspub.com
END:VEVENT
BEGIN:VEVENT
DTSTART;TZID=UTC:20240619T183000
DTEND;TZID=UTC:20240619T213000
DTSTAMP:20260424T140205
CREATED:20240528T170348Z
LAST-MODIFIED:20240528T170348Z
UID:5250-1718821800-1718832600@thesaintspub.com
SUMMARY:Top Clown Karaoke
DESCRIPTION:
URL:https://thesaintspub.com/event/top-clown-karaoke-136/
LOCATION:The Saints Pub\, 2601 SE Morningside Blvd\, Port St. Lucie\, FL\, 34952\, United States
CATEGORIES:events
ORGANIZER;CN="The Saints Pub":MAILTO:info@thesaintspub.com
END:VEVENT
END:VCALENDAR