BEGIN:VCALENDAR
VERSION:2.0
PRODID:-//thesaintspub.com - ECPv6.15.20//NONSGML v1.0//EN
CALSCALE:GREGORIAN
METHOD:PUBLISH
X-WR-CALNAME:thesaintspub.com
X-ORIGINAL-URL:https://thesaintspub.com
X-WR-CALDESC:Events for thesaintspub.com
REFRESH-INTERVAL;VALUE=DURATION:PT1H
X-Robots-Tag:noindex
X-PUBLISHED-TTL:PT1H
BEGIN:VTIMEZONE
TZID:UTC
BEGIN:STANDARD
TZOFFSETFROM:+0000
TZOFFSETTO:+0000
TZNAME:UTC
DTSTART:20250101T000000
END:STANDARD
END:VTIMEZONE
BEGIN:VEVENT
DTSTART;TZID=UTC:20260311T183000
DTEND;TZID=UTC:20260311T190000
DTSTAMP:20260422T224602
CREATED:20260129T150837Z
LAST-MODIFIED:20260129T150906Z
UID:6518-1773253800-1773255600@thesaintspub.com
SUMMARY:Top Clown Karaoke
DESCRIPTION:
URL:https://thesaintspub.com/event/top-clown-karaoke-221/
LOCATION:Pub\, Charlottesville\, VA 123456 United States\, Charlottesville\, United States
CATEGORIES:events
ORGANIZER;CN="Pub":MAILTO:pubzinne@example.com
END:VEVENT
BEGIN:VEVENT
DTSTART;TZID=UTC:20260307T183000
DTEND;TZID=UTC:20260307T190000
DTSTAMP:20260422T224602
CREATED:20260129T150745Z
LAST-MODIFIED:20260129T150805Z
UID:6514-1772908200-1772910000@thesaintspub.com
SUMMARY:Joey & The Paradons
DESCRIPTION:
URL:https://thesaintspub.com/event/joey-the-paradons-6/
LOCATION:Pub\, Charlottesville\, VA 123456 United States\, Charlottesville\, United States
CATEGORIES:events
ORGANIZER;CN="Pub":MAILTO:pubzinne@example.com
END:VEVENT
BEGIN:VEVENT
DTSTART;TZID=UTC:20260306T183000
DTEND;TZID=UTC:20260306T190000
DTSTAMP:20260422T224602
CREATED:20260129T150652Z
LAST-MODIFIED:20260129T150717Z
UID:6512-1772821800-1772823600@thesaintspub.com
SUMMARY:Alita & The Boyz
DESCRIPTION:
URL:https://thesaintspub.com/event/alita-the-boyz-22/
LOCATION:Pub\, Charlottesville\, VA 123456 United States\, Charlottesville\, United States
CATEGORIES:events
ORGANIZER;CN="Pub":MAILTO:pubzinne@example.com
END:VEVENT
BEGIN:VEVENT
DTSTART;TZID=UTC:20260304T190000
DTEND;TZID=UTC:20260304T203000
DTSTAMP:20260422T224602
CREATED:20260129T150542Z
LAST-MODIFIED:20260129T171751Z
UID:6506-1772650800-1772656200@thesaintspub.com
SUMMARY:Country Line Dancing
DESCRIPTION:
URL:https://thesaintspub.com/event/country-line-dancing-9/
LOCATION:Pub\, Charlottesville\, VA 123456 United States\, Charlottesville\, United States
CATEGORIES:events
ORGANIZER;CN="Pub":MAILTO:pubzinne@example.com
END:VEVENT
BEGIN:VEVENT
DTSTART;TZID=UTC:20260304T183000
DTEND;TZID=UTC:20260304T190000
DTSTAMP:20260422T224602
CREATED:20260129T150531Z
LAST-MODIFIED:20260129T150606Z
UID:6509-1772649000-1772650800@thesaintspub.com
SUMMARY:Top Clown Karaoke
DESCRIPTION:
URL:https://thesaintspub.com/event/top-clown-karaoke-220/
LOCATION:Pub\, Charlottesville\, VA 123456 United States\, Charlottesville\, United States
CATEGORIES:events
ORGANIZER;CN="Pub":MAILTO:pubzinne@example.com
END:VEVENT
BEGIN:VEVENT
DTSTART;TZID=UTC:20260228T183000
DTEND;TZID=UTC:20260228T190000
DTSTAMP:20260422T224602
CREATED:20260129T150442Z
LAST-MODIFIED:20260129T150502Z
UID:6507-1772303400-1772305200@thesaintspub.com
SUMMARY:Terri Hines Band
DESCRIPTION:
URL:https://thesaintspub.com/event/terri-hines-band-4/
LOCATION:Pub\, Charlottesville\, VA 123456 United States\, Charlottesville\, United States
CATEGORIES:events
ORGANIZER;CN="Pub":MAILTO:pubzinne@example.com
END:VEVENT
BEGIN:VEVENT
DTSTART;TZID=UTC:20260227T183000
DTEND;TZID=UTC:20260227T190000
DTSTAMP:20260422T224602
CREATED:20260129T150223Z
LAST-MODIFIED:20260129T150255Z
UID:6503-1772217000-1772218800@thesaintspub.com
SUMMARY:Big T
DESCRIPTION:
URL:https://thesaintspub.com/event/big-t-25/
LOCATION:Pub\, Charlottesville\, VA 123456 United States\, Charlottesville\, United States
CATEGORIES:events
ORGANIZER;CN="Pub":MAILTO:pubzinne@example.com
END:VEVENT
BEGIN:VEVENT
DTSTART;TZID=UTC:20260225T190000
DTEND;TZID=UTC:20260225T203000
DTSTAMP:20260422T224602
CREATED:20260129T145453Z
LAST-MODIFIED:20260129T171735Z
UID:6491-1772046000-1772051400@thesaintspub.com
SUMMARY:Country Line Dancing
DESCRIPTION:
URL:https://thesaintspub.com/event/country-line-dancing-7/
LOCATION:Pub\, Charlottesville\, VA 123456 United States\, Charlottesville\, United States
CATEGORIES:events
ORGANIZER;CN="Pub":MAILTO:pubzinne@example.com
END:VEVENT
BEGIN:VEVENT
DTSTART;TZID=UTC:20260225T183000
DTEND;TZID=UTC:20260225T190000
DTSTAMP:20260422T224602
CREATED:20260129T150054Z
LAST-MODIFIED:20260129T150124Z
UID:6497-1772044200-1772046000@thesaintspub.com
SUMMARY:Top Clown Karaoke
DESCRIPTION:
URL:https://thesaintspub.com/event/top-clown-karaoke-219/
LOCATION:Pub\, Charlottesville\, VA 123456 United States\, Charlottesville\, United States
CATEGORIES:events
ORGANIZER;CN="Pub":MAILTO:pubzinne@example.com
END:VEVENT
BEGIN:VEVENT
DTSTART;TZID=UTC:20260221T183000
DTEND;TZID=UTC:20260221T190000
DTSTAMP:20260422T224602
CREATED:20260129T145724Z
LAST-MODIFIED:20260129T145740Z
UID:6499-1771698600-1771700400@thesaintspub.com
SUMMARY:Joey & The Paradons
DESCRIPTION:
URL:https://thesaintspub.com/event/joey-the-paradons-5/
LOCATION:Pub\, Charlottesville\, VA 123456 United States\, Charlottesville\, United States
CATEGORIES:events
ORGANIZER;CN="Pub":MAILTO:pubzinne@example.com
END:VEVENT
BEGIN:VEVENT
DTSTART;TZID=UTC:20260220T183000
DTEND;TZID=UTC:20260220T190000
DTSTAMP:20260422T224602
CREATED:20260129T145522Z
LAST-MODIFIED:20260129T145539Z
UID:6490-1771612200-1771614000@thesaintspub.com
SUMMARY:Radio Days
DESCRIPTION:
URL:https://thesaintspub.com/event/radio-days-5/
LOCATION:Pub\, Charlottesville\, VA 123456 United States\, Charlottesville\, United States
CATEGORIES:events
ORGANIZER;CN="Pub":MAILTO:pubzinne@example.com
END:VEVENT
BEGIN:VEVENT
DTSTART;TZID=UTC:20260218T190000
DTEND;TZID=UTC:20260218T203000
DTSTAMP:20260422T224602
CREATED:20260129T150049Z
LAST-MODIFIED:20260129T171743Z
UID:6498-1771441200-1771446600@thesaintspub.com
SUMMARY:Country Line Dancing
DESCRIPTION:
URL:https://thesaintspub.com/event/country-line-dancing-8/
LOCATION:Pub\, Charlottesville\, VA 123456 United States\, Charlottesville\, United States
CATEGORIES:events
ORGANIZER;CN="Pub":MAILTO:pubzinne@example.com
END:VEVENT
BEGIN:VEVENT
DTSTART;TZID=UTC:20260218T183000
DTEND;TZID=UTC:20260218T190000
DTSTAMP:20260422T224602
CREATED:20260129T145444Z
LAST-MODIFIED:20260129T145503Z
UID:6492-1771439400-1771441200@thesaintspub.com
SUMMARY:Top Clown Karaoke
DESCRIPTION:
URL:https://thesaintspub.com/event/top-clown-karaoke-218/
LOCATION:Pub\, Charlottesville\, VA 123456 United States\, Charlottesville\, United States
CATEGORIES:events
ORGANIZER;CN="Pub":MAILTO:pubzinne@example.com
END:VEVENT
BEGIN:VEVENT
DTSTART;TZID=UTC:20260214T183000
DTEND;TZID=UTC:20260214T190000
DTSTAMP:20260422T224602
CREATED:20260129T145248Z
LAST-MODIFIED:20260129T145411Z
UID:6488-1771093800-1771095600@thesaintspub.com
SUMMARY:Joey & The Paradons
DESCRIPTION:
URL:https://thesaintspub.com/event/joey-the-paradons-4/
LOCATION:Pub\, Charlottesville\, VA 123456 United States\, Charlottesville\, United States
CATEGORIES:events
ORGANIZER;CN="Pub":MAILTO:pubzinne@example.com
END:VEVENT
BEGIN:VEVENT
DTSTART;TZID=UTC:20260213T183000
DTEND;TZID=UTC:20260213T190000
DTSTAMP:20260422T224602
CREATED:20260129T145130Z
LAST-MODIFIED:20260129T145155Z
UID:6486-1771007400-1771009200@thesaintspub.com
SUMMARY:Terri Hines band
DESCRIPTION:
URL:https://thesaintspub.com/event/terri-hines-band-3/
LOCATION:Pub\, Charlottesville\, VA 123456 United States\, Charlottesville\, United States
CATEGORIES:events
ORGANIZER;CN="Pub":MAILTO:pubzinne@example.com
END:VEVENT
BEGIN:VEVENT
DTSTART;TZID=UTC:20260211T190000
DTEND;TZID=UTC:20260211T203000
DTSTAMP:20260422T224602
CREATED:20260129T144424Z
LAST-MODIFIED:20260129T171728Z
UID:6483-1770836400-1770841800@thesaintspub.com
SUMMARY:Country Line Dancing
DESCRIPTION:
URL:https://thesaintspub.com/event/country-line-dancing-6/
LOCATION:Pub\, Charlottesville\, VA 123456 United States\, Charlottesville\, United States
CATEGORIES:events
ORGANIZER;CN="Pub":MAILTO:pubzinne@example.com
END:VEVENT
BEGIN:VEVENT
DTSTART;TZID=UTC:20260211T183000
DTEND;TZID=UTC:20260211T190000
DTSTAMP:20260422T224602
CREATED:20260129T144355Z
LAST-MODIFIED:20260129T144437Z
UID:6482-1770834600-1770836400@thesaintspub.com
SUMMARY:Top Clown Karaoke
DESCRIPTION:
URL:https://thesaintspub.com/event/top-clown-karaoke-217/
LOCATION:Pub\, Charlottesville\, VA 123456 United States\, Charlottesville\, United States
CATEGORIES:events
ORGANIZER;CN="Pub":MAILTO:pubzinne@example.com
END:VEVENT
BEGIN:VEVENT
DTSTART;TZID=UTC:20260207T183000
DTEND;TZID=UTC:20260207T190000
DTSTAMP:20260422T224602
CREATED:20260129T144307Z
LAST-MODIFIED:20260129T144327Z
UID:6480-1770489000-1770490800@thesaintspub.com
SUMMARY:Reminisce
DESCRIPTION:
URL:https://thesaintspub.com/event/reminisce-5/
LOCATION:Pub\, Charlottesville\, VA 123456 United States\, Charlottesville\, United States
CATEGORIES:events
ORGANIZER;CN="Pub":MAILTO:pubzinne@example.com
END:VEVENT
BEGIN:VEVENT
DTSTART;TZID=UTC:20260206T183000
DTEND;TZID=UTC:20260206T190000
DTSTAMP:20260422T224602
CREATED:20260129T143809Z
LAST-MODIFIED:20260129T143829Z
UID:6478-1770402600-1770404400@thesaintspub.com
SUMMARY:Alita & The Boyz
DESCRIPTION:
URL:https://thesaintspub.com/event/alita-the-boyz-21/
LOCATION:Pub\, Charlottesville\, VA 123456 United States\, Charlottesville\, United States
CATEGORIES:events
ORGANIZER;CN="Pub":MAILTO:pubzinne@example.com
END:VEVENT
BEGIN:VEVENT
DTSTART;TZID=UTC:20260204T190000
DTEND;TZID=UTC:20260204T203000
DTSTAMP:20260422T224602
CREATED:20260129T143536Z
LAST-MODIFIED:20260129T171722Z
UID:6475-1770231600-1770237000@thesaintspub.com
SUMMARY:Country Line Dancing
DESCRIPTION:
URL:https://thesaintspub.com/event/country-line-dancing-5/
LOCATION:Pub\, Charlottesville\, VA 123456 United States\, Charlottesville\, United States
CATEGORIES:events
ORGANIZER;CN="Pub":MAILTO:pubzinne@example.com
END:VEVENT
BEGIN:VEVENT
DTSTART;TZID=UTC:20260204T183000
DTEND;TZID=UTC:20260204T213000
DTSTAMP:20260422T224602
CREATED:20260129T152446Z
LAST-MODIFIED:20260129T152740Z
UID:6532-1770229800-1770240600@thesaintspub.com
SUMMARY:Karaoke Night
DESCRIPTION:
URL:https://thesaintspub.com/event/karaoke-night-5/
LOCATION:Pub\, Charlottesville\, VA 123456 United States\, Charlottesville\, United States
CATEGORIES:events
ORGANIZER;CN="Pub":MAILTO:pubzinne@example.com
END:VEVENT
BEGIN:VEVENT
DTSTART;TZID=UTC:20260204T183000
DTEND;TZID=UTC:20260204T190000
DTSTAMP:20260422T224602
CREATED:20260129T143444Z
LAST-MODIFIED:20260129T143657Z
UID:6473-1770229800-1770231600@thesaintspub.com
SUMMARY:Top Clown Karaoke
DESCRIPTION:
URL:https://thesaintspub.com/event/top-clown-karaoke-216/
LOCATION:Pub\, Charlottesville\, VA 123456 United States\, Charlottesville\, United States
CATEGORIES:events
ORGANIZER;CN="Pub":MAILTO:pubzinne@example.com
END:VEVENT
BEGIN:VEVENT
DTSTART;TZID=UTC:20260131T183000
DTEND;TZID=UTC:20260131T190000
DTSTAMP:20260422T224602
CREATED:20251231T191332Z
LAST-MODIFIED:20260110T041214Z
UID:6298-1769884200-1769886000@thesaintspub.com
SUMMARY:Joey and The Paradons
DESCRIPTION:
URL:https://thesaintspub.com/event/joey-the-paradons-2/
LOCATION:Pub\, Charlottesville\, VA 123456 United States\, Charlottesville\, United States
CATEGORIES:events
ORGANIZER;CN="Pub":MAILTO:pubzinne@example.com
END:VEVENT
BEGIN:VEVENT
DTSTART;TZID=UTC:20260130T183000
DTEND;TZID=UTC:20260130T193000
DTSTAMP:20260422T224602
CREATED:20251231T191056Z
LAST-MODIFIED:20260106T192931Z
UID:6295-1769797800-1769801400@thesaintspub.com
SUMMARY:The Sierra Band
DESCRIPTION:
URL:https://thesaintspub.com/event/the-sierra-band/
LOCATION:Pub\, Charlottesville\, VA 123456 United States\, Charlottesville\, United States
CATEGORIES:events
ORGANIZER;CN="Pub":MAILTO:pubzinne@example.com
END:VEVENT
BEGIN:VEVENT
DTSTART;TZID=UTC:20260130T183000
DTEND;TZID=UTC:20260130T183000
DTSTAMP:20260422T224602
CREATED:20260109T194655Z
LAST-MODIFIED:20260109T194655Z
UID:6365-1769797800-1769797800@thesaintspub.com
SUMMARY:Joey & The Paradons
DESCRIPTION:
URL:https://thesaintspub.com/event/joey-the-paradons-3/
LOCATION:Pub\, Charlottesville\, VA 123456 United States\, Charlottesville\, United States
CATEGORIES:events
ORGANIZER;CN="Pub":MAILTO:pubzinne@example.com
END:VEVENT
BEGIN:VEVENT
DTSTART;TZID=UTC:20260128T190000
DTEND;TZID=UTC:20260128T210000
DTSTAMP:20260422T224602
CREATED:20251231T191016Z
LAST-MODIFIED:20260106T194416Z
UID:6293-1769626800-1769634000@thesaintspub.com
SUMMARY:Country Line Dancing
DESCRIPTION:
URL:https://thesaintspub.com/event/country-line-dancing-4/
LOCATION:Pub\, Charlottesville\, VA 123456 United States\, Charlottesville\, United States
CATEGORIES:events
ORGANIZER;CN="Pub":MAILTO:pubzinne@example.com
END:VEVENT
BEGIN:VEVENT
DTSTART;TZID=UTC:20260128T183000
DTEND;TZID=UTC:20260128T203000
DTSTAMP:20260422T224602
CREATED:20251231T190858Z
LAST-MODIFIED:20260106T192952Z
UID:6291-1769625000-1769632200@thesaintspub.com
SUMMARY:Top Clown Karaoke
DESCRIPTION:
URL:https://thesaintspub.com/event/top-clown-karaoke-215/
LOCATION:Pub\, Charlottesville\, VA 123456 United States\, Charlottesville\, United States
CATEGORIES:events
ORGANIZER;CN="Pub":MAILTO:pubzinne@example.com
END:VEVENT
BEGIN:VEVENT
DTSTART;TZID=UTC:20260124T183000
DTEND;TZID=UTC:20260124T203000
DTSTAMP:20260422T224602
CREATED:20251231T190748Z
LAST-MODIFIED:20260106T193004Z
UID:6289-1769279400-1769286600@thesaintspub.com
SUMMARY:Reminisce
DESCRIPTION:
URL:https://thesaintspub.com/event/reminisce-4/
LOCATION:Pub\, Charlottesville\, VA 123456 United States\, Charlottesville\, United States
CATEGORIES:events
ORGANIZER;CN="Pub":MAILTO:pubzinne@example.com
END:VEVENT
BEGIN:VEVENT
DTSTART;TZID=UTC:20260123T183000
DTEND;TZID=UTC:20260123T203000
DTSTAMP:20260422T224602
CREATED:20251231T190556Z
LAST-MODIFIED:20260106T193058Z
UID:6287-1769193000-1769200200@thesaintspub.com
SUMMARY:Terri Hines Band
DESCRIPTION:
URL:https://thesaintspub.com/event/terri-hines-band-2/
LOCATION:Pub\, Charlottesville\, VA 123456 United States\, Charlottesville\, United States
CATEGORIES:events
ORGANIZER;CN="Pub":MAILTO:pubzinne@example.com
END:VEVENT
BEGIN:VEVENT
DTSTART;TZID=UTC:20260121T183000
DTEND;TZID=UTC:20260121T230000
DTSTAMP:20260422T224602
CREATED:20251231T190442Z
LAST-MODIFIED:20260106T193109Z
UID:6285-1769020200-1769036400@thesaintspub.com
SUMMARY:Country Line Dancing
DESCRIPTION:
URL:https://thesaintspub.com/event/country-line-dancing-3/
LOCATION:Pub\, Charlottesville\, VA 123456 United States\, Charlottesville\, United States
CATEGORIES:events
ORGANIZER;CN="Pub":MAILTO:pubzinne@example.com
END:VEVENT
END:VCALENDAR