BEGIN:VCALENDAR
VERSION:2.0
PRODID:-//thesaintspub.com - ECPv6.15.20//NONSGML v1.0//EN
CALSCALE:GREGORIAN
METHOD:PUBLISH
X-WR-CALNAME:thesaintspub.com
X-ORIGINAL-URL:https://thesaintspub.com
X-WR-CALDESC:Events for thesaintspub.com
REFRESH-INTERVAL;VALUE=DURATION:PT1H
X-Robots-Tag:noindex
X-PUBLISHED-TTL:PT1H
BEGIN:VTIMEZONE
TZID:UTC
BEGIN:STANDARD
TZOFFSETFROM:+0000
TZOFFSETTO:+0000
TZNAME:UTC
DTSTART:20220101T000000
END:STANDARD
END:VTIMEZONE
BEGIN:VEVENT
DTSTART;TZID=UTC:20230927T183000
DTEND;TZID=UTC:20230927T213000
DTSTAMP:20260425T122347
CREATED:20230906T152117Z
LAST-MODIFIED:20230906T152117Z
UID:4310-1695839400-1695850200@thesaintspub.com
SUMMARY:Top Clown Karaoke
DESCRIPTION:
URL:https://thesaintspub.com/event/top-clown-karaoke-99/
LOCATION:Pub\, Charlottesville\, VA 123456 United States\, Charlottesville\, United States
CATEGORIES:events
ORGANIZER;CN="Pub":MAILTO:pubzinne@example.com
END:VEVENT
BEGIN:VEVENT
DTSTART;TZID=UTC:20230923T183000
DTEND;TZID=UTC:20230923T213000
DTSTAMP:20260425T122347
CREATED:20230621T181352Z
LAST-MODIFIED:20230621T181352Z
UID:4202-1695493800-1695504600@thesaintspub.com
SUMMARY:Scott Barreto
DESCRIPTION:
URL:https://thesaintspub.com/event/scott-barreto-11/
LOCATION:Pub\, Charlottesville\, VA 123456 United States\, Charlottesville\, United States
CATEGORIES:events
ORGANIZER;CN="Pub":MAILTO:pubzinne@example.com
END:VEVENT
BEGIN:VEVENT
DTSTART;TZID=UTC:20230922T183000
DTEND;TZID=UTC:20230922T213000
DTSTAMP:20260425T122347
CREATED:20230906T152039Z
LAST-MODIFIED:20230906T152039Z
UID:4308-1695407400-1695418200@thesaintspub.com
SUMMARY:DECADES
DESCRIPTION:
URL:https://thesaintspub.com/event/decades-24/
LOCATION:Pub\, Charlottesville\, VA 123456 United States\, Charlottesville\, United States
CATEGORIES:events
ORGANIZER;CN="Pub":MAILTO:pubzinne@example.com
END:VEVENT
BEGIN:VEVENT
DTSTART;TZID=UTC:20230920T190000
DTEND;TZID=UTC:20230920T203000
DTSTAMP:20260425T122347
CREATED:20230906T152009Z
LAST-MODIFIED:20230906T152009Z
UID:4306-1695236400-1695241800@thesaintspub.com
SUMMARY:Line Dancing in The Sandpiper Room
DESCRIPTION:
URL:https://thesaintspub.com/event/line-dancing-in-the-sandpiper-room-43/
LOCATION:Pub\, Charlottesville\, VA 123456 United States\, Charlottesville\, United States
CATEGORIES:events
ORGANIZER;CN="Pub":MAILTO:pubzinne@example.com
END:VEVENT
BEGIN:VEVENT
DTSTART;TZID=UTC:20230920T183000
DTEND;TZID=UTC:20230920T213000
DTSTAMP:20260425T122347
CREATED:20230906T151946Z
LAST-MODIFIED:20230906T151946Z
UID:4304-1695234600-1695245400@thesaintspub.com
SUMMARY:Top Clown Karaoke
DESCRIPTION:
URL:https://thesaintspub.com/event/top-clown-karaoke-98/
LOCATION:Pub\, Charlottesville\, VA 123456 United States\, Charlottesville\, United States
CATEGORIES:events
ORGANIZER;CN="Pub":MAILTO:pubzinne@example.com
END:VEVENT
BEGIN:VEVENT
DTSTART;TZID=UTC:20230916T183000
DTEND;TZID=UTC:20230916T213000
DTSTAMP:20260425T122347
CREATED:20230906T151901Z
LAST-MODIFIED:20230906T151901Z
UID:4302-1694889000-1694899800@thesaintspub.com
SUMMARY:Shaboom
DESCRIPTION:
URL:https://thesaintspub.com/event/shaboom-6/
LOCATION:Pub\, Charlottesville\, VA 123456 United States\, Charlottesville\, United States
CATEGORIES:events
ORGANIZER;CN="Pub":MAILTO:pubzinne@example.com
END:VEVENT
BEGIN:VEVENT
DTSTART;TZID=UTC:20230915T183000
DTEND;TZID=UTC:20230915T213000
DTSTAMP:20260425T122347
CREATED:20230822T003615Z
LAST-MODIFIED:20230822T003615Z
UID:4298-1694802600-1694813400@thesaintspub.com
SUMMARY:The Terri Hines Band
DESCRIPTION:
URL:https://thesaintspub.com/event/the-terri-hines-band-30/
LOCATION:Pub\, Charlottesville\, VA 123456 United States\, Charlottesville\, United States
CATEGORIES:events
ORGANIZER;CN="Pub":MAILTO:pubzinne@example.com
END:VEVENT
BEGIN:VEVENT
DTSTART;TZID=UTC:20230913T190000
DTEND;TZID=UTC:20230913T203000
DTSTAMP:20260425T122347
CREATED:20230822T003448Z
LAST-MODIFIED:20230822T003448Z
UID:4294-1694631600-1694637000@thesaintspub.com
SUMMARY:Line Dancing in The Sandpiper Room
DESCRIPTION:
URL:https://thesaintspub.com/event/line-dancing-in-the-sandpiper-room-42/
LOCATION:Pub\, Charlottesville\, VA 123456 United States\, Charlottesville\, United States
CATEGORIES:events
ORGANIZER;CN="Pub":MAILTO:pubzinne@example.com
END:VEVENT
BEGIN:VEVENT
DTSTART;TZID=UTC:20230913T183000
DTEND;TZID=UTC:20230913T213000
DTSTAMP:20260425T122347
CREATED:20230822T003525Z
LAST-MODIFIED:20230822T003550Z
UID:4296-1694629800-1694640600@thesaintspub.com
SUMMARY:Top Clown Karaoke
DESCRIPTION:
URL:https://thesaintspub.com/event/top-clown-karaoke-97/
LOCATION:Pub\, Charlottesville\, VA 123456 United States\, Charlottesville\, United States
CATEGORIES:events
ORGANIZER;CN="Pub":MAILTO:pubzinne@example.com
END:VEVENT
BEGIN:VEVENT
DTSTART;TZID=UTC:20230909T183000
DTEND;TZID=UTC:20230909T213000
DTSTAMP:20260425T122347
CREATED:20230822T003311Z
LAST-MODIFIED:20230822T003639Z
UID:4292-1694284200-1694295000@thesaintspub.com
SUMMARY:Solid Gold
DESCRIPTION:
URL:https://thesaintspub.com/event/solid-gold-38/
LOCATION:Pub\, Charlottesville\, VA 123456 United States\, Charlottesville\, United States
CATEGORIES:events
ORGANIZER;CN="Pub":MAILTO:pubzinne@example.com
END:VEVENT
BEGIN:VEVENT
DTSTART;TZID=UTC:20230908T183000
DTEND;TZID=UTC:20230908T213000
DTSTAMP:20260425T122347
CREATED:20230822T003219Z
LAST-MODIFIED:20230822T003219Z
UID:4290-1694197800-1694208600@thesaintspub.com
SUMMARY:Shepherd-N-Green
DESCRIPTION:
URL:https://thesaintspub.com/event/shepherd-n-green-22/
LOCATION:Pub\, Charlottesville\, VA 123456 United States\, Charlottesville\, United States
CATEGORIES:events
ORGANIZER;CN="Pub":MAILTO:pubzinne@example.com
END:VEVENT
BEGIN:VEVENT
DTSTART;TZID=UTC:20230906T190000
DTEND;TZID=UTC:20230906T203000
DTSTAMP:20260425T122347
CREATED:20230817T165752Z
LAST-MODIFIED:20230817T165752Z
UID:4279-1694026800-1694032200@thesaintspub.com
SUMMARY:Line Dancing in The Sandpiper Room
DESCRIPTION:
URL:https://thesaintspub.com/event/line-dancing-in-the-sandpiper-room-41/
LOCATION:Pub\, Charlottesville\, VA 123456 United States\, Charlottesville\, United States
CATEGORIES:events
ORGANIZER;CN="Pub":MAILTO:pubzinne@example.com
END:VEVENT
BEGIN:VEVENT
DTSTART;TZID=UTC:20230906T183000
DTEND;TZID=UTC:20230906T213000
DTSTAMP:20260425T122347
CREATED:20230817T165818Z
LAST-MODIFIED:20230817T165818Z
UID:4281-1694025000-1694035800@thesaintspub.com
SUMMARY:Top Clown Karaoke
DESCRIPTION:
URL:https://thesaintspub.com/event/top-clown-karaoke-96/
LOCATION:Pub\, Charlottesville\, VA 123456 United States\, Charlottesville\, United States
CATEGORIES:events
ORGANIZER;CN="Pub":MAILTO:pubzinne@example.com
END:VEVENT
BEGIN:VEVENT
DTSTART;TZID=UTC:20230902T183000
DTEND;TZID=UTC:20230902T213000
DTSTAMP:20260425T122347
CREATED:20230817T165933Z
LAST-MODIFIED:20230817T165933Z
UID:4285-1693679400-1693690200@thesaintspub.com
SUMMARY:The Terri Hines Band
DESCRIPTION:
URL:https://thesaintspub.com/event/the-terri-hines-band-29/
LOCATION:Pub\, Charlottesville\, VA 123456 United States\, Charlottesville\, United States
CATEGORIES:events
ORGANIZER;CN="Pub":MAILTO:pubzinne@example.com
END:VEVENT
BEGIN:VEVENT
DTSTART;TZID=UTC:20230901T183000
DTEND;TZID=UTC:20230901T213000
DTSTAMP:20260425T122347
CREATED:20230817T165851Z
LAST-MODIFIED:20230817T165851Z
UID:4283-1693593000-1693603800@thesaintspub.com
SUMMARY:Solid Gold
DESCRIPTION:
URL:https://thesaintspub.com/event/solid-gold-37/
LOCATION:Pub\, Charlottesville\, VA 123456 United States\, Charlottesville\, United States
CATEGORIES:events
ORGANIZER;CN="Pub":MAILTO:pubzinne@example.com
END:VEVENT
BEGIN:VEVENT
DTSTART;TZID=UTC:20230830T190000
DTEND;TZID=UTC:20230830T203000
DTSTAMP:20260425T122347
CREATED:20230817T165718Z
LAST-MODIFIED:20230817T165718Z
UID:4277-1693422000-1693427400@thesaintspub.com
SUMMARY:Line Dancing in The Sandpiper Room
DESCRIPTION:
URL:https://thesaintspub.com/event/line-dancing-in-the-sandpiper-room-40/
LOCATION:Pub\, Charlottesville\, VA 123456 United States\, Charlottesville\, United States
CATEGORIES:events
ORGANIZER;CN="Pub":MAILTO:pubzinne@example.com
END:VEVENT
BEGIN:VEVENT
DTSTART;TZID=UTC:20230830T183000
DTEND;TZID=UTC:20230830T213000
DTSTAMP:20260425T122347
CREATED:20230817T165643Z
LAST-MODIFIED:20230817T165643Z
UID:4275-1693420200-1693431000@thesaintspub.com
SUMMARY:Top Clown Karaoke
DESCRIPTION:
URL:https://thesaintspub.com/event/top-clown-karaoke-95/
LOCATION:Pub\, Charlottesville\, VA 123456 United States\, Charlottesville\, United States
CATEGORIES:events
ORGANIZER;CN="Pub":MAILTO:pubzinne@example.com
END:VEVENT
BEGIN:VEVENT
DTSTART;TZID=UTC:20230825T183000
DTEND;TZID=UTC:20230825T213000
DTSTAMP:20260425T122347
CREATED:20230817T165606Z
LAST-MODIFIED:20230817T165606Z
UID:4273-1692988200-1692999000@thesaintspub.com
SUMMARY:DECADES
DESCRIPTION:
URL:https://thesaintspub.com/event/decades-23/
LOCATION:Pub\, Charlottesville\, VA 123456 United States\, Charlottesville\, United States
CATEGORIES:events
ORGANIZER;CN="Pub":MAILTO:pubzinne@example.com
END:VEVENT
BEGIN:VEVENT
DTSTART;TZID=UTC:20230823T190000
DTEND;TZID=UTC:20230823T203000
DTSTAMP:20260425T122347
CREATED:20230728T132507Z
LAST-MODIFIED:20230728T132507Z
UID:4268-1692817200-1692822600@thesaintspub.com
SUMMARY:Line Dancing in The Sandpiper Room
DESCRIPTION:
URL:https://thesaintspub.com/event/line-dancing-in-the-sandpiper-room-39/
LOCATION:Pub\, Charlottesville\, VA 123456 United States\, Charlottesville\, United States
CATEGORIES:events
ORGANIZER;CN="Pub":MAILTO:pubzinne@example.com
END:VEVENT
BEGIN:VEVENT
DTSTART;TZID=UTC:20230823T183000
DTEND;TZID=UTC:20230823T213000
DTSTAMP:20260425T122347
CREATED:20230728T132438Z
LAST-MODIFIED:20230728T132438Z
UID:4266-1692815400-1692826200@thesaintspub.com
SUMMARY:Top Clown Karaoke
DESCRIPTION:
URL:https://thesaintspub.com/event/top-clown-karaoke-94/
LOCATION:Pub\, Charlottesville\, VA 123456 United States\, Charlottesville\, United States
CATEGORIES:events
ORGANIZER;CN="Pub":MAILTO:pubzinne@example.com
END:VEVENT
BEGIN:VEVENT
DTSTART;TZID=UTC:20230819T183000
DTEND;TZID=UTC:20230819T213000
DTSTAMP:20260425T122347
CREATED:20230728T132404Z
LAST-MODIFIED:20230728T132404Z
UID:4264-1692469800-1692480600@thesaintspub.com
SUMMARY:Shaboom
DESCRIPTION:
URL:https://thesaintspub.com/event/shaboom-5/
LOCATION:Pub\, Charlottesville\, VA 123456 United States\, Charlottesville\, United States
CATEGORIES:events
ORGANIZER;CN="Pub":MAILTO:pubzinne@example.com
END:VEVENT
BEGIN:VEVENT
DTSTART;TZID=UTC:20230818T183000
DTEND;TZID=UTC:20230818T213000
DTSTAMP:20260425T122347
CREATED:20230728T132319Z
LAST-MODIFIED:20230728T132319Z
UID:4262-1692383400-1692394200@thesaintspub.com
SUMMARY:The Terri Hines Band
DESCRIPTION:
URL:https://thesaintspub.com/event/the-terri-hines-band-28/
LOCATION:Pub\, Charlottesville\, VA 123456 United States\, Charlottesville\, United States
CATEGORIES:events
ORGANIZER;CN="Pub":MAILTO:pubzinne@example.com
END:VEVENT
BEGIN:VEVENT
DTSTART;TZID=UTC:20230816T190000
DTEND;TZID=UTC:20230816T203000
DTSTAMP:20260425T122347
CREATED:20230728T132238Z
LAST-MODIFIED:20230728T132238Z
UID:4260-1692212400-1692217800@thesaintspub.com
SUMMARY:Line Dancing in The Sandpiper Room
DESCRIPTION:
URL:https://thesaintspub.com/event/line-dancing-in-the-sandpiper-room-38/
LOCATION:Pub\, Charlottesville\, VA 123456 United States\, Charlottesville\, United States
CATEGORIES:events
ORGANIZER;CN="Pub":MAILTO:pubzinne@example.com
END:VEVENT
BEGIN:VEVENT
DTSTART;TZID=UTC:20230816T183000
DTEND;TZID=UTC:20230816T213000
DTSTAMP:20260425T122347
CREATED:20230728T132203Z
LAST-MODIFIED:20230728T132203Z
UID:4258-1692210600-1692221400@thesaintspub.com
SUMMARY:Top Clown Karaoke
DESCRIPTION:
URL:https://thesaintspub.com/event/top-clown-karaoke-93/
LOCATION:Pub\, Charlottesville\, VA 123456 United States\, Charlottesville\, United States
CATEGORIES:events
ORGANIZER;CN="Pub":MAILTO:pubzinne@example.com
END:VEVENT
BEGIN:VEVENT
DTSTART;TZID=UTC:20230812T183000
DTEND;TZID=UTC:20230812T213000
DTSTAMP:20260425T122347
CREATED:20230728T132138Z
LAST-MODIFIED:20230728T132138Z
UID:4256-1691865000-1691875800@thesaintspub.com
SUMMARY:Solid Gold
DESCRIPTION:
URL:https://thesaintspub.com/event/solid-gold-36/
LOCATION:Pub\, Charlottesville\, VA 123456 United States\, Charlottesville\, United States
CATEGORIES:events
ORGANIZER;CN="Pub":MAILTO:pubzinne@example.com
END:VEVENT
BEGIN:VEVENT
DTSTART;TZID=UTC:20230811T183000
DTEND;TZID=UTC:20230811T213000
DTSTAMP:20260425T122347
CREATED:20230728T132103Z
LAST-MODIFIED:20230728T132103Z
UID:4254-1691778600-1691789400@thesaintspub.com
SUMMARY:Shepherd-N-Green
DESCRIPTION:
URL:https://thesaintspub.com/event/shepherd-n-green-21/
LOCATION:Pub\, Charlottesville\, VA 123456 United States\, Charlottesville\, United States
CATEGORIES:events
ORGANIZER;CN="Pub":MAILTO:pubzinne@example.com
END:VEVENT
BEGIN:VEVENT
DTSTART;TZID=UTC:20230809T190000
DTEND;TZID=UTC:20230809T203000
DTSTAMP:20260425T122347
CREATED:20230728T132009Z
LAST-MODIFIED:20230728T132009Z
UID:4252-1691607600-1691613000@thesaintspub.com
SUMMARY:Line Dancing in The Sandpiper Room
DESCRIPTION:
URL:https://thesaintspub.com/event/line-dancing-in-the-sandpiper-room-37/
LOCATION:Pub\, Charlottesville\, VA 123456 United States\, Charlottesville\, United States
CATEGORIES:events
ORGANIZER;CN="Pub":MAILTO:pubzinne@example.com
END:VEVENT
BEGIN:VEVENT
DTSTART;TZID=UTC:20230809T183000
DTEND;TZID=UTC:20230809T213000
DTSTAMP:20260425T122347
CREATED:20230728T131935Z
LAST-MODIFIED:20230728T131935Z
UID:4250-1691605800-1691616600@thesaintspub.com
SUMMARY:Top Clown Karaoke
DESCRIPTION:
URL:https://thesaintspub.com/event/top-clown-karaoke-92/
LOCATION:Pub\, Charlottesville\, VA 123456 United States\, Charlottesville\, United States
CATEGORIES:events
ORGANIZER;CN="Pub":MAILTO:pubzinne@example.com
END:VEVENT
BEGIN:VEVENT
DTSTART;TZID=UTC:20230805T183000
DTEND;TZID=UTC:20230805T213000
DTSTAMP:20260425T122347
CREATED:20230728T131902Z
LAST-MODIFIED:20230728T131902Z
UID:4248-1691260200-1691271000@thesaintspub.com
SUMMARY:The Terri Hines Band
DESCRIPTION:
URL:https://thesaintspub.com/event/the-terri-hines-band-27/
LOCATION:Pub\, Charlottesville\, VA 123456 United States\, Charlottesville\, United States
CATEGORIES:events
ORGANIZER;CN="Pub":MAILTO:pubzinne@example.com
END:VEVENT
BEGIN:VEVENT
DTSTART;TZID=UTC:20230804T183000
DTEND;TZID=UTC:20230804T213000
DTSTAMP:20260425T122347
CREATED:20230621T181327Z
LAST-MODIFIED:20230621T181327Z
UID:4200-1691173800-1691184600@thesaintspub.com
SUMMARY:Scott Barreto
DESCRIPTION:
URL:https://thesaintspub.com/event/scott-barreto-10/
LOCATION:Pub\, Charlottesville\, VA 123456 United States\, Charlottesville\, United States
CATEGORIES:events
ORGANIZER;CN="Pub":MAILTO:pubzinne@example.com
END:VEVENT
END:VCALENDAR