BEGIN:VCALENDAR
VERSION:2.0
PRODID:-//thesaintspub.com - ECPv6.15.20//NONSGML v1.0//EN
CALSCALE:GREGORIAN
METHOD:PUBLISH
X-WR-CALNAME:thesaintspub.com
X-ORIGINAL-URL:https://thesaintspub.com
X-WR-CALDESC:Events for thesaintspub.com
REFRESH-INTERVAL;VALUE=DURATION:PT1H
X-Robots-Tag:noindex
X-PUBLISHED-TTL:PT1H
BEGIN:VTIMEZONE
TZID:UTC
BEGIN:STANDARD
TZOFFSETFROM:+0000
TZOFFSETTO:+0000
TZNAME:UTC
DTSTART:20220101T000000
END:STANDARD
END:VTIMEZONE
BEGIN:VEVENT
DTSTART;TZID=UTC:20240103T183000
DTEND;TZID=UTC:20240103T213000
DTSTAMP:20260425T035156
CREATED:20231221T221343Z
LAST-MODIFIED:20231221T221343Z
UID:4435-1704306600-1704317400@thesaintspub.com
SUMMARY:Top Clown Karaoke
DESCRIPTION:
URL:https://thesaintspub.com/event/top-clown-karaoke-113/
LOCATION:Pub\, Charlottesville\, VA 123456 United States\, Charlottesville\, United States
CATEGORIES:events
ORGANIZER;CN="Pub":MAILTO:pubzinne@example.com
END:VEVENT
BEGIN:VEVENT
DTSTART;TZID=UTC:20231231T190000
DTEND;TZID=UTC:20240101T000000
DTSTAMP:20260425T035156
CREATED:20231121T201735Z
LAST-MODIFIED:20231221T221220Z
UID:4429-1704049200-1704067200@thesaintspub.com
SUMMARY:New Years Eve Party Featuring Terri Hines
DESCRIPTION:
URL:https://thesaintspub.com/event/new-years-party-featuring-terri-hines/
LOCATION:Pub\, Charlottesville\, VA 123456 United States\, Charlottesville\, United States
CATEGORIES:events
ORGANIZER;CN="Pub":MAILTO:pubzinne@example.com
END:VEVENT
BEGIN:VEVENT
DTSTART;TZID=UTC:20231231T160000
DTEND;TZID=UTC:20231231T200000
DTSTAMP:20260425T035156
CREATED:20231121T200847Z
LAST-MODIFIED:20231221T221304Z
UID:4427-1704038400-1704052800@thesaintspub.com
SUMMARY:Irish New Years Party- Albert & Lenny
DESCRIPTION:
URL:https://thesaintspub.com/event/irish-new-years-party/
LOCATION:Pub\, Charlottesville\, VA 123456 United States\, Charlottesville\, United States
CATEGORIES:events
ORGANIZER;CN="Pub":MAILTO:pubzinne@example.com
END:VEVENT
BEGIN:VEVENT
DTSTART;TZID=UTC:20231229T183000
DTEND;TZID=UTC:20231229T213000
DTSTAMP:20260425T035156
CREATED:20231113T194424Z
LAST-MODIFIED:20231113T194424Z
UID:4422-1703874600-1703885400@thesaintspub.com
SUMMARY:Solid Gold
DESCRIPTION:
URL:https://thesaintspub.com/event/solid-gold-43/
LOCATION:Pub\, Charlottesville\, VA 123456 United States\, Charlottesville\, United States
CATEGORIES:events
ORGANIZER;CN="Pub":MAILTO:pubzinne@example.com
END:VEVENT
BEGIN:VEVENT
DTSTART;TZID=UTC:20231227T190000
DTEND;TZID=UTC:20231227T203000
DTSTAMP:20260425T035156
CREATED:20231113T194306Z
LAST-MODIFIED:20231113T194306Z
UID:4418-1703703600-1703709000@thesaintspub.com
SUMMARY:Line Dancing in The Sandpiper Room
DESCRIPTION:
URL:https://thesaintspub.com/event/line-dancing-in-the-sandpiper-room-57/
LOCATION:Pub\, Charlottesville\, VA 123456 United States\, Charlottesville\, United States
CATEGORIES:events
ORGANIZER;CN="Pub":MAILTO:pubzinne@example.com
END:VEVENT
BEGIN:VEVENT
DTSTART;TZID=UTC:20231227T183000
DTEND;TZID=UTC:20231227T213000
DTSTAMP:20260425T035156
CREATED:20231113T194341Z
LAST-MODIFIED:20231113T194341Z
UID:4420-1703701800-1703712600@thesaintspub.com
SUMMARY:Top Clown Karaoke
DESCRIPTION:
URL:https://thesaintspub.com/event/top-clown-karaoke-112/
LOCATION:Pub\, Charlottesville\, VA 123456 United States\, Charlottesville\, United States
CATEGORIES:events
ORGANIZER;CN="Pub":MAILTO:pubzinne@example.com
END:VEVENT
BEGIN:VEVENT
DTSTART;TZID=UTC:20231223T183000
DTEND;TZID=UTC:20231223T213000
DTSTAMP:20260425T035156
CREATED:20231113T194226Z
LAST-MODIFIED:20231113T194226Z
UID:4416-1703356200-1703367000@thesaintspub.com
SUMMARY:Big T
DESCRIPTION:
URL:https://thesaintspub.com/event/big-t-4/
LOCATION:Pub\, Charlottesville\, VA 123456 United States\, Charlottesville\, United States
CATEGORIES:events
ORGANIZER;CN="Pub":MAILTO:pubzinne@example.com
END:VEVENT
BEGIN:VEVENT
DTSTART;TZID=UTC:20231222T183000
DTEND;TZID=UTC:20231222T213000
DTSTAMP:20260425T035156
CREATED:20231113T194137Z
LAST-MODIFIED:20231113T194137Z
UID:4414-1703269800-1703280600@thesaintspub.com
SUMMARY:Shepherd-N-Green
DESCRIPTION:
URL:https://thesaintspub.com/event/shepherd-n-green-25/
LOCATION:Pub\, Charlottesville\, VA 123456 United States\, Charlottesville\, United States
CATEGORIES:events
ORGANIZER;CN="Pub":MAILTO:pubzinne@example.com
END:VEVENT
BEGIN:VEVENT
DTSTART;TZID=UTC:20231220T190000
DTEND;TZID=UTC:20231220T203000
DTSTAMP:20260425T035156
CREATED:20231113T194005Z
LAST-MODIFIED:20231113T194005Z
UID:4412-1703098800-1703104200@thesaintspub.com
SUMMARY:Line Dancing in The Sandpiper Room
DESCRIPTION:
URL:https://thesaintspub.com/event/line-dancing-in-the-sandpiper-room-56/
LOCATION:Pub\, Charlottesville\, VA 123456 United States\, Charlottesville\, United States
CATEGORIES:events
ORGANIZER;CN="Pub":MAILTO:pubzinne@example.com
END:VEVENT
BEGIN:VEVENT
DTSTART;TZID=UTC:20231220T183000
DTEND;TZID=UTC:20231220T213000
DTSTAMP:20260425T035156
CREATED:20231113T193935Z
LAST-MODIFIED:20231113T193935Z
UID:4410-1703097000-1703107800@thesaintspub.com
SUMMARY:Top Clown Karaoke
DESCRIPTION:
URL:https://thesaintspub.com/event/top-clown-karaoke-111/
LOCATION:Pub\, Charlottesville\, VA 123456 United States\, Charlottesville\, United States
CATEGORIES:events
ORGANIZER;CN="Pub":MAILTO:pubzinne@example.com
END:VEVENT
BEGIN:VEVENT
DTSTART;TZID=UTC:20231216T183000
DTEND;TZID=UTC:20231216T213000
DTSTAMP:20260425T035156
CREATED:20231113T193906Z
LAST-MODIFIED:20231113T193906Z
UID:4408-1702751400-1702762200@thesaintspub.com
SUMMARY:Shaboom
DESCRIPTION:
URL:https://thesaintspub.com/event/shaboom-9/
LOCATION:Pub\, Charlottesville\, VA 123456 United States\, Charlottesville\, United States
CATEGORIES:events
ORGANIZER;CN="Pub":MAILTO:pubzinne@example.com
END:VEVENT
BEGIN:VEVENT
DTSTART;TZID=UTC:20231215T183000
DTEND;TZID=UTC:20231215T213000
DTSTAMP:20260425T035156
CREATED:20231113T193831Z
LAST-MODIFIED:20231113T193831Z
UID:4406-1702665000-1702675800@thesaintspub.com
SUMMARY:The Terri Hines Band
DESCRIPTION:
URL:https://thesaintspub.com/event/the-terri-hines-band-36/
LOCATION:Pub\, Charlottesville\, VA 123456 United States\, Charlottesville\, United States
CATEGORIES:events
ORGANIZER;CN="Pub":MAILTO:pubzinne@example.com
END:VEVENT
BEGIN:VEVENT
DTSTART;TZID=UTC:20231213T190000
DTEND;TZID=UTC:20231213T203000
DTSTAMP:20260425T035156
CREATED:20231113T193703Z
LAST-MODIFIED:20231113T193703Z
UID:4402-1702494000-1702499400@thesaintspub.com
SUMMARY:Line Dancing in The Sandpiper Room
DESCRIPTION:
URL:https://thesaintspub.com/event/line-dancing-in-the-sandpiper-room-55/
LOCATION:Pub\, Charlottesville\, VA 123456 United States\, Charlottesville\, United States
CATEGORIES:events
ORGANIZER;CN="Pub":MAILTO:pubzinne@example.com
END:VEVENT
BEGIN:VEVENT
DTSTART;TZID=UTC:20231213T183000
DTEND;TZID=UTC:20231213T213000
DTSTAMP:20260425T035156
CREATED:20231113T193634Z
LAST-MODIFIED:20231113T193634Z
UID:4400-1702492200-1702503000@thesaintspub.com
SUMMARY:Top Clown Karaoke
DESCRIPTION:
URL:https://thesaintspub.com/event/top-clown-karaoke-110/
LOCATION:Pub\, Charlottesville\, VA 123456 United States\, Charlottesville\, United States
CATEGORIES:events
ORGANIZER;CN="Pub":MAILTO:pubzinne@example.com
END:VEVENT
BEGIN:VEVENT
DTSTART;TZID=UTC:20231209T183000
DTEND;TZID=UTC:20231209T213000
DTSTAMP:20260425T035156
CREATED:20231113T193756Z
LAST-MODIFIED:20231113T193756Z
UID:4404-1702146600-1702157400@thesaintspub.com
SUMMARY:DECADES
DESCRIPTION:
URL:https://thesaintspub.com/event/decades-28/
LOCATION:Pub\, Charlottesville\, VA 123456 United States\, Charlottesville\, United States
CATEGORIES:events
ORGANIZER;CN="Pub":MAILTO:pubzinne@example.com
END:VEVENT
BEGIN:VEVENT
DTSTART;TZID=UTC:20231208T183000
DTEND;TZID=UTC:20231208T213000
DTSTAMP:20260425T035156
CREATED:20231113T193539Z
LAST-MODIFIED:20231113T193722Z
UID:4398-1702060200-1702071000@thesaintspub.com
SUMMARY:Solid Gold
DESCRIPTION:
URL:https://thesaintspub.com/event/solid-gold-42/
LOCATION:Pub\, Charlottesville\, VA 123456 United States\, Charlottesville\, United States
CATEGORIES:events
ORGANIZER;CN="Pub":MAILTO:pubzinne@example.com
END:VEVENT
BEGIN:VEVENT
DTSTART;TZID=UTC:20231206T190000
DTEND;TZID=UTC:20231206T203000
DTSTAMP:20260425T035156
CREATED:20231113T193458Z
LAST-MODIFIED:20231113T193458Z
UID:4396-1701889200-1701894600@thesaintspub.com
SUMMARY:Line Dancing in The Sandpiper Room
DESCRIPTION:
URL:https://thesaintspub.com/event/line-dancing-in-the-sandpiper-room-54/
LOCATION:Pub\, Charlottesville\, VA 123456 United States\, Charlottesville\, United States
CATEGORIES:events
ORGANIZER;CN="Pub":MAILTO:pubzinne@example.com
END:VEVENT
BEGIN:VEVENT
DTSTART;TZID=UTC:20231206T183000
DTEND;TZID=UTC:20231206T213000
DTSTAMP:20260425T035156
CREATED:20231113T193424Z
LAST-MODIFIED:20231113T193424Z
UID:4394-1701887400-1701898200@thesaintspub.com
SUMMARY:Top Clown Karaoke
DESCRIPTION:
URL:https://thesaintspub.com/event/top-clown-karaoke-109/
LOCATION:Pub\, Charlottesville\, VA 123456 United States\, Charlottesville\, United States
CATEGORIES:events
ORGANIZER;CN="Pub":MAILTO:pubzinne@example.com
END:VEVENT
BEGIN:VEVENT
DTSTART;TZID=UTC:20231202T183000
DTEND;TZID=UTC:20231202T213000
DTSTAMP:20260425T035156
CREATED:20231113T193346Z
LAST-MODIFIED:20231121T200654Z
UID:4392-1701541800-1701552600@thesaintspub.com
SUMMARY:Albert and Juan
DESCRIPTION:
URL:https://thesaintspub.com/event/the-terri-hines-band-35/
LOCATION:Pub\, Charlottesville\, VA 123456 United States\, Charlottesville\, United States
CATEGORIES:events
ORGANIZER;CN="Pub":MAILTO:pubzinne@example.com
END:VEVENT
BEGIN:VEVENT
DTSTART;TZID=UTC:20231201T183000
DTEND;TZID=UTC:20231201T213000
DTSTAMP:20260425T035156
CREATED:20231113T193252Z
LAST-MODIFIED:20231113T193252Z
UID:4390-1701455400-1701466200@thesaintspub.com
SUMMARY:Big T
DESCRIPTION:
URL:https://thesaintspub.com/event/big-t-3/
LOCATION:Pub\, Charlottesville\, VA 123456 United States\, Charlottesville\, United States
CATEGORIES:events
ORGANIZER;CN="Pub":MAILTO:pubzinne@example.com
END:VEVENT
BEGIN:VEVENT
DTSTART;TZID=UTC:20231129T190000
DTEND;TZID=UTC:20231129T203000
DTSTAMP:20260425T035156
CREATED:20231101T174220Z
LAST-MODIFIED:20231101T174258Z
UID:4383-1701284400-1701289800@thesaintspub.com
SUMMARY:Line Dancing in The Sandpiper Room
DESCRIPTION:
URL:https://thesaintspub.com/event/line-dancing-in-the-sandpiper-room-53/
LOCATION:Pub\, Charlottesville\, VA 123456 United States\, Charlottesville\, United States
CATEGORIES:events
ORGANIZER;CN="Pub":MAILTO:pubzinne@example.com
END:VEVENT
BEGIN:VEVENT
DTSTART;TZID=UTC:20231129T183000
DTEND;TZID=UTC:20231129T213000
DTSTAMP:20260425T035156
CREATED:20231101T174156Z
LAST-MODIFIED:20231101T174242Z
UID:4381-1701282600-1701293400@thesaintspub.com
SUMMARY:Top Clown Karaoke
DESCRIPTION:
URL:https://thesaintspub.com/event/top-clown-karaoke-108/
LOCATION:Pub\, Charlottesville\, VA 123456 United States\, Charlottesville\, United States
CATEGORIES:events
ORGANIZER;CN="Pub":MAILTO:pubzinne@example.com
END:VEVENT
BEGIN:VEVENT
DTSTART;TZID=UTC:20231125T183000
DTEND;TZID=UTC:20231125T213000
DTSTAMP:20260425T035156
CREATED:20231101T174333Z
LAST-MODIFIED:20231101T174333Z
UID:4385-1700937000-1700947800@thesaintspub.com
SUMMARY:Scott Barreto
DESCRIPTION:
URL:https://thesaintspub.com/event/scott-barreto-13/
LOCATION:Pub\, Charlottesville\, VA 123456 United States\, Charlottesville\, United States
CATEGORIES:events
ORGANIZER;CN="Pub":MAILTO:pubzinne@example.com
END:VEVENT
BEGIN:VEVENT
DTSTART;TZID=UTC:20231124T183000
DTEND;TZID=UTC:20231124T213000
DTSTAMP:20260425T035156
CREATED:20231101T174414Z
LAST-MODIFIED:20231101T174414Z
UID:4387-1700850600-1700861400@thesaintspub.com
SUMMARY:DECADES
DESCRIPTION:
URL:https://thesaintspub.com/event/decades-27/
LOCATION:Pub\, Charlottesville\, VA 123456 United States\, Charlottesville\, United States
CATEGORIES:events
ORGANIZER;CN="Pub":MAILTO:pubzinne@example.com
END:VEVENT
BEGIN:VEVENT
DTSTART;TZID=UTC:20231122T190000
DTEND;TZID=UTC:20231122T203000
DTSTAMP:20260425T035156
CREATED:20231101T174125Z
LAST-MODIFIED:20231101T174125Z
UID:4379-1700679600-1700685000@thesaintspub.com
SUMMARY:Line Dancing in The Sandpiper Room
DESCRIPTION:
URL:https://thesaintspub.com/event/line-dancing-in-the-sandpiper-room-52/
LOCATION:Pub\, Charlottesville\, VA 123456 United States\, Charlottesville\, United States
CATEGORIES:events
ORGANIZER;CN="Pub":MAILTO:pubzinne@example.com
END:VEVENT
BEGIN:VEVENT
DTSTART;TZID=UTC:20231122T183000
DTEND;TZID=UTC:20231122T213000
DTSTAMP:20260425T035156
CREATED:20231101T174056Z
LAST-MODIFIED:20231101T174056Z
UID:4376-1700677800-1700688600@thesaintspub.com
SUMMARY:Top Clown Karaoke
DESCRIPTION:
URL:https://thesaintspub.com/event/top-clown-karaoke-107/
LOCATION:Pub\, Charlottesville\, VA 123456 United States\, Charlottesville\, United States
CATEGORIES:events
ORGANIZER;CN="Pub":MAILTO:pubzinne@example.com
END:VEVENT
BEGIN:VEVENT
DTSTART;TZID=UTC:20231118T183000
DTEND;TZID=UTC:20231118T213000
DTSTAMP:20260425T035156
CREATED:20231101T174007Z
LAST-MODIFIED:20231101T174007Z
UID:4374-1700332200-1700343000@thesaintspub.com
SUMMARY:Shaboom
DESCRIPTION:
URL:https://thesaintspub.com/event/shaboom-8/
LOCATION:Pub\, Charlottesville\, VA 123456 United States\, Charlottesville\, United States
CATEGORIES:events
ORGANIZER;CN="Pub":MAILTO:pubzinne@example.com
END:VEVENT
BEGIN:VEVENT
DTSTART;TZID=UTC:20231117T183000
DTEND;TZID=UTC:20231117T213000
DTSTAMP:20260425T035156
CREATED:20231101T173924Z
LAST-MODIFIED:20231101T173924Z
UID:4372-1700245800-1700256600@thesaintspub.com
SUMMARY:The Terri Hines Band
DESCRIPTION:
URL:https://thesaintspub.com/event/the-terri-hines-band-34/
LOCATION:Pub\, Charlottesville\, VA 123456 United States\, Charlottesville\, United States
CATEGORIES:events
ORGANIZER;CN="Pub":MAILTO:pubzinne@example.com
END:VEVENT
BEGIN:VEVENT
DTSTART;TZID=UTC:20231115T190000
DTEND;TZID=UTC:20231115T203000
DTSTAMP:20260425T035156
CREATED:20231020T152309Z
LAST-MODIFIED:20231020T152309Z
UID:4368-1700074800-1700080200@thesaintspub.com
SUMMARY:Line Dancing in The Sandpiper Room
DESCRIPTION:
URL:https://thesaintspub.com/event/line-dancing-in-the-sandpiper-room-51/
LOCATION:Pub\, Charlottesville\, VA 123456 United States\, Charlottesville\, United States
CATEGORIES:events
ORGANIZER;CN="Pub":MAILTO:pubzinne@example.com
END:VEVENT
BEGIN:VEVENT
DTSTART;TZID=UTC:20231115T183000
DTEND;TZID=UTC:20231115T213000
DTSTAMP:20260425T035156
CREATED:20231020T152249Z
LAST-MODIFIED:20231020T152249Z
UID:4366-1700073000-1700083800@thesaintspub.com
SUMMARY:Top Clown Karaoke
DESCRIPTION:
URL:https://thesaintspub.com/event/top-clown-karaoke-106/
LOCATION:Pub\, Charlottesville\, VA 123456 United States\, Charlottesville\, United States
CATEGORIES:events
ORGANIZER;CN="Pub":MAILTO:pubzinne@example.com
END:VEVENT
END:VCALENDAR