BEGIN:VCALENDAR
VERSION:2.0
PRODID:-//thesaintspub.com - ECPv6.15.20//NONSGML v1.0//EN
CALSCALE:GREGORIAN
METHOD:PUBLISH
X-ORIGINAL-URL:https://thesaintspub.com
X-WR-CALDESC:Events for thesaintspub.com
REFRESH-INTERVAL;VALUE=DURATION:PT1H
X-Robots-Tag:noindex
X-PUBLISHED-TTL:PT1H
BEGIN:VTIMEZONE
TZID:UTC
BEGIN:STANDARD
TZOFFSETFROM:+0000
TZOFFSETTO:+0000
TZNAME:UTC
DTSTART:20230101T000000
END:STANDARD
END:VTIMEZONE
BEGIN:VEVENT
DTSTART;TZID=UTC:20240103T183000
DTEND;TZID=UTC:20240103T213000
DTSTAMP:20260424T153950
CREATED:20231221T221343Z
LAST-MODIFIED:20231221T221343Z
UID:4435-1704306600-1704317400@thesaintspub.com
SUMMARY:Top Clown Karaoke
DESCRIPTION:
URL:https://thesaintspub.com/event/top-clown-karaoke-113/
LOCATION:Pub\, Charlottesville\, VA 123456 United States\, Charlottesville\, United States
CATEGORIES:events
ORGANIZER;CN="Pub":MAILTO:pubzinne@example.com
END:VEVENT
BEGIN:VEVENT
DTSTART;TZID=UTC:20240103T190000
DTEND;TZID=UTC:20240103T203000
DTSTAMP:20260424T153950
CREATED:20231221T221410Z
LAST-MODIFIED:20231221T221410Z
UID:4437-1704308400-1704313800@thesaintspub.com
SUMMARY:Line Dancing in The Sandpiper Room
DESCRIPTION:
URL:https://thesaintspub.com/event/line-dancing-in-the-sandpiper-room-58/
LOCATION:Pub\, Charlottesville\, VA 123456 United States\, Charlottesville\, United States
CATEGORIES:events
ORGANIZER;CN="Pub":MAILTO:pubzinne@example.com
END:VEVENT
BEGIN:VEVENT
DTSTART;TZID=UTC:20240105T183000
DTEND;TZID=UTC:20240105T213000
DTSTAMP:20260424T153950
CREATED:20231221T221549Z
LAST-MODIFIED:20231221T221549Z
UID:4439-1704479400-1704490200@thesaintspub.com
SUMMARY:Scott Barreto
DESCRIPTION:
URL:https://thesaintspub.com/event/scott-barreto-14/
LOCATION:Pub\, Charlottesville\, VA 123456 United States\, Charlottesville\, United States
CATEGORIES:events
ORGANIZER;CN="Pub":MAILTO:pubzinne@example.com
END:VEVENT
BEGIN:VEVENT
DTSTART;TZID=UTC:20240106T183000
DTEND;TZID=UTC:20240106T213000
DTSTAMP:20260424T153950
CREATED:20231221T221626Z
LAST-MODIFIED:20231221T221626Z
UID:4441-1704565800-1704576600@thesaintspub.com
SUMMARY:The Terri Hines Band
DESCRIPTION:
URL:https://thesaintspub.com/event/the-terri-hines-band-37/
LOCATION:Pub\, Charlottesville\, VA 123456 United States\, Charlottesville\, United States
CATEGORIES:events
ORGANIZER;CN="Pub":MAILTO:pubzinne@example.com
END:VEVENT
BEGIN:VEVENT
DTSTART;TZID=UTC:20240110T183000
DTEND;TZID=UTC:20240110T213000
DTSTAMP:20260424T153950
CREATED:20231221T221710Z
LAST-MODIFIED:20231221T221710Z
UID:4445-1704911400-1704922200@thesaintspub.com
SUMMARY:Top Clown Karaoke
DESCRIPTION:
URL:https://thesaintspub.com/event/top-clown-karaoke-114/
LOCATION:Pub\, Charlottesville\, VA 123456 United States\, Charlottesville\, United States
CATEGORIES:events
ORGANIZER;CN="Pub":MAILTO:pubzinne@example.com
END:VEVENT
BEGIN:VEVENT
DTSTART;TZID=UTC:20240110T190000
DTEND;TZID=UTC:20240110T203000
DTSTAMP:20260424T153950
CREATED:20231221T221650Z
LAST-MODIFIED:20231221T221650Z
UID:4443-1704913200-1704918600@thesaintspub.com
SUMMARY:Line Dancing in The Sandpiper Room
DESCRIPTION:
URL:https://thesaintspub.com/event/line-dancing-in-the-sandpiper-room-59/
LOCATION:Pub\, Charlottesville\, VA 123456 United States\, Charlottesville\, United States
CATEGORIES:events
ORGANIZER;CN="Pub":MAILTO:pubzinne@example.com
END:VEVENT
BEGIN:VEVENT
DTSTART;TZID=UTC:20240112T183000
DTEND;TZID=UTC:20240112T213000
DTSTAMP:20260424T153950
CREATED:20231221T221732Z
LAST-MODIFIED:20231221T221732Z
UID:4448-1705084200-1705095000@thesaintspub.com
SUMMARY:Big T
DESCRIPTION:
URL:https://thesaintspub.com/event/big-t-5/
LOCATION:Pub\, Charlottesville\, VA 123456 United States\, Charlottesville\, United States
CATEGORIES:events
ORGANIZER;CN="Pub":MAILTO:pubzinne@example.com
END:VEVENT
BEGIN:VEVENT
DTSTART;TZID=UTC:20240113T183000
DTEND;TZID=UTC:20240113T213000
DTSTAMP:20260424T153950
CREATED:20231221T221807Z
LAST-MODIFIED:20231221T221807Z
UID:4450-1705170600-1705181400@thesaintspub.com
SUMMARY:DECADES
DESCRIPTION:
URL:https://thesaintspub.com/event/decades-29/
LOCATION:Pub\, Charlottesville\, VA 123456 United States\, Charlottesville\, United States
CATEGORIES:events
ORGANIZER;CN="Pub":MAILTO:pubzinne@example.com
END:VEVENT
BEGIN:VEVENT
DTSTART;TZID=UTC:20240117T183000
DTEND;TZID=UTC:20240117T213000
DTSTAMP:20260424T153950
CREATED:20231221T221847Z
LAST-MODIFIED:20231221T221847Z
UID:4454-1705516200-1705527000@thesaintspub.com
SUMMARY:Top Clown Karaoke
DESCRIPTION:
URL:https://thesaintspub.com/event/top-clown-karaoke-115/
LOCATION:Pub\, Charlottesville\, VA 123456 United States\, Charlottesville\, United States
CATEGORIES:events
ORGANIZER;CN="Pub":MAILTO:pubzinne@example.com
END:VEVENT
BEGIN:VEVENT
DTSTART;TZID=UTC:20240117T190000
DTEND;TZID=UTC:20240117T203000
DTSTAMP:20260424T153950
CREATED:20231221T221828Z
LAST-MODIFIED:20231221T221828Z
UID:4452-1705518000-1705523400@thesaintspub.com
SUMMARY:Line Dancing in The Sandpiper Room
DESCRIPTION:
URL:https://thesaintspub.com/event/line-dancing-in-the-sandpiper-room-60/
LOCATION:Pub\, Charlottesville\, VA 123456 United States\, Charlottesville\, United States
CATEGORIES:events
ORGANIZER;CN="Pub":MAILTO:pubzinne@example.com
END:VEVENT
BEGIN:VEVENT
DTSTART;TZID=UTC:20240119T183000
DTEND;TZID=UTC:20240119T213000
DTSTAMP:20260424T153950
CREATED:20231221T221915Z
LAST-MODIFIED:20231221T221915Z
UID:4456-1705689000-1705699800@thesaintspub.com
SUMMARY:Shepherd-N-Green
DESCRIPTION:
URL:https://thesaintspub.com/event/shepherd-n-green-26/
LOCATION:Pub\, Charlottesville\, VA 123456 United States\, Charlottesville\, United States
CATEGORIES:events
ORGANIZER;CN="Pub":MAILTO:pubzinne@example.com
END:VEVENT
BEGIN:VEVENT
DTSTART;TZID=UTC:20240120T183000
DTEND;TZID=UTC:20240120T213000
DTSTAMP:20260424T153950
CREATED:20231221T221951Z
LAST-MODIFIED:20231221T221951Z
UID:4458-1705775400-1705786200@thesaintspub.com
SUMMARY:Shaboom
DESCRIPTION:
URL:https://thesaintspub.com/event/shaboom-10/
LOCATION:Pub\, Charlottesville\, VA 123456 United States\, Charlottesville\, United States
CATEGORIES:events
ORGANIZER;CN="Pub":MAILTO:pubzinne@example.com
END:VEVENT
BEGIN:VEVENT
DTSTART;TZID=UTC:20240124T183000
DTEND;TZID=UTC:20240124T213000
DTSTAMP:20260424T153950
CREATED:20231221T222131Z
LAST-MODIFIED:20231221T222131Z
UID:4466-1706121000-1706131800@thesaintspub.com
SUMMARY:Top Clown Karaoke
DESCRIPTION:
URL:https://thesaintspub.com/event/top-clown-karaoke-116/
LOCATION:Pub\, Charlottesville\, VA 123456 United States\, Charlottesville\, United States
CATEGORIES:events
ORGANIZER;CN="Pub":MAILTO:pubzinne@example.com
END:VEVENT
BEGIN:VEVENT
DTSTART;TZID=UTC:20240124T190000
DTEND;TZID=UTC:20240124T203000
DTSTAMP:20260424T153950
CREATED:20231221T222103Z
LAST-MODIFIED:20231221T222103Z
UID:4464-1706122800-1706128200@thesaintspub.com
SUMMARY:Line Dancing in The Sandpiper Room
DESCRIPTION:
URL:https://thesaintspub.com/event/line-dancing-in-the-sandpiper-room-61/
LOCATION:Pub\, Charlottesville\, VA 123456 United States\, Charlottesville\, United States
CATEGORIES:events
ORGANIZER;CN="Pub":MAILTO:pubzinne@example.com
END:VEVENT
BEGIN:VEVENT
DTSTART;TZID=UTC:20240126T183000
DTEND;TZID=UTC:20240126T213000
DTSTAMP:20260424T153950
CREATED:20231221T222014Z
LAST-MODIFIED:20231221T222014Z
UID:4460-1706293800-1706304600@thesaintspub.com
SUMMARY:Big T
DESCRIPTION:
URL:https://thesaintspub.com/event/big-t-6/
LOCATION:Pub\, Charlottesville\, VA 123456 United States\, Charlottesville\, United States
CATEGORIES:events
ORGANIZER;CN="Pub":MAILTO:pubzinne@example.com
END:VEVENT
BEGIN:VEVENT
DTSTART;TZID=UTC:20240127T183000
DTEND;TZID=UTC:20240127T213000
DTSTAMP:20260424T153950
CREATED:20231221T222035Z
LAST-MODIFIED:20231221T222035Z
UID:4462-1706380200-1706391000@thesaintspub.com
SUMMARY:The Terri Hines Band
DESCRIPTION:
URL:https://thesaintspub.com/event/the-terri-hines-band-38/
LOCATION:Pub\, Charlottesville\, VA 123456 United States\, Charlottesville\, United States
CATEGORIES:events
ORGANIZER;CN="Pub":MAILTO:pubzinne@example.com
END:VEVENT
BEGIN:VEVENT
DTSTART;TZID=UTC:20240131T183000
DTEND;TZID=UTC:20240131T213000
DTSTAMP:20260424T153950
CREATED:20231221T222225Z
LAST-MODIFIED:20231221T222225Z
UID:4470-1706725800-1706736600@thesaintspub.com
SUMMARY:Top Clown Karaoke
DESCRIPTION:
URL:https://thesaintspub.com/event/top-clown-karaoke-117/
LOCATION:Pub\, Charlottesville\, VA 123456 United States\, Charlottesville\, United States
CATEGORIES:events
ORGANIZER;CN="Pub":MAILTO:pubzinne@example.com
END:VEVENT
BEGIN:VEVENT
DTSTART;TZID=UTC:20240131T190000
DTEND;TZID=UTC:20240131T203000
DTSTAMP:20260424T153950
CREATED:20231221T222159Z
LAST-MODIFIED:20231221T222159Z
UID:4468-1706727600-1706733000@thesaintspub.com
SUMMARY:Line Dancing in The Sandpiper Room
DESCRIPTION:
URL:https://thesaintspub.com/event/line-dancing-in-the-sandpiper-room-62/
LOCATION:Pub\, Charlottesville\, VA 123456 United States\, Charlottesville\, United States
CATEGORIES:events
ORGANIZER;CN="Pub":MAILTO:pubzinne@example.com
END:VEVENT
END:VCALENDAR