BEGIN:VCALENDAR
VERSION:2.0
PRODID:-//thesaintspub.com - ECPv6.15.20//NONSGML v1.0//EN
CALSCALE:GREGORIAN
METHOD:PUBLISH
X-WR-CALNAME:thesaintspub.com
X-ORIGINAL-URL:https://thesaintspub.com
X-WR-CALDESC:Events for thesaintspub.com
REFRESH-INTERVAL;VALUE=DURATION:PT1H
X-Robots-Tag:noindex
X-PUBLISHED-TTL:PT1H
BEGIN:VTIMEZONE
TZID:UTC
BEGIN:STANDARD
TZOFFSETFROM:+0000
TZOFFSETTO:+0000
TZNAME:UTC
DTSTART:20230101T000000
END:STANDARD
END:VTIMEZONE
BEGIN:VEVENT
DTSTART;TZID=UTC:20240904T183000
DTEND;TZID=UTC:20240904T213000
DTSTAMP:20260423T233307
CREATED:20240819T015122Z
LAST-MODIFIED:20240819T015122Z
UID:5423-1725474600-1725485400@thesaintspub.com
SUMMARY:Top Clown Karaoke
DESCRIPTION:
URL:https://thesaintspub.com/event/top-clown-karaoke-147/
LOCATION:The Saints Pub\, 2601 SE Morningside Blvd\, Port St. Lucie\, FL\, 34952\, United States
CATEGORIES:events
ORGANIZER;CN="The Saints Pub":MAILTO:info@thesaintspub.com
END:VEVENT
BEGIN:VEVENT
DTSTART;TZID=UTC:20240904T190000
DTEND;TZID=UTC:20240904T203000
DTSTAMP:20260423T233307
CREATED:20240819T015306Z
LAST-MODIFIED:20240819T015306Z
UID:5429-1725476400-1725481800@thesaintspub.com
SUMMARY:Line Dancing in The Sandpiper Room
DESCRIPTION:
URL:https://thesaintspub.com/event/line-dancing-in-the-sandpiper-room-93/
LOCATION:The Saints Pub\, 2601 SE Morningside Blvd\, Port St. Lucie\, FL\, 34952\, United States
CATEGORIES:events
ORGANIZER;CN="The Saints Pub":MAILTO:info@thesaintspub.com
END:VEVENT
BEGIN:VEVENT
DTSTART;TZID=UTC:20240906T183000
DTEND;TZID=UTC:20240906T213000
DTSTAMP:20260423T233307
CREATED:20240819T014943Z
LAST-MODIFIED:20240819T014943Z
UID:5419-1725647400-1725658200@thesaintspub.com
SUMMARY:J-Roxx
DESCRIPTION:
URL:https://thesaintspub.com/event/j-roxx-2/
LOCATION:The Saints Pub\, 2601 SE Morningside Blvd\, Port St. Lucie\, FL\, 34952\, United States
CATEGORIES:events
ORGANIZER;CN="The Saints Pub":MAILTO:info@thesaintspub.com
END:VEVENT
BEGIN:VEVENT
DTSTART;TZID=UTC:20240907T183000
DTEND;TZID=UTC:20240907T213000
DTSTAMP:20260423T233307
CREATED:20240819T015004Z
LAST-MODIFIED:20240819T015004Z
UID:5421-1725733800-1725744600@thesaintspub.com
SUMMARY:The Terri Hines Band
DESCRIPTION:
URL:https://thesaintspub.com/event/the-terri-hines-band-54/
LOCATION:The Saints Pub\, 2601 SE Morningside Blvd\, Port St. Lucie\, FL\, 34952\, United States
CATEGORIES:events
ORGANIZER;CN="The Saints Pub":MAILTO:info@thesaintspub.com
END:VEVENT
BEGIN:VEVENT
DTSTART;TZID=UTC:20240911T183000
DTEND;TZID=UTC:20240911T213000
DTSTAMP:20260423T233307
CREATED:20240819T015201Z
LAST-MODIFIED:20240819T015201Z
UID:5425-1726079400-1726090200@thesaintspub.com
SUMMARY:Top Clown Karaoke
DESCRIPTION:
URL:https://thesaintspub.com/event/top-clown-karaoke-148/
LOCATION:The Saints Pub\, 2601 SE Morningside Blvd\, Port St. Lucie\, FL\, 34952\, United States
CATEGORIES:events
ORGANIZER;CN="The Saints Pub":MAILTO:info@thesaintspub.com
END:VEVENT
BEGIN:VEVENT
DTSTART;TZID=UTC:20240911T190000
DTEND;TZID=UTC:20240911T203000
DTSTAMP:20260423T233307
CREATED:20240819T015230Z
LAST-MODIFIED:20240819T015230Z
UID:5427-1726081200-1726086600@thesaintspub.com
SUMMARY:Line Dancing in The Sandpiper Room
DESCRIPTION:
URL:https://thesaintspub.com/event/line-dancing-in-the-sandpiper-room-92/
LOCATION:The Saints Pub\, 2601 SE Morningside Blvd\, Port St. Lucie\, FL\, 34952\, United States
CATEGORIES:events
ORGANIZER;CN="The Saints Pub":MAILTO:info@thesaintspub.com
END:VEVENT
BEGIN:VEVENT
DTSTART;TZID=UTC:20240912T183000
DTEND;TZID=UTC:20240912T203000
DTSTAMP:20260423T233307
CREATED:20240819T020026Z
LAST-MODIFIED:20240819T153929Z
UID:5443-1726165800-1726173000@thesaintspub.com
SUMMARY:Quiz Wiz Free Trivia with Prizes
DESCRIPTION:
URL:https://thesaintspub.com/event/quiz-wiz-free-trivia-with-prizes-2/
LOCATION:The Saints Pub\, 2601 SE Morningside Blvd\, Port St. Lucie\, FL\, 34952\, United States
CATEGORIES:events
ORGANIZER;CN="The Saints Pub":MAILTO:info@thesaintspub.com
END:VEVENT
BEGIN:VEVENT
DTSTART;TZID=UTC:20240913T183000
DTEND;TZID=UTC:20240913T213000
DTSTAMP:20260423T233307
CREATED:20240819T015402Z
LAST-MODIFIED:20240819T015402Z
UID:5431-1726252200-1726263000@thesaintspub.com
SUMMARY:Alita & The Boyz
DESCRIPTION:
URL:https://thesaintspub.com/event/alita-the-boyz-6/
LOCATION:The Saints Pub\, 2601 SE Morningside Blvd\, Port St. Lucie\, FL\, 34952\, United States
CATEGORIES:events
ORGANIZER;CN="The Saints Pub":MAILTO:info@thesaintspub.com
END:VEVENT
BEGIN:VEVENT
DTSTART;TZID=UTC:20240914T183000
DTEND;TZID=UTC:20240914T213000
DTSTAMP:20260423T233307
CREATED:20240819T015430Z
LAST-MODIFIED:20240819T015430Z
UID:5433-1726338600-1726349400@thesaintspub.com
SUMMARY:Shepherd-N-Green
DESCRIPTION:
URL:https://thesaintspub.com/event/shepherd-n-green-37/
LOCATION:The Saints Pub\, 2601 SE Morningside Blvd\, Port St. Lucie\, FL\, 34952\, United States
CATEGORIES:events
ORGANIZER;CN="The Saints Pub":MAILTO:info@thesaintspub.com
END:VEVENT
BEGIN:VEVENT
DTSTART;TZID=UTC:20240918T183000
DTEND;TZID=UTC:20240918T213000
DTSTAMP:20260423T233307
CREATED:20240819T015458Z
LAST-MODIFIED:20240819T015458Z
UID:5435-1726684200-1726695000@thesaintspub.com
SUMMARY:Top Clown Karaoke
DESCRIPTION:
URL:https://thesaintspub.com/event/top-clown-karaoke-149/
LOCATION:The Saints Pub\, 2601 SE Morningside Blvd\, Port St. Lucie\, FL\, 34952\, United States
CATEGORIES:events
ORGANIZER;CN="The Saints Pub":MAILTO:info@thesaintspub.com
END:VEVENT
BEGIN:VEVENT
DTSTART;TZID=UTC:20240918T190000
DTEND;TZID=UTC:20240918T203000
DTSTAMP:20260423T233307
CREATED:20240819T015530Z
LAST-MODIFIED:20240819T015530Z
UID:5437-1726686000-1726691400@thesaintspub.com
SUMMARY:Line Dancing in The Sandpiper Room
DESCRIPTION:
URL:https://thesaintspub.com/event/line-dancing-in-the-sandpiper-room-94/
LOCATION:The Saints Pub\, 2601 SE Morningside Blvd\, Port St. Lucie\, FL\, 34952\, United States
CATEGORIES:events
ORGANIZER;CN="The Saints Pub":MAILTO:info@thesaintspub.com
END:VEVENT
BEGIN:VEVENT
DTSTART;TZID=UTC:20240919T183000
DTEND;TZID=UTC:20240919T203000
DTSTAMP:20260423T233307
CREATED:20240819T015931Z
LAST-MODIFIED:20240819T153901Z
UID:5441-1726770600-1726777800@thesaintspub.com
SUMMARY:Quiz Wiz Free Trivia with Prizes
DESCRIPTION:
URL:https://thesaintspub.com/event/quiz-wiz-free-trivia-with-prizes/
LOCATION:The Saints Pub\, 2601 SE Morningside Blvd\, Port St. Lucie\, FL\, 34952\, United States
CATEGORIES:events
ORGANIZER;CN="The Saints Pub":MAILTO:info@thesaintspub.com
END:VEVENT
BEGIN:VEVENT
DTSTART;TZID=UTC:20240920T183000
DTEND;TZID=UTC:20240920T213000
DTSTAMP:20260423T233307
CREATED:20240819T015621Z
LAST-MODIFIED:20240819T015621Z
UID:5439-1726857000-1726867800@thesaintspub.com
SUMMARY:The Terri Hines Band
DESCRIPTION:
URL:https://thesaintspub.com/event/the-terri-hines-band-55/
LOCATION:The Saints Pub\, 2601 SE Morningside Blvd\, Port St. Lucie\, FL\, 34952\, United States
CATEGORIES:events
ORGANIZER;CN="The Saints Pub":MAILTO:info@thesaintspub.com
END:VEVENT
BEGIN:VEVENT
DTSTART;TZID=UTC:20240921T183000
DTEND;TZID=UTC:20240921T213000
DTSTAMP:20260423T233307
CREATED:20240912T150616Z
LAST-MODIFIED:20240912T150616Z
UID:5450-1726943400-1726954200@thesaintspub.com
SUMMARY:Shaboom
DESCRIPTION:
URL:https://thesaintspub.com/event/shaboom-17/
LOCATION:The Saints Pub\, 2601 SE Morningside Blvd\, Port St. Lucie\, FL\, 34952\, United States
CATEGORIES:events
ORGANIZER;CN="The Saints Pub":MAILTO:info@thesaintspub.com
END:VEVENT
BEGIN:VEVENT
DTSTART;TZID=UTC:20240925T183000
DTEND;TZID=UTC:20240925T213000
DTSTAMP:20260423T233307
CREATED:20240912T150729Z
LAST-MODIFIED:20240912T150729Z
UID:5452-1727289000-1727299800@thesaintspub.com
SUMMARY:Top Clown Karaoke
DESCRIPTION:
URL:https://thesaintspub.com/event/top-clown-karaoke-150/
LOCATION:The Saints Pub\, 2601 SE Morningside Blvd\, Port St. Lucie\, FL\, 34952\, United States
CATEGORIES:events
ORGANIZER;CN="The Saints Pub":MAILTO:info@thesaintspub.com
END:VEVENT
BEGIN:VEVENT
DTSTART;TZID=UTC:20240925T190000
DTEND;TZID=UTC:20240925T203000
DTSTAMP:20260423T233307
CREATED:20240912T150757Z
LAST-MODIFIED:20240912T150757Z
UID:5454-1727290800-1727296200@thesaintspub.com
SUMMARY:Line Dancing in The Sandpiper Room
DESCRIPTION:
URL:https://thesaintspub.com/event/line-dancing-in-the-sandpiper-room-95/
LOCATION:The Saints Pub\, 2601 SE Morningside Blvd\, Port St. Lucie\, FL\, 34952\, United States
CATEGORIES:events
ORGANIZER;CN="The Saints Pub":MAILTO:info@thesaintspub.com
END:VEVENT
BEGIN:VEVENT
DTSTART;TZID=UTC:20240926T180000
DTEND;TZID=UTC:20240926T210000
DTSTAMP:20260423T233307
CREATED:20240912T150905Z
LAST-MODIFIED:20240912T150905Z
UID:5456-1727373600-1727384400@thesaintspub.com
SUMMARY:Musical Bingo
DESCRIPTION:
URL:https://thesaintspub.com/event/musical-bingo/
LOCATION:The Saints Pub\, 2601 SE Morningside Blvd\, Port St. Lucie\, FL\, 34952\, United States
CATEGORIES:events
ORGANIZER;CN="The Saints Pub":MAILTO:info@thesaintspub.com
END:VEVENT
BEGIN:VEVENT
DTSTART;TZID=UTC:20240927T180000
DTEND;TZID=UTC:20240927T200000
DTSTAMP:20260423T233307
CREATED:20240802T175428Z
LAST-MODIFIED:20240802T175510Z
UID:5411-1727460000-1727467200@thesaintspub.com
SUMMARY:Musical Bingo Kickoff with Making Strides Against Breast Cancer
DESCRIPTION:
URL:https://thesaintspub.com/event/musical-bingo-kickoff-with-making-strides-against-breast-cancer/
LOCATION:The Saints Pub\, 2601 SE Morningside Blvd\, Port St. Lucie\, FL\, 34952\, United States
CATEGORIES:events
ORGANIZER;CN="The Saints Pub":MAILTO:info@thesaintspub.com
END:VEVENT
BEGIN:VEVENT
DTSTART;TZID=UTC:20240927T183000
DTEND;TZID=UTC:20240927T213000
DTSTAMP:20260423T233307
CREATED:20240912T151002Z
LAST-MODIFIED:20240912T151002Z
UID:5458-1727461800-1727472600@thesaintspub.com
SUMMARY:Albert & Juan
DESCRIPTION:
URL:https://thesaintspub.com/event/albert-juan-6/
LOCATION:The Saints Pub\, 2601 SE Morningside Blvd\, Port St. Lucie\, FL\, 34952\, United States
CATEGORIES:events
ORGANIZER;CN="The Saints Pub":MAILTO:info@thesaintspub.com
END:VEVENT
BEGIN:VEVENT
DTSTART;TZID=UTC:20240927T183000
DTEND;TZID=UTC:20240927T213000
DTSTAMP:20260423T233307
CREATED:20240912T151045Z
LAST-MODIFIED:20240912T151045Z
UID:5460-1727461800-1727472600@thesaintspub.com
SUMMARY:Big T
DESCRIPTION:
URL:https://thesaintspub.com/event/big-t-16/
LOCATION:The Saints Pub\, 2601 SE Morningside Blvd\, Port St. Lucie\, FL\, 34952\, United States
CATEGORIES:events
ORGANIZER;CN="The Saints Pub":MAILTO:info@thesaintspub.com
END:VEVENT
END:VCALENDAR