BEGIN:VCALENDAR
VERSION:2.0
PRODID:-//thesaintspub.com - ECPv6.15.20//NONSGML v1.0//EN
CALSCALE:GREGORIAN
METHOD:PUBLISH
X-WR-CALNAME:thesaintspub.com
X-ORIGINAL-URL:https://thesaintspub.com
X-WR-CALDESC:Events for thesaintspub.com
REFRESH-INTERVAL;VALUE=DURATION:PT1H
X-Robots-Tag:noindex
X-PUBLISHED-TTL:PT1H
BEGIN:VTIMEZONE
TZID:UTC
BEGIN:STANDARD
TZOFFSETFROM:+0000
TZOFFSETTO:+0000
TZNAME:UTC
DTSTART:20230101T000000
END:STANDARD
END:VTIMEZONE
BEGIN:VEVENT
DTSTART;TZID=UTC:20241002T183000
DTEND;TZID=UTC:20241002T213000
DTSTAMP:20260423T215858
CREATED:20240912T151121Z
LAST-MODIFIED:20240912T151121Z
UID:5462-1727893800-1727904600@thesaintspub.com
SUMMARY:Top Clown Karaoke
DESCRIPTION:
URL:https://thesaintspub.com/event/top-clown-karaoke-151/
LOCATION:The Saints Pub\, 2601 SE Morningside Blvd\, Port St. Lucie\, FL\, 34952\, United States
CATEGORIES:events
ORGANIZER;CN="The Saints Pub":MAILTO:info@thesaintspub.com
END:VEVENT
BEGIN:VEVENT
DTSTART;TZID=UTC:20241002T190000
DTEND;TZID=UTC:20241002T203000
DTSTAMP:20260423T215858
CREATED:20240912T151157Z
LAST-MODIFIED:20240912T151157Z
UID:5464-1727895600-1727901000@thesaintspub.com
SUMMARY:Line Dancing in The Sandpiper Room
DESCRIPTION:
URL:https://thesaintspub.com/event/line-dancing-in-the-sandpiper-room-96/
LOCATION:The Saints Pub\, 2601 SE Morningside Blvd\, Port St. Lucie\, FL\, 34952\, United States
CATEGORIES:events
ORGANIZER;CN="The Saints Pub":MAILTO:info@thesaintspub.com
END:VEVENT
BEGIN:VEVENT
DTSTART;TZID=UTC:20241003T183000
DTEND;TZID=UTC:20241003T213000
DTSTAMP:20260423T215858
CREATED:20240912T151302Z
LAST-MODIFIED:20240912T151302Z
UID:5466-1727980200-1727991000@thesaintspub.com
SUMMARY:Cup of Joes Band
DESCRIPTION:
URL:https://thesaintspub.com/event/cup-of-joes-band/
LOCATION:The Saints Pub\, 2601 SE Morningside Blvd\, Port St. Lucie\, FL\, 34952\, United States
CATEGORIES:events
ORGANIZER;CN="The Saints Pub":MAILTO:info@thesaintspub.com
END:VEVENT
BEGIN:VEVENT
DTSTART;TZID=UTC:20241004T183000
DTEND;TZID=UTC:20241004T213000
DTSTAMP:20260423T215858
CREATED:20240912T151355Z
LAST-MODIFIED:20240912T151355Z
UID:5468-1728066600-1728077400@thesaintspub.com
SUMMARY:JROX
DESCRIPTION:
URL:https://thesaintspub.com/event/jrox-2/
LOCATION:The Saints Pub\, 2601 SE Morningside Blvd\, Port St. Lucie\, FL\, 34952\, United States
CATEGORIES:events
ORGANIZER;CN="The Saints Pub":MAILTO:info@thesaintspub.com
END:VEVENT
BEGIN:VEVENT
DTSTART;TZID=UTC:20241005T183000
DTEND;TZID=UTC:20241005T213000
DTSTAMP:20260423T215858
CREATED:20240912T151431Z
LAST-MODIFIED:20240912T151431Z
UID:5470-1728153000-1728163800@thesaintspub.com
SUMMARY:The Terri Hines Band
DESCRIPTION:
URL:https://thesaintspub.com/event/the-terri-hines-band-56/
LOCATION:The Saints Pub\, 2601 SE Morningside Blvd\, Port St. Lucie\, FL\, 34952\, United States
CATEGORIES:events
ORGANIZER;CN="The Saints Pub":MAILTO:info@thesaintspub.com
END:VEVENT
BEGIN:VEVENT
DTSTART;TZID=UTC:20241009T183000
DTEND;TZID=UTC:20241009T213000
DTSTAMP:20260423T215858
CREATED:20240912T151510Z
LAST-MODIFIED:20240912T151510Z
UID:5472-1728498600-1728509400@thesaintspub.com
SUMMARY:Top Clown Karaoke
DESCRIPTION:
URL:https://thesaintspub.com/event/top-clown-karaoke-152/
LOCATION:The Saints Pub\, 2601 SE Morningside Blvd\, Port St. Lucie\, FL\, 34952\, United States
CATEGORIES:events
ORGANIZER;CN="The Saints Pub":MAILTO:info@thesaintspub.com
END:VEVENT
BEGIN:VEVENT
DTSTART;TZID=UTC:20241009T190000
DTEND;TZID=UTC:20241009T203000
DTSTAMP:20260423T215858
CREATED:20240912T151547Z
LAST-MODIFIED:20240912T151547Z
UID:5474-1728500400-1728505800@thesaintspub.com
SUMMARY:Line Dancing in The Sandpiper Room
DESCRIPTION:
URL:https://thesaintspub.com/event/line-dancing-in-the-sandpiper-room-97/
LOCATION:The Saints Pub\, 2601 SE Morningside Blvd\, Port St. Lucie\, FL\, 34952\, United States
CATEGORIES:events
ORGANIZER;CN="The Saints Pub":MAILTO:info@thesaintspub.com
END:VEVENT
BEGIN:VEVENT
DTSTART;TZID=UTC:20241010T183000
DTEND;TZID=UTC:20241010T203000
DTSTAMP:20260423T215858
CREATED:20240912T151626Z
LAST-MODIFIED:20240912T151626Z
UID:5476-1728585000-1728592200@thesaintspub.com
SUMMARY:Quiz Wiz Free Trivia with Prizes
DESCRIPTION:
URL:https://thesaintspub.com/event/quiz-wiz-free-trivia-with-prizes-3/
LOCATION:The Saints Pub\, 2601 SE Morningside Blvd\, Port St. Lucie\, FL\, 34952\, United States
CATEGORIES:events
ORGANIZER;CN="The Saints Pub":MAILTO:info@thesaintspub.com
END:VEVENT
BEGIN:VEVENT
DTSTART;TZID=UTC:20241011T183000
DTEND;TZID=UTC:20241011T213000
DTSTAMP:20260423T215858
CREATED:20240912T151737Z
LAST-MODIFIED:20240912T151737Z
UID:5478-1728671400-1728682200@thesaintspub.com
SUMMARY:Alita & The Boyz
DESCRIPTION:
URL:https://thesaintspub.com/event/alita-the-boyz-7/
LOCATION:The Saints Pub\, 2601 SE Morningside Blvd\, Port St. Lucie\, FL\, 34952\, United States
CATEGORIES:events
ORGANIZER;CN="The Saints Pub":MAILTO:info@thesaintspub.com
END:VEVENT
BEGIN:VEVENT
DTSTART;TZID=UTC:20241012T183000
DTEND;TZID=UTC:20241012T213000
DTSTAMP:20260423T215858
CREATED:20240912T151951Z
LAST-MODIFIED:20240912T151951Z
UID:5480-1728757800-1728768600@thesaintspub.com
SUMMARY:Shepherd-N-Green
DESCRIPTION:
URL:https://thesaintspub.com/event/shepherd-n-green-38/
LOCATION:The Saints Pub\, 2601 SE Morningside Blvd\, Port St. Lucie\, FL\, 34952\, United States
CATEGORIES:events
ORGANIZER;CN="The Saints Pub":MAILTO:info@thesaintspub.com
END:VEVENT
BEGIN:VEVENT
DTSTART;TZID=UTC:20241016T183000
DTEND;TZID=UTC:20241016T213000
DTSTAMP:20260423T215858
CREATED:20241003T201629Z
LAST-MODIFIED:20241003T201629Z
UID:5486-1729103400-1729114200@thesaintspub.com
SUMMARY:Top Clown Karaoke
DESCRIPTION:
URL:https://thesaintspub.com/event/top-clown-karaoke-153/
LOCATION:The Saints Pub\, 2601 SE Morningside Blvd\, Port St. Lucie\, FL\, 34952\, United States
CATEGORIES:events
ORGANIZER;CN="The Saints Pub":MAILTO:info@thesaintspub.com
END:VEVENT
BEGIN:VEVENT
DTSTART;TZID=UTC:20241016T190000
DTEND;TZID=UTC:20241016T203000
DTSTAMP:20260423T215858
CREATED:20241003T201538Z
LAST-MODIFIED:20241003T201538Z
UID:5484-1729105200-1729110600@thesaintspub.com
SUMMARY:Line Dancing in The Sandpiper Room
DESCRIPTION:
URL:https://thesaintspub.com/event/line-dancing-in-the-sandpiper-room-98/
LOCATION:The Saints Pub\, 2601 SE Morningside Blvd\, Port St. Lucie\, FL\, 34952\, United States
CATEGORIES:events
ORGANIZER;CN="The Saints Pub":MAILTO:info@thesaintspub.com
END:VEVENT
BEGIN:VEVENT
DTSTART;TZID=UTC:20241017T180000
DTEND;TZID=UTC:20241017T210000
DTSTAMP:20260423T215858
CREATED:20241003T201719Z
LAST-MODIFIED:20241003T201719Z
UID:5488-1729188000-1729198800@thesaintspub.com
SUMMARY:Musical Bingo
DESCRIPTION:
URL:https://thesaintspub.com/event/musical-bingo-2/
LOCATION:The Saints Pub\, 2601 SE Morningside Blvd\, Port St. Lucie\, FL\, 34952\, United States
CATEGORIES:events
ORGANIZER;CN="The Saints Pub":MAILTO:info@thesaintspub.com
END:VEVENT
BEGIN:VEVENT
DTSTART;TZID=UTC:20241018T183000
DTEND;TZID=UTC:20241018T203000
DTSTAMP:20260423T215858
CREATED:20240827T161420Z
LAST-MODIFIED:20240827T161615Z
UID:5447-1729276200-1729283400@thesaintspub.com
SUMMARY:A Tupperware Party with Dixie Longate
DESCRIPTION:
URL:https://thesaintspub.com/event/a-tupperware-party-with-dixie-longate/
LOCATION:The Saints Pub\, 2601 SE Morningside Blvd\, Port St. Lucie\, FL\, 34952\, United States
CATEGORIES:events
ORGANIZER;CN="The Saints Pub":MAILTO:info@thesaintspub.com
END:VEVENT
BEGIN:VEVENT
DTSTART;TZID=UTC:20241018T183000
DTEND;TZID=UTC:20241018T213000
DTSTAMP:20260423T215858
CREATED:20241003T201816Z
LAST-MODIFIED:20241003T201816Z
UID:5490-1729276200-1729287000@thesaintspub.com
SUMMARY:JROX
DESCRIPTION:
URL:https://thesaintspub.com/event/jrox-3/
LOCATION:The Saints Pub\, 2601 SE Morningside Blvd\, Port St. Lucie\, FL\, 34952\, United States
CATEGORIES:events
ORGANIZER;CN="The Saints Pub":MAILTO:info@thesaintspub.com
END:VEVENT
BEGIN:VEVENT
DTSTART;TZID=UTC:20241019T183000
DTEND;TZID=UTC:20241019T213000
DTSTAMP:20260423T215858
CREATED:20241003T201907Z
LAST-MODIFIED:20241003T201907Z
UID:5492-1729362600-1729373400@thesaintspub.com
SUMMARY:Shaboom
DESCRIPTION:
URL:https://thesaintspub.com/event/shaboom-18/
LOCATION:The Saints Pub\, 2601 SE Morningside Blvd\, Port St. Lucie\, FL\, 34952\, United States
CATEGORIES:events
ORGANIZER;CN="The Saints Pub":MAILTO:info@thesaintspub.com
END:VEVENT
BEGIN:VEVENT
DTSTART;TZID=UTC:20241023T183000
DTEND;TZID=UTC:20241023T213000
DTSTAMP:20260423T215858
CREATED:20241003T201945Z
LAST-MODIFIED:20241003T201945Z
UID:5494-1729708200-1729719000@thesaintspub.com
SUMMARY:Top Clown Karaoke
DESCRIPTION:
URL:https://thesaintspub.com/event/top-clown-karaoke-154/
LOCATION:The Saints Pub\, 2601 SE Morningside Blvd\, Port St. Lucie\, FL\, 34952\, United States
CATEGORIES:events
ORGANIZER;CN="The Saints Pub":MAILTO:info@thesaintspub.com
END:VEVENT
BEGIN:VEVENT
DTSTART;TZID=UTC:20241023T190000
DTEND;TZID=UTC:20241023T203000
DTSTAMP:20260423T215858
CREATED:20241003T202015Z
LAST-MODIFIED:20241003T202015Z
UID:5496-1729710000-1729715400@thesaintspub.com
SUMMARY:Line Dancing in The Sandpiper Room
DESCRIPTION:
URL:https://thesaintspub.com/event/line-dancing-in-the-sandpiper-room-99/
LOCATION:The Saints Pub\, 2601 SE Morningside Blvd\, Port St. Lucie\, FL\, 34952\, United States
CATEGORIES:events
ORGANIZER;CN="The Saints Pub":MAILTO:info@thesaintspub.com
END:VEVENT
BEGIN:VEVENT
DTSTART;TZID=UTC:20241025T183000
DTEND;TZID=UTC:20241025T213000
DTSTAMP:20260423T215858
CREATED:20241003T202106Z
LAST-MODIFIED:20241003T202106Z
UID:5498-1729881000-1729891800@thesaintspub.com
SUMMARY:Joey and The Paradons
DESCRIPTION:
URL:https://thesaintspub.com/event/joey-and-the-paradons-2/
LOCATION:The Saints Pub\, 2601 SE Morningside Blvd\, Port St. Lucie\, FL\, 34952\, United States
CATEGORIES:events
ORGANIZER;CN="The Saints Pub":MAILTO:info@thesaintspub.com
END:VEVENT
BEGIN:VEVENT
DTSTART;TZID=UTC:20241026T183000
DTEND;TZID=UTC:20241026T213000
DTSTAMP:20260423T215858
CREATED:20241003T202148Z
LAST-MODIFIED:20241003T202148Z
UID:5500-1729967400-1729978200@thesaintspub.com
SUMMARY:Terri Hines Halloween Dance Party
DESCRIPTION:
URL:https://thesaintspub.com/event/the-terri-hines-band-dance/
LOCATION:The Saints Pub\, 2601 SE Morningside Blvd\, Port St. Lucie\, FL\, 34952\, United States
CATEGORIES:events
ORGANIZER;CN="The Saints Pub":MAILTO:info@thesaintspub.com
END:VEVENT
BEGIN:VEVENT
DTSTART;TZID=UTC:20241030T183000
DTEND;TZID=UTC:20241030T213000
DTSTAMP:20260423T215858
CREATED:20241003T202223Z
LAST-MODIFIED:20241003T202223Z
UID:5502-1730313000-1730323800@thesaintspub.com
SUMMARY:Top Clown Karaoke
DESCRIPTION:
URL:https://thesaintspub.com/event/top-clown-karaoke-155/
LOCATION:The Saints Pub\, 2601 SE Morningside Blvd\, Port St. Lucie\, FL\, 34952\, United States
CATEGORIES:events
ORGANIZER;CN="The Saints Pub":MAILTO:info@thesaintspub.com
END:VEVENT
BEGIN:VEVENT
DTSTART;TZID=UTC:20241030T190000
DTEND;TZID=UTC:20241030T203000
DTSTAMP:20260423T215858
CREATED:20241003T202248Z
LAST-MODIFIED:20241003T202248Z
UID:5504-1730314800-1730320200@thesaintspub.com
SUMMARY:Line Dancing in The Sandpiper Room
DESCRIPTION:
URL:https://thesaintspub.com/event/line-dancing-in-the-sandpiper-room-100/
LOCATION:The Saints Pub\, 2601 SE Morningside Blvd\, Port St. Lucie\, FL\, 34952\, United States
CATEGORIES:events
ORGANIZER;CN="The Saints Pub":MAILTO:info@thesaintspub.com
END:VEVENT
BEGIN:VEVENT
DTSTART;TZID=UTC:20241031T183000
DTEND;TZID=UTC:20241031T203000
DTSTAMP:20260423T215858
CREATED:20241003T202327Z
LAST-MODIFIED:20241003T202327Z
UID:5506-1730399400-1730406600@thesaintspub.com
SUMMARY:Quiz Wiz Free Trivia with Prizes
DESCRIPTION:
URL:https://thesaintspub.com/event/quiz-wiz-free-trivia-with-prizes-4/
LOCATION:The Saints Pub\, 2601 SE Morningside Blvd\, Port St. Lucie\, FL\, 34952\, United States
CATEGORIES:events
ORGANIZER;CN="The Saints Pub":MAILTO:info@thesaintspub.com
END:VEVENT
END:VCALENDAR