BEGIN:VCALENDAR
VERSION:2.0
PRODID:-//thesaintspub.com - ECPv6.15.20//NONSGML v1.0//EN
CALSCALE:GREGORIAN
METHOD:PUBLISH
X-WR-CALNAME:thesaintspub.com
X-ORIGINAL-URL:https://thesaintspub.com
X-WR-CALDESC:Events for thesaintspub.com
REFRESH-INTERVAL;VALUE=DURATION:PT1H
X-Robots-Tag:noindex
X-PUBLISHED-TTL:PT1H
BEGIN:VTIMEZONE
TZID:UTC
BEGIN:STANDARD
TZOFFSETFROM:+0000
TZOFFSETTO:+0000
TZNAME:UTC
DTSTART:20230101T000000
END:STANDARD
END:VTIMEZONE
BEGIN:VEVENT
DTSTART;TZID=UTC:20241116T183000
DTEND;TZID=UTC:20241116T213000
DTSTAMP:20260423T201346
CREATED:20241111T141615Z
LAST-MODIFIED:20241111T141615Z
UID:5511-1731781800-1731792600@thesaintspub.com
SUMMARY:Shaboom
DESCRIPTION:
URL:https://thesaintspub.com/event/shaboom-19/
LOCATION:The Saints Pub\, 2601 SE Morningside Blvd\, Port St. Lucie\, FL\, 34952\, United States
CATEGORIES:events
ORGANIZER;CN="The Saints Pub":MAILTO:info@thesaintspub.com
END:VEVENT
BEGIN:VEVENT
DTSTART;TZID=UTC:20241120T183000
DTEND;TZID=UTC:20241120T213000
DTSTAMP:20260423T201346
CREATED:20241111T142415Z
LAST-MODIFIED:20241111T142415Z
UID:5513-1732127400-1732138200@thesaintspub.com
SUMMARY:Top Clown Karaoke
DESCRIPTION:
URL:https://thesaintspub.com/event/top-clown-karaoke-156/
LOCATION:The Saints Pub\, 2601 SE Morningside Blvd\, Port St. Lucie\, FL\, 34952\, United States
CATEGORIES:events
ORGANIZER;CN="The Saints Pub":MAILTO:info@thesaintspub.com
END:VEVENT
BEGIN:VEVENT
DTSTART;TZID=UTC:20241120T190000
DTEND;TZID=UTC:20241120T203000
DTSTAMP:20260423T201346
CREATED:20241111T142449Z
LAST-MODIFIED:20241111T142449Z
UID:5515-1732129200-1732134600@thesaintspub.com
SUMMARY:Line Dancing in The Sandpiper Room
DESCRIPTION:
URL:https://thesaintspub.com/event/line-dancing-in-the-sandpiper-room-101/
LOCATION:The Saints Pub\, 2601 SE Morningside Blvd\, Port St. Lucie\, FL\, 34952\, United States
CATEGORIES:events
ORGANIZER;CN="The Saints Pub":MAILTO:info@thesaintspub.com
END:VEVENT
BEGIN:VEVENT
DTSTART;TZID=UTC:20241121T180000
DTEND;TZID=UTC:20241121T210000
DTSTAMP:20260423T201346
CREATED:20241111T142532Z
LAST-MODIFIED:20241111T142532Z
UID:5517-1732212000-1732222800@thesaintspub.com
SUMMARY:Musical Bingo
DESCRIPTION:
URL:https://thesaintspub.com/event/musical-bingo-3/
LOCATION:The Saints Pub\, 2601 SE Morningside Blvd\, Port St. Lucie\, FL\, 34952\, United States
CATEGORIES:events
ORGANIZER;CN="The Saints Pub":MAILTO:info@thesaintspub.com
END:VEVENT
BEGIN:VEVENT
DTSTART;TZID=UTC:20241122T183000
DTEND;TZID=UTC:20241122T213000
DTSTAMP:20260423T201346
CREATED:20241111T142623Z
LAST-MODIFIED:20241111T142623Z
UID:5519-1732300200-1732311000@thesaintspub.com
SUMMARY:Joey and The Paradons
DESCRIPTION:
URL:https://thesaintspub.com/event/joey-and-the-paradons-3/
LOCATION:The Saints Pub\, 2601 SE Morningside Blvd\, Port St. Lucie\, FL\, 34952\, United States
CATEGORIES:events
ORGANIZER;CN="The Saints Pub":MAILTO:info@thesaintspub.com
END:VEVENT
BEGIN:VEVENT
DTSTART;TZID=UTC:20241123T183000
DTEND;TZID=UTC:20241123T213000
DTSTAMP:20260423T201346
CREATED:20241120T130359Z
LAST-MODIFIED:20241120T130359Z
UID:5560-1732386600-1732397400@thesaintspub.com
SUMMARY:J-Roxx
DESCRIPTION:
URL:https://thesaintspub.com/event/j-roxx-3/
LOCATION:The Saints Pub\, 2601 SE Morningside Blvd\, Port St. Lucie\, FL\, 34952\, United States
CATEGORIES:events
ORGANIZER;CN="The Saints Pub":MAILTO:info@thesaintspub.com
END:VEVENT
BEGIN:VEVENT
DTSTART;TZID=UTC:20241127T183000
DTEND;TZID=UTC:20241127T213000
DTSTAMP:20260423T201346
CREATED:20241111T142704Z
LAST-MODIFIED:20241111T142704Z
UID:5521-1732732200-1732743000@thesaintspub.com
SUMMARY:Top Clown Karaoke
DESCRIPTION:
URL:https://thesaintspub.com/event/top-clown-karaoke-157/
LOCATION:The Saints Pub\, 2601 SE Morningside Blvd\, Port St. Lucie\, FL\, 34952\, United States
CATEGORIES:events
ORGANIZER;CN="The Saints Pub":MAILTO:info@thesaintspub.com
END:VEVENT
BEGIN:VEVENT
DTSTART;TZID=UTC:20241127T190000
DTEND;TZID=UTC:20241127T203000
DTSTAMP:20260423T201346
CREATED:20241111T142725Z
LAST-MODIFIED:20241111T142725Z
UID:5523-1732734000-1732739400@thesaintspub.com
SUMMARY:Line Dancing in The Sandpiper Room
DESCRIPTION:
URL:https://thesaintspub.com/event/line-dancing-in-the-sandpiper-room-102/
LOCATION:The Saints Pub\, 2601 SE Morningside Blvd\, Port St. Lucie\, FL\, 34952\, United States
CATEGORIES:events
ORGANIZER;CN="The Saints Pub":MAILTO:info@thesaintspub.com
END:VEVENT
BEGIN:VEVENT
DTSTART;TZID=UTC:20241130T183000
DTEND;TZID=UTC:20241130T213000
DTSTAMP:20260423T201346
CREATED:20241111T143202Z
LAST-MODIFIED:20241111T143202Z
UID:5525-1732991400-1733002200@thesaintspub.com
SUMMARY:The Terri Hines Band
DESCRIPTION:
URL:https://thesaintspub.com/event/the-terri-hines-band-57/
LOCATION:The Saints Pub\, 2601 SE Morningside Blvd\, Port St. Lucie\, FL\, 34952\, United States
CATEGORIES:events
ORGANIZER;CN="The Saints Pub":MAILTO:info@thesaintspub.com
END:VEVENT
END:VCALENDAR