BEGIN:VCALENDAR
VERSION:2.0
PRODID:-//thesaintspub.com - ECPv6.15.20//NONSGML v1.0//EN
CALSCALE:GREGORIAN
METHOD:PUBLISH
X-ORIGINAL-URL:https://thesaintspub.com
X-WR-CALDESC:Events for thesaintspub.com
REFRESH-INTERVAL;VALUE=DURATION:PT1H
X-Robots-Tag:noindex
X-PUBLISHED-TTL:PT1H
BEGIN:VTIMEZONE
TZID:UTC
BEGIN:STANDARD
TZOFFSETFROM:+0000
TZOFFSETTO:+0000
TZNAME:UTC
DTSTART:20230101T000000
END:STANDARD
END:VTIMEZONE
BEGIN:VEVENT
DTSTART;TZID=UTC:20240403T183000
DTEND;TZID=UTC:20240403T213000
DTSTAMP:20260425T021100
CREATED:20240226T185327Z
LAST-MODIFIED:20240226T185327Z
UID:4558-1712169000-1712179800@thesaintspub.com
SUMMARY:Top Clown Karaoke
DESCRIPTION:
URL:https://thesaintspub.com/event/top-clown-karaoke-126/
LOCATION:Pub\, Charlottesville\, VA 123456 United States\, Charlottesville\, United States
CATEGORIES:events
ORGANIZER;CN="Pub":MAILTO:pubzinne@example.com
END:VEVENT
BEGIN:VEVENT
DTSTART;TZID=UTC:20240410T183000
DTEND;TZID=UTC:20240410T213000
DTSTAMP:20260425T021100
CREATED:20240226T185934Z
LAST-MODIFIED:20240226T185934Z
UID:4568-1712773800-1712784600@thesaintspub.com
SUMMARY:Top Clown Karaoke
DESCRIPTION:
URL:https://thesaintspub.com/event/top-clown-karaoke-127/
LOCATION:Pub\, Charlottesville\, VA 123456 United States\, Charlottesville\, United States
CATEGORIES:events
ORGANIZER;CN="Pub":MAILTO:pubzinne@example.com
END:VEVENT
BEGIN:VEVENT
DTSTART;TZID=UTC:20240417T183000
DTEND;TZID=UTC:20240417T213000
DTSTAMP:20260425T021100
CREATED:20240226T190328Z
LAST-MODIFIED:20240412T201136Z
UID:4576-1713378600-1713389400@thesaintspub.com
SUMMARY:Top Clown Karaoke
DESCRIPTION:
URL:https://thesaintspub.com/event/top-clown-karaoke-128/
LOCATION:The Saints Pub\, 2601 SE Morningside Blvd\, Port St. Lucie\, FL\, 34952\, United States
CATEGORIES:events
END:VEVENT
BEGIN:VEVENT
DTSTART;TZID=UTC:20240424T183000
DTEND;TZID=UTC:20240424T213000
DTSTAMP:20260425T021100
CREATED:20240226T190636Z
LAST-MODIFIED:20240412T201305Z
UID:4588-1713983400-1713994200@thesaintspub.com
SUMMARY:Top Clown Karaoke
DESCRIPTION:
URL:https://thesaintspub.com/event/top-clown-karaoke-129/
LOCATION:The Saints Pub\, 2601 SE Morningside Blvd\, Port St. Lucie\, FL\, 34952\, United States
CATEGORIES:events
END:VEVENT
END:VCALENDAR