BEGIN:VCALENDAR
VERSION:2.0
PRODID:-//thesaintspub.com - ECPv6.15.20//NONSGML v1.0//EN
CALSCALE:GREGORIAN
METHOD:PUBLISH
X-ORIGINAL-URL:https://thesaintspub.com
X-WR-CALDESC:Events for thesaintspub.com
REFRESH-INTERVAL;VALUE=DURATION:PT1H
X-Robots-Tag:noindex
X-PUBLISHED-TTL:PT1H
BEGIN:VTIMEZONE
TZID:UTC
BEGIN:STANDARD
TZOFFSETFROM:+0000
TZOFFSETTO:+0000
TZNAME:UTC
DTSTART:20240101T000000
END:STANDARD
END:VTIMEZONE
BEGIN:VEVENT
DTSTART;TZID=UTC:20250501T180000
DTEND;TZID=UTC:20250501T210000
DTSTAMP:20260423T114346
CREATED:20250429T140645Z
LAST-MODIFIED:20250429T140645Z
UID:5830-1746122400-1746133200@thesaintspub.com
SUMMARY:Cup of Joe's
DESCRIPTION:
URL:https://thesaintspub.com/event/cup-of-joes/
LOCATION:The Saints Pub\, 2601 SE Morningside Blvd\, Port St. Lucie\, FL\, 34952\, United States
CATEGORIES:events
ORGANIZER;CN="The Saints Pub":MAILTO:info@thesaintspub.com
END:VEVENT
BEGIN:VEVENT
DTSTART;TZID=UTC:20250502T183000
DTEND;TZID=UTC:20250502T213000
DTSTAMP:20260423T114346
CREATED:20250401T151818Z
LAST-MODIFIED:20250401T151818Z
UID:5746-1746210600-1746221400@thesaintspub.com
SUMMARY:Joey and The Paradons
DESCRIPTION:
URL:https://thesaintspub.com/event/joey-and-the-paradons-9/
LOCATION:The Saints Pub\, 2601 SE Morningside Blvd\, Port St. Lucie\, FL\, 34952\, United States
CATEGORIES:events
ORGANIZER;CN="The Saints Pub":MAILTO:info@thesaintspub.com
END:VEVENT
BEGIN:VEVENT
DTSTART;TZID=UTC:20250503T183000
DTEND;TZID=UTC:20250503T213000
DTSTAMP:20260423T114346
CREATED:20250401T151853Z
LAST-MODIFIED:20250401T151853Z
UID:5748-1746297000-1746307800@thesaintspub.com
SUMMARY:The Terri Hines Band
DESCRIPTION:
URL:https://thesaintspub.com/event/the-terri-hines-band-68/
LOCATION:The Saints Pub\, 2601 SE Morningside Blvd\, Port St. Lucie\, FL\, 34952\, United States
CATEGORIES:events
ORGANIZER;CN="The Saints Pub":MAILTO:info@thesaintspub.com
END:VEVENT
BEGIN:VEVENT
DTSTART;TZID=UTC:20250507T183000
DTEND;TZID=UTC:20250507T213000
DTSTAMP:20260423T114346
CREATED:20250401T151928Z
LAST-MODIFIED:20250401T151928Z
UID:5750-1746642600-1746653400@thesaintspub.com
SUMMARY:Top Clown Karaoke
DESCRIPTION:
URL:https://thesaintspub.com/event/top-clown-karaoke-180/
LOCATION:The Saints Pub\, 2601 SE Morningside Blvd\, Port St. Lucie\, FL\, 34952\, United States
CATEGORIES:events
ORGANIZER;CN="The Saints Pub":MAILTO:info@thesaintspub.com
END:VEVENT
BEGIN:VEVENT
DTSTART;TZID=UTC:20250507T190000
DTEND;TZID=UTC:20250507T203000
DTSTAMP:20260423T114346
CREATED:20250401T151953Z
LAST-MODIFIED:20250401T151953Z
UID:5752-1746644400-1746649800@thesaintspub.com
SUMMARY:Line Dancing in The Sandpiper Room
DESCRIPTION:
URL:https://thesaintspub.com/event/line-dancing-in-the-sandpiper-room-123/
LOCATION:The Saints Pub\, 2601 SE Morningside Blvd\, Port St. Lucie\, FL\, 34952\, United States
CATEGORIES:events
ORGANIZER;CN="The Saints Pub":MAILTO:info@thesaintspub.com
END:VEVENT
BEGIN:VEVENT
DTSTART;TZID=UTC:20250509T183000
DTEND;TZID=UTC:20250509T213000
DTSTAMP:20260423T114346
CREATED:20250414T112115Z
LAST-MODIFIED:20250414T112115Z
UID:5759-1746815400-1746826200@thesaintspub.com
SUMMARY:Alita & The Boyz
DESCRIPTION:
URL:https://thesaintspub.com/event/alita-the-boyz-12/
LOCATION:The Saints Pub\, 2601 SE Morningside Blvd\, Port St. Lucie\, FL\, 34952\, United States
CATEGORIES:events
ORGANIZER;CN="The Saints Pub":MAILTO:info@thesaintspub.com
END:VEVENT
BEGIN:VEVENT
DTSTART;TZID=UTC:20250514T183000
DTEND;TZID=UTC:20250514T213000
DTSTAMP:20260423T114346
CREATED:20250414T112203Z
LAST-MODIFIED:20250414T112203Z
UID:5761-1747247400-1747258200@thesaintspub.com
SUMMARY:Top Clown Karaoke
DESCRIPTION:
URL:https://thesaintspub.com/event/top-clown-karaoke-181/
LOCATION:The Saints Pub\, 2601 SE Morningside Blvd\, Port St. Lucie\, FL\, 34952\, United States
CATEGORIES:events
ORGANIZER;CN="The Saints Pub":MAILTO:info@thesaintspub.com
END:VEVENT
BEGIN:VEVENT
DTSTART;TZID=UTC:20250514T190000
DTEND;TZID=UTC:20250514T203000
DTSTAMP:20260423T114346
CREATED:20250414T112245Z
LAST-MODIFIED:20250414T112245Z
UID:5763-1747249200-1747254600@thesaintspub.com
SUMMARY:Country Line Dancing in The Sandpiper Room
DESCRIPTION:
URL:https://thesaintspub.com/event/country-line-dancing-in-the-sandpiper-room/
LOCATION:The Saints Pub\, 2601 SE Morningside Blvd\, Port St. Lucie\, FL\, 34952\, United States
CATEGORIES:events
ORGANIZER;CN="The Saints Pub":MAILTO:info@thesaintspub.com
END:VEVENT
BEGIN:VEVENT
DTSTART;TZID=UTC:20250521T183000
DTEND;TZID=UTC:20250521T213000
DTSTAMP:20260423T114346
CREATED:20250429T120619Z
LAST-MODIFIED:20250429T120619Z
UID:5776-1747852200-1747863000@thesaintspub.com
SUMMARY:Top Clown Karaoke
DESCRIPTION:
URL:https://thesaintspub.com/event/top-clown-karaoke-182/
LOCATION:The Saints Pub\, 2601 SE Morningside Blvd\, Port St. Lucie\, FL\, 34952\, United States
CATEGORIES:events
ORGANIZER;CN="The Saints Pub":MAILTO:info@thesaintspub.com
END:VEVENT
BEGIN:VEVENT
DTSTART;TZID=UTC:20250521T190000
DTEND;TZID=UTC:20250521T203000
DTSTAMP:20260423T114346
CREATED:20250429T120549Z
LAST-MODIFIED:20250429T120549Z
UID:5774-1747854000-1747859400@thesaintspub.com
SUMMARY:Country Line Dancing in The Sandpiper Room
DESCRIPTION:
URL:https://thesaintspub.com/event/country-line-dancing-in-the-sandpiper-room-2/
LOCATION:The Saints Pub\, 2601 SE Morningside Blvd\, Port St. Lucie\, FL\, 34952\, United States
CATEGORIES:events
ORGANIZER;CN="The Saints Pub":MAILTO:info@thesaintspub.com
END:VEVENT
BEGIN:VEVENT
DTSTART;TZID=UTC:20250523T183000
DTEND;TZID=UTC:20250523T213000
DTSTAMP:20260423T114346
CREATED:20250429T120707Z
LAST-MODIFIED:20250429T120707Z
UID:5778-1748025000-1748035800@thesaintspub.com
SUMMARY:Big T
DESCRIPTION:
URL:https://thesaintspub.com/event/big-t-20/
LOCATION:The Saints Pub\, 2601 SE Morningside Blvd\, Port St. Lucie\, FL\, 34952\, United States
CATEGORIES:events
ORGANIZER;CN="The Saints Pub":MAILTO:info@thesaintspub.com
END:VEVENT
BEGIN:VEVENT
DTSTART;TZID=UTC:20250524T183000
DTEND;TZID=UTC:20250524T213000
DTSTAMP:20260423T114346
CREATED:20250429T120748Z
LAST-MODIFIED:20250429T120748Z
UID:5780-1748111400-1748122200@thesaintspub.com
SUMMARY:The Terri Hines Band
DESCRIPTION:
URL:https://thesaintspub.com/event/the-terri-hines-band-69/
LOCATION:The Saints Pub\, 2601 SE Morningside Blvd\, Port St. Lucie\, FL\, 34952\, United States
CATEGORIES:events
ORGANIZER;CN="The Saints Pub":MAILTO:info@thesaintspub.com
END:VEVENT
BEGIN:VEVENT
DTSTART;TZID=UTC:20250528T183000
DTEND;TZID=UTC:20250528T213000
DTSTAMP:20260423T114346
CREATED:20250429T120851Z
LAST-MODIFIED:20250429T120851Z
UID:5782-1748457000-1748467800@thesaintspub.com
SUMMARY:Top Clown Karaoke
DESCRIPTION:
URL:https://thesaintspub.com/event/top-clown-karaoke-183/
LOCATION:The Saints Pub\, 2601 SE Morningside Blvd\, Port St. Lucie\, FL\, 34952\, United States
CATEGORIES:events
ORGANIZER;CN="The Saints Pub":MAILTO:info@thesaintspub.com
END:VEVENT
BEGIN:VEVENT
DTSTART;TZID=UTC:20250528T190000
DTEND;TZID=UTC:20250528T203000
DTSTAMP:20260423T114346
CREATED:20250429T120931Z
LAST-MODIFIED:20250429T120931Z
UID:5784-1748458800-1748464200@thesaintspub.com
SUMMARY:Country Line Dancing in The Sandpiper Room
DESCRIPTION:
URL:https://thesaintspub.com/event/country-line-dancing-in-the-sandpiper-room-3/
LOCATION:The Saints Pub\, 2601 SE Morningside Blvd\, Port St. Lucie\, FL\, 34952\, United States
CATEGORIES:events
ORGANIZER;CN="The Saints Pub":MAILTO:info@thesaintspub.com
END:VEVENT
BEGIN:VEVENT
DTSTART;TZID=UTC:20250530T183000
DTEND;TZID=UTC:20250530T213000
DTSTAMP:20260423T114346
CREATED:20250429T121017Z
LAST-MODIFIED:20250429T121017Z
UID:5786-1748629800-1748640600@thesaintspub.com
SUMMARY:JROX
DESCRIPTION:
URL:https://thesaintspub.com/event/jrox-5/
LOCATION:The Saints Pub\, 2601 SE Morningside Blvd\, Port St. Lucie\, FL\, 34952\, United States
CATEGORIES:events
ORGANIZER;CN="The Saints Pub":MAILTO:info@thesaintspub.com
END:VEVENT
END:VCALENDAR