BEGIN:VCALENDAR
VERSION:2.0
PRODID:-//thesaintspub.com - ECPv6.15.20//NONSGML v1.0//EN
CALSCALE:GREGORIAN
METHOD:PUBLISH
X-ORIGINAL-URL:https://thesaintspub.com
X-WR-CALDESC:Events for thesaintspub.com
REFRESH-INTERVAL;VALUE=DURATION:PT1H
X-Robots-Tag:noindex
X-PUBLISHED-TTL:PT1H
BEGIN:VTIMEZONE
TZID:UTC
BEGIN:STANDARD
TZOFFSETFROM:+0000
TZOFFSETTO:+0000
TZNAME:UTC
DTSTART:20230101T000000
END:STANDARD
END:VTIMEZONE
BEGIN:VEVENT
DTSTART;TZID=UTC:20240302T183000
DTEND;TZID=UTC:20240302T213000
DTSTAMP:20260424T143806
CREATED:20240226T185006Z
LAST-MODIFIED:20240226T185006Z
UID:4554-1709404200-1709415000@thesaintspub.com
SUMMARY:Shepherd-N-Green
DESCRIPTION:
URL:https://thesaintspub.com/event/shepherd-n-green-30/
LOCATION:Pub\, Charlottesville\, VA 123456 United States\, Charlottesville\, United States
CATEGORIES:events
ORGANIZER;CN="Pub":MAILTO:pubzinne@example.com
END:VEVENT
BEGIN:VEVENT
DTSTART;TZID=UTC:20240306T183000
DTEND;TZID=UTC:20240306T213000
DTSTAMP:20260424T143806
CREATED:20240219T192518Z
LAST-MODIFIED:20240219T192518Z
UID:4523-1709749800-1709760600@thesaintspub.com
SUMMARY:Top Clown Karaoke
DESCRIPTION:
URL:https://thesaintspub.com/event/top-clown-karaoke-122/
LOCATION:Pub\, Charlottesville\, VA 123456 United States\, Charlottesville\, United States
CATEGORIES:events
ORGANIZER;CN="Pub":MAILTO:pubzinne@example.com
END:VEVENT
BEGIN:VEVENT
DTSTART;TZID=UTC:20240306T190000
DTEND;TZID=UTC:20240306T203000
DTSTAMP:20260424T143806
CREATED:20240219T192554Z
LAST-MODIFIED:20240219T192554Z
UID:4525-1709751600-1709757000@thesaintspub.com
SUMMARY:Line Dancing in The Sandpiper Room
DESCRIPTION:
URL:https://thesaintspub.com/event/line-dancing-in-the-sandpiper-room-67/
LOCATION:Pub\, Charlottesville\, VA 123456 United States\, Charlottesville\, United States
CATEGORIES:events
ORGANIZER;CN="Pub":MAILTO:pubzinne@example.com
END:VEVENT
BEGIN:VEVENT
DTSTART;TZID=UTC:20240309T183000
DTEND;TZID=UTC:20240309T213000
DTSTAMP:20260424T143806
CREATED:20240219T192846Z
LAST-MODIFIED:20240219T192846Z
UID:4529-1710009000-1710019800@thesaintspub.com
SUMMARY:Shaboom
DESCRIPTION:
URL:https://thesaintspub.com/event/shaboom-11/
LOCATION:Pub\, Charlottesville\, VA 123456 United States\, Charlottesville\, United States
CATEGORIES:events
ORGANIZER;CN="Pub":MAILTO:pubzinne@example.com
END:VEVENT
BEGIN:VEVENT
DTSTART;TZID=UTC:20240313T183000
DTEND;TZID=UTC:20240313T213000
DTSTAMP:20260424T143806
CREATED:20240219T192943Z
LAST-MODIFIED:20240219T192943Z
UID:4531-1710354600-1710365400@thesaintspub.com
SUMMARY:Top Clown Karaoke
DESCRIPTION:
URL:https://thesaintspub.com/event/top-clown-karaoke-123/
LOCATION:Pub\, Charlottesville\, VA 123456 United States\, Charlottesville\, United States
CATEGORIES:events
ORGANIZER;CN="Pub":MAILTO:pubzinne@example.com
END:VEVENT
BEGIN:VEVENT
DTSTART;TZID=UTC:20240313T190000
DTEND;TZID=UTC:20240313T203000
DTSTAMP:20260424T143806
CREATED:20240219T193012Z
LAST-MODIFIED:20240219T193012Z
UID:4533-1710356400-1710361800@thesaintspub.com
SUMMARY:Line Dancing in The Sandpiper Room
DESCRIPTION:
URL:https://thesaintspub.com/event/line-dancing-in-the-sandpiper-room-68/
LOCATION:Pub\, Charlottesville\, VA 123456 United States\, Charlottesville\, United States
CATEGORIES:events
ORGANIZER;CN="Pub":MAILTO:pubzinne@example.com
END:VEVENT
BEGIN:VEVENT
DTSTART;TZID=UTC:20240316T183000
DTEND;TZID=UTC:20240316T213000
DTSTAMP:20260424T143806
CREATED:20240219T193655Z
LAST-MODIFIED:20240219T193808Z
UID:4537-1710613800-1710624600@thesaintspub.com
SUMMARY:Shepherd-N-Green
DESCRIPTION:
URL:https://thesaintspub.com/event/shepherd-n-green-29/
LOCATION:Pub\, Charlottesville\, VA 123456 United States\, Charlottesville\, United States
CATEGORIES:events
ORGANIZER;CN="Pub":MAILTO:pubzinne@example.com
END:VEVENT
BEGIN:VEVENT
DTSTART;TZID=UTC:20240317T120000
DTEND;TZID=UTC:20240317T200000
DTSTAMP:20260424T143806
CREATED:20240219T194456Z
LAST-MODIFIED:20240219T194456Z
UID:4551-1710676800-1710705600@thesaintspub.com
SUMMARY:St. Patrick’s Day Traditional Feast
DESCRIPTION:
URL:https://thesaintspub.com/event/st-patricks-day-traditional-feast/
LOCATION:Pub\, Charlottesville\, VA 123456 United States\, Charlottesville\, United States
CATEGORIES:events
ORGANIZER;CN="Pub":MAILTO:pubzinne@example.com
END:VEVENT
BEGIN:VEVENT
DTSTART;TZID=UTC:20240317T160000
DTEND;TZID=UTC:20240317T190000
DTSTAMP:20260424T143806
CREATED:20240226T185805Z
LAST-MODIFIED:20240226T185805Z
UID:4566-1710691200-1710702000@thesaintspub.com
SUMMARY:St. Patrick’s Day Celebration Featuring Terri Hines
DESCRIPTION:
URL:https://thesaintspub.com/event/st-patricks-day-celebration-featuring-terri-hines/
LOCATION:Pub\, Charlottesville\, VA 123456 United States\, Charlottesville\, United States
CATEGORIES:events
ORGANIZER;CN="Pub":MAILTO:pubzinne@example.com
END:VEVENT
BEGIN:VEVENT
DTSTART;TZID=UTC:20240320T183000
DTEND;TZID=UTC:20240320T213000
DTSTAMP:20260424T143806
CREATED:20240219T193925Z
LAST-MODIFIED:20240219T193936Z
UID:4541-1710959400-1710970200@thesaintspub.com
SUMMARY:Top Clown Karaoke
DESCRIPTION:
URL:https://thesaintspub.com/event/top-clown-karaoke-124/
LOCATION:Pub\, Charlottesville\, VA 123456 United States\, Charlottesville\, United States
CATEGORIES:events
ORGANIZER;CN="Pub":MAILTO:pubzinne@example.com
END:VEVENT
BEGIN:VEVENT
DTSTART;TZID=UTC:20240320T190000
DTEND;TZID=UTC:20240320T203000
DTSTAMP:20260424T143806
CREATED:20240219T193848Z
LAST-MODIFIED:20240219T193848Z
UID:4539-1710961200-1710966600@thesaintspub.com
SUMMARY:Line Dancing in The Sandpiper Room
DESCRIPTION:
URL:https://thesaintspub.com/event/line-dancing-in-the-sandpiper-room-69/
LOCATION:Pub\, Charlottesville\, VA 123456 United States\, Charlottesville\, United States
CATEGORIES:events
ORGANIZER;CN="Pub":MAILTO:pubzinne@example.com
END:VEVENT
BEGIN:VEVENT
DTSTART;TZID=UTC:20240322T183000
DTEND;TZID=UTC:20240322T213000
DTSTAMP:20260424T143806
CREATED:20240219T194148Z
LAST-MODIFIED:20240219T194148Z
UID:4543-1711132200-1711143000@thesaintspub.com
SUMMARY:Big T
DESCRIPTION:
URL:https://thesaintspub.com/event/big-t-8/
LOCATION:Pub\, Charlottesville\, VA 123456 United States\, Charlottesville\, United States
CATEGORIES:events
ORGANIZER;CN="Pub":MAILTO:pubzinne@example.com
END:VEVENT
BEGIN:VEVENT
DTSTART;TZID=UTC:20240323T183000
DTEND;TZID=UTC:20240323T213000
DTSTAMP:20260424T143806
CREATED:20240219T194257Z
LAST-MODIFIED:20240219T194257Z
UID:4545-1711218600-1711229400@thesaintspub.com
SUMMARY:Alita & The Boyz
DESCRIPTION:
URL:https://thesaintspub.com/event/alita-the-boyz/
LOCATION:Pub\, Charlottesville\, VA 123456 United States\, Charlottesville\, United States
CATEGORIES:events
ORGANIZER;CN="Pub":MAILTO:pubzinne@example.com
END:VEVENT
BEGIN:VEVENT
DTSTART;TZID=UTC:20240327T183000
DTEND;TZID=UTC:20240327T213000
DTSTAMP:20260424T143806
CREATED:20240219T194400Z
LAST-MODIFIED:20240219T194400Z
UID:4549-1711564200-1711575000@thesaintspub.com
SUMMARY:Top Clown Karaoke
DESCRIPTION:
URL:https://thesaintspub.com/event/top-clown-karaoke-125/
LOCATION:Pub\, Charlottesville\, VA 123456 United States\, Charlottesville\, United States
CATEGORIES:events
ORGANIZER;CN="Pub":MAILTO:pubzinne@example.com
END:VEVENT
BEGIN:VEVENT
DTSTART;TZID=UTC:20240327T190000
DTEND;TZID=UTC:20240327T203000
DTSTAMP:20260424T143806
CREATED:20240219T194326Z
LAST-MODIFIED:20240219T194326Z
UID:4547-1711566000-1711571400@thesaintspub.com
SUMMARY:Line Dancing in The Sandpiper Room
DESCRIPTION:
URL:https://thesaintspub.com/event/line-dancing-in-the-sandpiper-room-70/
LOCATION:Pub\, Charlottesville\, VA 123456 United States\, Charlottesville\, United States
CATEGORIES:events
ORGANIZER;CN="Pub":MAILTO:pubzinne@example.com
END:VEVENT
BEGIN:VEVENT
DTSTART;TZID=UTC:20240330T183000
DTEND;TZID=UTC:20240330T213000
DTSTAMP:20260424T143806
CREATED:20240226T185231Z
LAST-MODIFIED:20240226T185231Z
UID:4556-1711823400-1711834200@thesaintspub.com
SUMMARY:Shepherd-N-Green
DESCRIPTION:
URL:https://thesaintspub.com/event/shepherd-n-green-31/
LOCATION:Pub\, Charlottesville\, VA 123456 United States\, Charlottesville\, United States
CATEGORIES:events
ORGANIZER;CN="Pub":MAILTO:pubzinne@example.com
END:VEVENT
END:VCALENDAR