BEGIN:VCALENDAR
VERSION:2.0
PRODID:-//thesaintspub.com - ECPv6.15.20//NONSGML v1.0//EN
CALSCALE:GREGORIAN
METHOD:PUBLISH
X-WR-CALNAME:thesaintspub.com
X-ORIGINAL-URL:https://thesaintspub.com
X-WR-CALDESC:Events for thesaintspub.com
REFRESH-INTERVAL;VALUE=DURATION:PT1H
X-Robots-Tag:noindex
X-PUBLISHED-TTL:PT1H
BEGIN:VTIMEZONE
TZID:UTC
BEGIN:STANDARD
TZOFFSETFROM:+0000
TZOFFSETTO:+0000
TZNAME:UTC
DTSTART:20240101T000000
END:STANDARD
END:VTIMEZONE
BEGIN:VTIMEZONE
TZID:America/Halifax
BEGIN:DAYLIGHT
TZOFFSETFROM:-0400
TZOFFSETTO:-0300
TZNAME:ADT
DTSTART:20240310T060000
END:DAYLIGHT
BEGIN:STANDARD
TZOFFSETFROM:-0300
TZOFFSETTO:-0400
TZNAME:AST
DTSTART:20241103T050000
END:STANDARD
BEGIN:DAYLIGHT
TZOFFSETFROM:-0400
TZOFFSETTO:-0300
TZNAME:ADT
DTSTART:20250309T060000
END:DAYLIGHT
BEGIN:STANDARD
TZOFFSETFROM:-0300
TZOFFSETTO:-0400
TZNAME:AST
DTSTART:20251102T050000
END:STANDARD
BEGIN:DAYLIGHT
TZOFFSETFROM:-0400
TZOFFSETTO:-0300
TZNAME:ADT
DTSTART:20260308T060000
END:DAYLIGHT
BEGIN:STANDARD
TZOFFSETFROM:-0300
TZOFFSETTO:-0400
TZNAME:AST
DTSTART:20261101T050000
END:STANDARD
END:VTIMEZONE
BEGIN:VEVENT
DTSTART;TZID=UTC:20251001T183000
DTEND;TZID=UTC:20251001T213000
DTSTAMP:20260423T014326
CREATED:20250904T115845Z
LAST-MODIFIED:20250904T115845Z
UID:5945-1759343400-1759354200@thesaintspub.com
SUMMARY:Top Clown Karaoke
DESCRIPTION:
URL:https://thesaintspub.com/event/top-clown-karaoke-201/
LOCATION:The Saints Pub\, 2601 SE Morningside Blvd\, Port St. Lucie\, FL\, 34952\, United States
CATEGORIES:events
ORGANIZER;CN="The Saints Pub":MAILTO:info@thesaintspub.com
END:VEVENT
BEGIN:VEVENT
DTSTART;TZID=America/Halifax:20251001T190000
DTEND;TZID=America/Halifax:20251001T203000
DTSTAMP:20260423T014326
CREATED:20250904T115800Z
LAST-MODIFIED:20250904T115800Z
UID:5943-1759345200-1759350600@thesaintspub.com
SUMMARY:Country Line Dancing in The Sandpiper Room
DESCRIPTION:
URL:https://thesaintspub.com/event/country-line-dancing-in-the-sandpiper-room-21/
LOCATION:The Saints Pub\, 2601 SE Morningside Blvd\, Port St. Lucie\, FL\, 34952\, United States
CATEGORIES:events
ORGANIZER;CN="The Saints Pub":MAILTO:info@thesaintspub.com
END:VEVENT
BEGIN:VEVENT
DTSTART;TZID=UTC:20251003T183000
DTEND;TZID=UTC:20251003T213000
DTSTAMP:20260423T014326
CREATED:20250904T124234Z
LAST-MODIFIED:20250904T124234Z
UID:5963-1759516200-1759527000@thesaintspub.com
SUMMARY:Joey and The Paradons
DESCRIPTION:
URL:https://thesaintspub.com/event/joey-and-the-paradons-10/
LOCATION:The Saints Pub\, 2601 SE Morningside Blvd\, Port St. Lucie\, FL\, 34952\, United States
CATEGORIES:events
ORGANIZER;CN="The Saints Pub":MAILTO:info@thesaintspub.com
END:VEVENT
BEGIN:VEVENT
DTSTART;TZID=UTC:20251008T183000
DTEND;TZID=UTC:20251008T213000
DTSTAMP:20260423T014326
CREATED:20250904T120055Z
LAST-MODIFIED:20250904T120055Z
UID:5949-1759948200-1759959000@thesaintspub.com
SUMMARY:Top Clown Karaoke
DESCRIPTION:
URL:https://thesaintspub.com/event/top-clown-karaoke-202/
LOCATION:The Saints Pub\, 2601 SE Morningside Blvd\, Port St. Lucie\, FL\, 34952\, United States
CATEGORIES:events
ORGANIZER;CN="The Saints Pub":MAILTO:info@thesaintspub.com
END:VEVENT
BEGIN:VEVENT
DTSTART;TZID=America/Halifax:20251008T190000
DTEND;TZID=America/Halifax:20251008T203000
DTSTAMP:20260423T014326
CREATED:20250904T120029Z
LAST-MODIFIED:20250904T120204Z
UID:5947-1759950000-1759955400@thesaintspub.com
SUMMARY:Country Line Dancing in The Sandpiper Room
DESCRIPTION:
URL:https://thesaintspub.com/event/country-line-dancing-in-the-sandpiper-room-22/
LOCATION:The Saints Pub\, 2601 SE Morningside Blvd\, Port St. Lucie\, FL\, 34952\, United States
CATEGORIES:events
ORGANIZER;CN="The Saints Pub":MAILTO:info@thesaintspub.com
END:VEVENT
BEGIN:VEVENT
DTSTART;TZID=America/Halifax:20251010T183000
DTEND;TZID=America/Halifax:20251010T213000
DTSTAMP:20260423T014326
CREATED:20250904T124415Z
LAST-MODIFIED:20250904T124415Z
UID:5965-1760121000-1760131800@thesaintspub.com
SUMMARY:Alita & The Boyz
DESCRIPTION:
URL:https://thesaintspub.com/event/alita-the-boyz-17/
LOCATION:The Saints Pub\, 2601 SE Morningside Blvd\, Port St. Lucie\, FL\, 34952\, United States
CATEGORIES:events
ORGANIZER;CN="The Saints Pub":MAILTO:info@thesaintspub.com
END:VEVENT
BEGIN:VEVENT
DTSTART;TZID=UTC:20251015T183000
DTEND;TZID=UTC:20251015T213000
DTSTAMP:20260423T014326
CREATED:20250904T123458Z
LAST-MODIFIED:20250904T123458Z
UID:5957-1760553000-1760563800@thesaintspub.com
SUMMARY:Top Clown Karaoke
DESCRIPTION:
URL:https://thesaintspub.com/event/top-clown-karaoke-203/
LOCATION:The Saints Pub\, 2601 SE Morningside Blvd\, Port St. Lucie\, FL\, 34952\, United States
CATEGORIES:events
ORGANIZER;CN="The Saints Pub":MAILTO:info@thesaintspub.com
END:VEVENT
BEGIN:VEVENT
DTSTART;TZID=America/Halifax:20251015T190000
DTEND;TZID=America/Halifax:20251015T203000
DTSTAMP:20260423T014326
CREATED:20250904T123541Z
LAST-MODIFIED:20250904T123541Z
UID:5959-1760554800-1760560200@thesaintspub.com
SUMMARY:Country Line Dancing in The Sandpiper Room
DESCRIPTION:
URL:https://thesaintspub.com/event/country-line-dancing-in-the-sandpiper-room-23/
LOCATION:The Saints Pub\, 2601 SE Morningside Blvd\, Port St. Lucie\, FL\, 34952\, United States
CATEGORIES:events
ORGANIZER;CN="The Saints Pub":MAILTO:info@thesaintspub.com
END:VEVENT
BEGIN:VEVENT
DTSTART;TZID=UTC:20251018T183000
DTEND;TZID=UTC:20251018T213000
DTSTAMP:20260423T014326
CREATED:20250904T125123Z
LAST-MODIFIED:20251013T162651Z
UID:5969-1760812200-1760823000@thesaintspub.com
SUMMARY:Shaboom
DESCRIPTION:
URL:https://thesaintspub.com/event/shaboom-30/
LOCATION:The Saints Pub\, 2601 SE Morningside Blvd\, Port St. Lucie\, FL\, 34952\, United States
CATEGORIES:events
ORGANIZER;CN="The Saints Pub":MAILTO:info@thesaintspub.com
END:VEVENT
BEGIN:VEVENT
DTSTART;TZID=UTC:20251024T183000
DTEND;TZID=UTC:20251024T213000
DTSTAMP:20260423T014326
CREATED:20251014T134327Z
LAST-MODIFIED:20251014T134327Z
UID:6178-1761330600-1761341400@thesaintspub.com
SUMMARY:Joey and The Paradons
DESCRIPTION:
URL:https://thesaintspub.com/event/joey-and-the-paradons-11/
LOCATION:The Saints Pub\, 2601 SE Morningside Blvd\, Port St. Lucie\, FL\, 34952\, United States
CATEGORIES:events
ORGANIZER;CN="The Saints Pub":MAILTO:info@thesaintspub.com
END:VEVENT
BEGIN:VEVENT
DTSTART;TZID=UTC:20251029T183000
DTEND;TZID=UTC:20251029T213000
DTSTAMP:20260423T014326
CREATED:20251014T134642Z
LAST-MODIFIED:20251014T134642Z
UID:6182-1761762600-1761773400@thesaintspub.com
SUMMARY:Top Clown Karaoke
DESCRIPTION:
URL:https://thesaintspub.com/event/top-clown-karaoke-204/
LOCATION:The Saints Pub\, 2601 SE Morningside Blvd\, Port St. Lucie\, FL\, 34952\, United States
CATEGORIES:events
ORGANIZER;CN="The Saints Pub":MAILTO:info@thesaintspub.com
END:VEVENT
BEGIN:VEVENT
DTSTART;TZID=America/Halifax:20251029T190000
DTEND;TZID=America/Halifax:20251029T203000
DTSTAMP:20260423T014326
CREATED:20251014T134736Z
LAST-MODIFIED:20251014T134736Z
UID:6184-1761764400-1761769800@thesaintspub.com
SUMMARY:Country Line Dancing in The Sandpiper Room
DESCRIPTION:
URL:https://thesaintspub.com/event/country-line-dancing-in-the-sandpiper-room-24/
LOCATION:The Saints Pub\, 2601 SE Morningside Blvd\, Port St. Lucie\, FL\, 34952\, United States
CATEGORIES:events
ORGANIZER;CN="The Saints Pub":MAILTO:info@thesaintspub.com
END:VEVENT
END:VCALENDAR