BEGIN:VCALENDAR
VERSION:2.0
PRODID:-//thesaintspub.com - ECPv6.15.20//NONSGML v1.0//EN
CALSCALE:GREGORIAN
METHOD:PUBLISH
X-WR-CALNAME:thesaintspub.com
X-ORIGINAL-URL:https://thesaintspub.com
X-WR-CALDESC:Events for thesaintspub.com
REFRESH-INTERVAL;VALUE=DURATION:PT1H
X-Robots-Tag:noindex
X-PUBLISHED-TTL:PT1H
BEGIN:VTIMEZONE
TZID:UTC
BEGIN:STANDARD
TZOFFSETFROM:+0000
TZOFFSETTO:+0000
TZNAME:UTC
DTSTART:20230101T000000
END:STANDARD
END:VTIMEZONE
BEGIN:VEVENT
DTSTART;TZID=UTC:20240317T120000
DTEND;TZID=UTC:20240317T200000
DTSTAMP:20260424T161322
CREATED:20240219T194456Z
LAST-MODIFIED:20240219T194456Z
UID:4551-1710676800-1710705600@thesaintspub.com
SUMMARY:St. Patrick’s Day Traditional Feast
DESCRIPTION:
URL:https://thesaintspub.com/event/st-patricks-day-traditional-feast/
LOCATION:Pub\, Charlottesville\, VA 123456 United States\, Charlottesville\, United States
CATEGORIES:events
ORGANIZER;CN="Pub":MAILTO:pubzinne@example.com
END:VEVENT
BEGIN:VEVENT
DTSTART;TZID=UTC:20240317T160000
DTEND;TZID=UTC:20240317T190000
DTSTAMP:20260424T161322
CREATED:20240226T185805Z
LAST-MODIFIED:20240226T185805Z
UID:4566-1710691200-1710702000@thesaintspub.com
SUMMARY:St. Patrick’s Day Celebration Featuring Terri Hines
DESCRIPTION:
URL:https://thesaintspub.com/event/st-patricks-day-celebration-featuring-terri-hines/
LOCATION:Pub\, Charlottesville\, VA 123456 United States\, Charlottesville\, United States
CATEGORIES:events
ORGANIZER;CN="Pub":MAILTO:pubzinne@example.com
END:VEVENT
END:VCALENDAR