BEGIN:VCALENDAR
VERSION:2.0
PRODID:-//thesaintspub.com - ECPv6.15.20//NONSGML v1.0//EN
CALSCALE:GREGORIAN
METHOD:PUBLISH
X-ORIGINAL-URL:https://thesaintspub.com
X-WR-CALDESC:Events for thesaintspub.com
REFRESH-INTERVAL;VALUE=DURATION:PT1H
X-Robots-Tag:noindex
X-PUBLISHED-TTL:PT1H
BEGIN:VTIMEZONE
TZID:UTC
BEGIN:STANDARD
TZOFFSETFROM:+0000
TZOFFSETTO:+0000
TZNAME:UTC
DTSTART:20220101T000000
END:STANDARD
END:VTIMEZONE
BEGIN:VEVENT
DTSTART;TZID=UTC:20231006T183000
DTEND;TZID=UTC:20231006T213000
DTSTAMP:20260425T004733
CREATED:20230922T001351Z
LAST-MODIFIED:20230922T001416Z
UID:4322-1696617000-1696627800@thesaintspub.com
SUMMARY:Big T
DESCRIPTION:
URL:https://thesaintspub.com/event/big-t-2/
LOCATION:Pub\, Charlottesville\, VA 123456 United States\, Charlottesville\, United States
CATEGORIES:events
ORGANIZER;CN="Pub":MAILTO:pubzinne@example.com
END:VEVENT
BEGIN:VEVENT
DTSTART;TZID=UTC:20231007T183000
DTEND;TZID=UTC:20231007T213000
DTSTAMP:20260425T004733
CREATED:20230922T001501Z
LAST-MODIFIED:20230922T001501Z
UID:4324-1696703400-1696714200@thesaintspub.com
SUMMARY:The Terri Hines Band
DESCRIPTION:
URL:https://thesaintspub.com/event/the-terri-hines-band-31/
LOCATION:Pub\, Charlottesville\, VA 123456 United States\, Charlottesville\, United States
CATEGORIES:events
ORGANIZER;CN="Pub":MAILTO:pubzinne@example.com
END:VEVENT
BEGIN:VEVENT
DTSTART;TZID=UTC:20231013T183000
DTEND;TZID=UTC:20231013T213000
DTSTAMP:20260425T004733
CREATED:20230922T001746Z
LAST-MODIFIED:20230922T001746Z
UID:4330-1697221800-1697232600@thesaintspub.com
SUMMARY:DECADES
DESCRIPTION:
URL:https://thesaintspub.com/event/decades-25/
LOCATION:Pub\, Charlottesville\, VA 123456 United States\, Charlottesville\, United States
CATEGORIES:events
ORGANIZER;CN="Pub":MAILTO:pubzinne@example.com
END:VEVENT
BEGIN:VEVENT
DTSTART;TZID=UTC:20231013T183000
DTEND;TZID=UTC:20231013T213000
DTSTAMP:20260425T004733
CREATED:20231015T032452Z
LAST-MODIFIED:20231015T032452Z
UID:4335-1697221800-1697232600@thesaintspub.com
SUMMARY:DECADES
DESCRIPTION:
URL:https://thesaintspub.com/event/decades-26/
LOCATION:Pub\, Charlottesville\, VA 123456 United States\, Charlottesville\, United States
CATEGORIES:events
ORGANIZER;CN="Pub":MAILTO:pubzinne@example.com
END:VEVENT
BEGIN:VEVENT
DTSTART;TZID=UTC:20231014T183000
DTEND;TZID=UTC:20231014T213000
DTSTAMP:20260425T004733
CREATED:20230922T001836Z
LAST-MODIFIED:20230922T001836Z
UID:4332-1697308200-1697319000@thesaintspub.com
SUMMARY:Shepherd-N-Green
DESCRIPTION:
URL:https://thesaintspub.com/event/shepherd-n-green-23/
LOCATION:Pub\, Charlottesville\, VA 123456 United States\, Charlottesville\, United States
CATEGORIES:events
ORGANIZER;CN="Pub":MAILTO:pubzinne@example.com
END:VEVENT
BEGIN:VEVENT
DTSTART;TZID=UTC:20231020T183000
DTEND;TZID=UTC:20231020T213000
DTSTAMP:20260425T004733
CREATED:20231015T032817Z
LAST-MODIFIED:20231015T032817Z
UID:4341-1697826600-1697837400@thesaintspub.com
SUMMARY:The Terri Hines Band
DESCRIPTION:
URL:https://thesaintspub.com/event/the-terri-hines-band-32/
LOCATION:Pub\, Charlottesville\, VA 123456 United States\, Charlottesville\, United States
CATEGORIES:events
ORGANIZER;CN="Pub":MAILTO:pubzinne@example.com
END:VEVENT
BEGIN:VEVENT
DTSTART;TZID=UTC:20231021T183000
DTEND;TZID=UTC:20231021T213000
DTSTAMP:20260425T004733
CREATED:20231015T032907Z
LAST-MODIFIED:20231015T032936Z
UID:4343-1697913000-1697923800@thesaintspub.com
SUMMARY:Shaboom
DESCRIPTION:
URL:https://thesaintspub.com/event/shaboom-7/
LOCATION:Pub\, Charlottesville\, VA 123456 United States\, Charlottesville\, United States
CATEGORIES:events
ORGANIZER;CN="Pub":MAILTO:pubzinne@example.com
END:VEVENT
BEGIN:VEVENT
DTSTART;TZID=UTC:20231028T183000
DTEND;TZID=UTC:20231028T213000
DTSTAMP:20260425T004733
CREATED:20231015T033144Z
LAST-MODIFIED:20231015T033228Z
UID:4349-1698517800-1698528600@thesaintspub.com
SUMMARY:Solid Gold
DESCRIPTION:
URL:https://thesaintspub.com/event/solid-gold-40/
LOCATION:Pub\, Charlottesville\, VA 123456 United States\, Charlottesville\, United States
CATEGORIES:events
ORGANIZER;CN="Pub":MAILTO:pubzinne@example.com
END:VEVENT
END:VCALENDAR