BEGIN:VCALENDAR
VERSION:2.0
PRODID:-//thesaintspub.com - ECPv6.15.20//NONSGML v1.0//EN
CALSCALE:GREGORIAN
METHOD:PUBLISH
X-ORIGINAL-URL:https://thesaintspub.com
X-WR-CALDESC:Events for thesaintspub.com
REFRESH-INTERVAL;VALUE=DURATION:PT1H
X-Robots-Tag:noindex
X-PUBLISHED-TTL:PT1H
BEGIN:VTIMEZONE
TZID:UTC
BEGIN:STANDARD
TZOFFSETFROM:+0000
TZOFFSETTO:+0000
TZNAME:UTC
DTSTART:20230101T000000
END:STANDARD
END:VTIMEZONE
BEGIN:VEVENT
DTSTART;TZID=UTC:20240202T183000
DTEND;TZID=UTC:20240202T213000
DTSTAMP:20260424T163619
CREATED:20240123T155839Z
LAST-MODIFIED:20240123T155839Z
UID:4478-1706898600-1706909400@thesaintspub.com
SUMMARY:Shepherd-N-Green
DESCRIPTION:
URL:https://thesaintspub.com/event/shepherd-n-green-27/
LOCATION:Pub\, Charlottesville\, VA 123456 United States\, Charlottesville\, United States
CATEGORIES:events
ORGANIZER;CN="Pub":MAILTO:pubzinne@example.com
END:VEVENT
BEGIN:VEVENT
DTSTART;TZID=UTC:20240203T183000
DTEND;TZID=UTC:20240203T213000
DTSTAMP:20260424T163619
CREATED:20240123T160002Z
LAST-MODIFIED:20240123T160002Z
UID:4480-1706985000-1706995800@thesaintspub.com
SUMMARY:The Terri Hines Band
DESCRIPTION:
URL:https://thesaintspub.com/event/the-terri-hines-band-39/
LOCATION:Pub\, Charlottesville\, VA 123456 United States\, Charlottesville\, United States
CATEGORIES:events
ORGANIZER;CN="Pub":MAILTO:pubzinne@example.com
END:VEVENT
BEGIN:VEVENT
DTSTART;TZID=UTC:20240209T183000
DTEND;TZID=UTC:20240209T213000
DTSTAMP:20260424T163619
CREATED:20240123T160250Z
LAST-MODIFIED:20240123T160250Z
UID:4486-1707503400-1707514200@thesaintspub.com
SUMMARY:Albert & Juan
DESCRIPTION:
URL:https://thesaintspub.com/event/albert-juan/
LOCATION:Pub\, Charlottesville\, VA 123456 United States\, Charlottesville\, United States
CATEGORIES:events
ORGANIZER;CN="Pub":MAILTO:pubzinne@example.com
END:VEVENT
BEGIN:VEVENT
DTSTART;TZID=UTC:20240210T183000
DTEND;TZID=UTC:20240210T213000
DTSTAMP:20260424T163619
CREATED:20240123T160338Z
LAST-MODIFIED:20240123T160338Z
UID:4488-1707589800-1707600600@thesaintspub.com
SUMMARY:Sudden Rush
DESCRIPTION:
URL:https://thesaintspub.com/event/sudden-rush/
LOCATION:Pub\, Charlottesville\, VA 123456 United States\, Charlottesville\, United States
CATEGORIES:events
ORGANIZER;CN="Pub":MAILTO:pubzinne@example.com
END:VEVENT
BEGIN:VEVENT
DTSTART;TZID=UTC:20240216T183000
DTEND;TZID=UTC:20240216T213000
DTSTAMP:20260424T163619
CREATED:20240123T162732Z
LAST-MODIFIED:20240123T162732Z
UID:4494-1708108200-1708119000@thesaintspub.com
SUMMARY:The Terri Hines Band
DESCRIPTION:
URL:https://thesaintspub.com/event/the-terri-hines-band-40/
LOCATION:Pub\, Charlottesville\, VA 123456 United States\, Charlottesville\, United States
CATEGORIES:events
ORGANIZER;CN="Pub":MAILTO:pubzinne@example.com
END:VEVENT
BEGIN:VEVENT
DTSTART;TZID=UTC:20240217T183000
DTEND;TZID=UTC:20240217T213000
DTSTAMP:20260424T163619
CREATED:20240123T162837Z
LAST-MODIFIED:20240123T162837Z
UID:4497-1708194600-1708205400@thesaintspub.com
SUMMARY:Shepherd-N-Green
DESCRIPTION:
URL:https://thesaintspub.com/event/shepherd-n-green-28/
LOCATION:Pub\, Charlottesville\, VA 123456 United States\, Charlottesville\, United States
CATEGORIES:events
ORGANIZER;CN="Pub":MAILTO:pubzinne@example.com
END:VEVENT
BEGIN:VEVENT
DTSTART;TZID=UTC:20240223T183000
DTEND;TZID=UTC:20240223T213000
DTSTAMP:20260424T163619
CREATED:20240123T163214Z
LAST-MODIFIED:20240123T163214Z
UID:4504-1708713000-1708723800@thesaintspub.com
SUMMARY:Big T
DESCRIPTION:
URL:https://thesaintspub.com/event/big-t-7/
LOCATION:Pub\, Charlottesville\, VA 123456 United States\, Charlottesville\, United States
CATEGORIES:events
ORGANIZER;CN="Pub":MAILTO:pubzinne@example.com
END:VEVENT
BEGIN:VEVENT
DTSTART;TZID=UTC:20240224T183000
DTEND;TZID=UTC:20240224T213000
DTSTAMP:20260424T163619
CREATED:20240123T163302Z
LAST-MODIFIED:20240123T163302Z
UID:4506-1708799400-1708810200@thesaintspub.com
SUMMARY:The Terri Hines Band
DESCRIPTION:
URL:https://thesaintspub.com/event/the-terri-hines-band-41/
LOCATION:Pub\, Charlottesville\, VA 123456 United States\, Charlottesville\, United States
CATEGORIES:events
ORGANIZER;CN="Pub":MAILTO:pubzinne@example.com
END:VEVENT
END:VCALENDAR