BEGIN:VCALENDAR
VERSION:2.0
PRODID:-//thesaintspub.com - ECPv6.15.20//NONSGML v1.0//EN
CALSCALE:GREGORIAN
METHOD:PUBLISH
X-ORIGINAL-URL:https://thesaintspub.com
X-WR-CALDESC:Events for thesaintspub.com
REFRESH-INTERVAL;VALUE=DURATION:PT1H
X-Robots-Tag:noindex
X-PUBLISHED-TTL:PT1H
BEGIN:VTIMEZONE
TZID:UTC
BEGIN:STANDARD
TZOFFSETFROM:+0000
TZOFFSETTO:+0000
TZNAME:UTC
DTSTART:20240101T000000
END:STANDARD
END:VTIMEZONE
BEGIN:VEVENT
DTSTART;TZID=UTC:20250103T183000
DTEND;TZID=UTC:20250103T213000
DTSTAMP:20260423T221832
CREATED:20241213T134042Z
LAST-MODIFIED:20241213T134042Z
UID:5573-1735929000-1735939800@thesaintspub.com
SUMMARY:Alita & The Boyz
DESCRIPTION:
URL:https://thesaintspub.com/event/alita-the-boyz-8/
LOCATION:The Saints Pub\, 2601 SE Morningside Blvd\, Port St. Lucie\, FL\, 34952\, United States
CATEGORIES:events
ORGANIZER;CN="The Saints Pub":MAILTO:info@thesaintspub.com
END:VEVENT
BEGIN:VEVENT
DTSTART;TZID=UTC:20250104T183000
DTEND;TZID=UTC:20250104T213000
DTSTAMP:20260423T221832
CREATED:20241213T134109Z
LAST-MODIFIED:20241213T134109Z
UID:5575-1736015400-1736026200@thesaintspub.com
SUMMARY:The Terri Hines Band
DESCRIPTION:
URL:https://thesaintspub.com/event/the-terri-hines-band-60/
LOCATION:The Saints Pub\, 2601 SE Morningside Blvd\, Port St. Lucie\, FL\, 34952\, United States
CATEGORIES:events
ORGANIZER;CN="The Saints Pub":MAILTO:info@thesaintspub.com
END:VEVENT
BEGIN:VEVENT
DTSTART;TZID=UTC:20250110T183000
DTEND;TZID=UTC:20250110T213000
DTSTAMP:20260423T221832
CREATED:20241213T134138Z
LAST-MODIFIED:20241213T134138Z
UID:5577-1736533800-1736544600@thesaintspub.com
SUMMARY:Albert & Juan
DESCRIPTION:
URL:https://thesaintspub.com/event/albert-juan-8/
LOCATION:The Saints Pub\, 2601 SE Morningside Blvd\, Port St. Lucie\, FL\, 34952\, United States
CATEGORIES:events
ORGANIZER;CN="The Saints Pub":MAILTO:info@thesaintspub.com
END:VEVENT
BEGIN:VEVENT
DTSTART;TZID=UTC:20250111T183000
DTEND;TZID=UTC:20250111T213000
DTSTAMP:20260423T221832
CREATED:20241213T134205Z
LAST-MODIFIED:20241213T134205Z
UID:5579-1736620200-1736631000@thesaintspub.com
SUMMARY:Joey and The Paradons
DESCRIPTION:
URL:https://thesaintspub.com/event/joey-and-the-paradons-5/
LOCATION:The Saints Pub\, 2601 SE Morningside Blvd\, Port St. Lucie\, FL\, 34952\, United States
CATEGORIES:events
ORGANIZER;CN="The Saints Pub":MAILTO:info@thesaintspub.com
END:VEVENT
BEGIN:VEVENT
DTSTART;TZID=UTC:20250117T183000
DTEND;TZID=UTC:20250117T213000
DTSTAMP:20260423T221832
CREATED:20241213T134337Z
LAST-MODIFIED:20241213T134337Z
UID:5585-1737138600-1737149400@thesaintspub.com
SUMMARY:The Terri Hines Band
DESCRIPTION:
URL:https://thesaintspub.com/event/the-terri-hines-band-61/
LOCATION:The Saints Pub\, 2601 SE Morningside Blvd\, Port St. Lucie\, FL\, 34952\, United States
CATEGORIES:events
ORGANIZER;CN="The Saints Pub":MAILTO:info@thesaintspub.com
END:VEVENT
BEGIN:VEVENT
DTSTART;TZID=UTC:20250124T183000
DTEND;TZID=UTC:20250124T213000
DTSTAMP:20260423T221832
CREATED:20241213T134903Z
LAST-MODIFIED:20241213T134903Z
UID:5593-1737743400-1737754200@thesaintspub.com
SUMMARY:Alita & The Boyz
DESCRIPTION:
URL:https://thesaintspub.com/event/alita-the-boyz-9/
LOCATION:The Saints Pub\, 2601 SE Morningside Blvd\, Port St. Lucie\, FL\, 34952\, United States
CATEGORIES:events
ORGANIZER;CN="The Saints Pub":MAILTO:info@thesaintspub.com
END:VEVENT
BEGIN:VEVENT
DTSTART;TZID=UTC:20250125T183000
DTEND;TZID=UTC:20250125T213000
DTSTAMP:20260423T221832
CREATED:20250106T214645Z
LAST-MODIFIED:20250106T214645Z
UID:5607-1737829800-1737840600@thesaintspub.com
SUMMARY:Acoustics by Fudge
DESCRIPTION:
URL:https://thesaintspub.com/event/acoustics-by-fudge/
LOCATION:The Saints Pub\, 2601 SE Morningside Blvd\, Port St. Lucie\, FL\, 34952\, United States
CATEGORIES:events
ORGANIZER;CN="The Saints Pub":MAILTO:info@thesaintspub.com
END:VEVENT
BEGIN:VEVENT
DTSTART;TZID=UTC:20250131T183000
DTEND;TZID=UTC:20250131T213000
DTSTAMP:20260423T221832
CREATED:20250128T105942Z
LAST-MODIFIED:20250128T105942Z
UID:5614-1738348200-1738359000@thesaintspub.com
SUMMARY:Big T
DESCRIPTION:
URL:https://thesaintspub.com/event/big-t-18/
LOCATION:The Saints Pub\, 2601 SE Morningside Blvd\, Port St. Lucie\, FL\, 34952\, United States
CATEGORIES:events
ORGANIZER;CN="The Saints Pub":MAILTO:info@thesaintspub.com
END:VEVENT
END:VCALENDAR