BEGIN:VCALENDAR
VERSION:2.0
PRODID:-//thesaintspub.com - ECPv6.15.20//NONSGML v1.0//EN
CALSCALE:GREGORIAN
METHOD:PUBLISH
X-ORIGINAL-URL:https://thesaintspub.com
X-WR-CALDESC:Events for thesaintspub.com
REFRESH-INTERVAL;VALUE=DURATION:PT1H
X-Robots-Tag:noindex
X-PUBLISHED-TTL:PT1H
BEGIN:VTIMEZONE
TZID:UTC
BEGIN:STANDARD
TZOFFSETFROM:+0000
TZOFFSETTO:+0000
TZNAME:UTC
DTSTART:20240101T000000
END:STANDARD
END:VTIMEZONE
BEGIN:VEVENT
DTSTART;TZID=UTC:20250703T180000
DTEND;TZID=UTC:20250703T210000
DTSTAMP:20260423T064243
CREATED:20250624T103552Z
LAST-MODIFIED:20250624T103552Z
UID:5871-1751565600-1751576400@thesaintspub.com
SUMMARY:Cup of Joe's
DESCRIPTION:
URL:https://thesaintspub.com/event/cup-of-joes-8/
LOCATION:The Saints Pub\, 2601 SE Morningside Blvd\, Port St. Lucie\, FL\, 34952\, United States
CATEGORIES:events
ORGANIZER;CN="The Saints Pub":MAILTO:info@thesaintspub.com
END:VEVENT
BEGIN:VEVENT
DTSTART;TZID=UTC:20250705T183000
DTEND;TZID=UTC:20250705T213000
DTSTAMP:20260423T064243
CREATED:20250429T124148Z
LAST-MODIFIED:20250429T124148Z
UID:5828-1751740200-1751751000@thesaintspub.com
SUMMARY:The Terri Hines Band
DESCRIPTION:
URL:https://thesaintspub.com/event/the-terri-hines-band-72/
LOCATION:The Saints Pub\, 2601 SE Morningside Blvd\, Port St. Lucie\, FL\, 34952\, United States
CATEGORIES:events
ORGANIZER;CN="The Saints Pub":MAILTO:info@thesaintspub.com
END:VEVENT
BEGIN:VEVENT
DTSTART;TZID=UTC:20250711T183000
DTEND;TZID=UTC:20250711T213000
DTSTAMP:20260423T064243
CREATED:20250623T154212Z
LAST-MODIFIED:20250623T154212Z
UID:5845-1752258600-1752269400@thesaintspub.com
SUMMARY:Alita & The Boyz
DESCRIPTION:
URL:https://thesaintspub.com/event/alita-the-boyz-14/
LOCATION:The Saints Pub\, 2601 SE Morningside Blvd\, Port St. Lucie\, FL\, 34952\, United States
CATEGORIES:events
ORGANIZER;CN="The Saints Pub":MAILTO:info@thesaintspub.com
END:VEVENT
BEGIN:VEVENT
DTSTART;TZID=UTC:20250712T183000
DTEND;TZID=UTC:20250712T213000
DTSTAMP:20260423T064243
CREATED:20250623T154311Z
LAST-MODIFIED:20250623T154311Z
UID:5847-1752345000-1752355800@thesaintspub.com
SUMMARY:At Ease
DESCRIPTION:
URL:https://thesaintspub.com/event/at-ease/
LOCATION:The Saints Pub\, 2601 SE Morningside Blvd\, Port St. Lucie\, FL\, 34952\, United States
CATEGORIES:events
ORGANIZER;CN="The Saints Pub":MAILTO:info@thesaintspub.com
END:VEVENT
BEGIN:VEVENT
DTSTART;TZID=UTC:20250718T183000
DTEND;TZID=UTC:20250718T213000
DTSTAMP:20260423T064243
CREATED:20250623T154546Z
LAST-MODIFIED:20250623T154546Z
UID:5855-1752863400-1752874200@thesaintspub.com
SUMMARY:The Terri Hines Band
DESCRIPTION:
URL:https://thesaintspub.com/event/the-terri-hines-band-73/
LOCATION:The Saints Pub\, 2601 SE Morningside Blvd\, Port St. Lucie\, FL\, 34952\, United States
CATEGORIES:events
ORGANIZER;CN="The Saints Pub":MAILTO:info@thesaintspub.com
END:VEVENT
BEGIN:VEVENT
DTSTART;TZID=UTC:20250719T183000
DTEND;TZID=UTC:20250719T213000
DTSTAMP:20260423T064243
CREATED:20250623T154701Z
LAST-MODIFIED:20250623T154701Z
UID:5857-1752949800-1752960600@thesaintspub.com
SUMMARY:Shaboom
DESCRIPTION:
URL:https://thesaintspub.com/event/shaboom-26/
LOCATION:The Saints Pub\, 2601 SE Morningside Blvd\, Port St. Lucie\, FL\, 34952\, United States
CATEGORIES:events
ORGANIZER;CN="The Saints Pub":MAILTO:info@thesaintspub.com
END:VEVENT
BEGIN:VEVENT
DTSTART;TZID=UTC:20250725T183000
DTEND;TZID=UTC:20250725T213000
DTSTAMP:20260423T064243
CREATED:20250623T154847Z
LAST-MODIFIED:20250623T154847Z
UID:5863-1753468200-1753479000@thesaintspub.com
SUMMARY:Big T
DESCRIPTION:
URL:https://thesaintspub.com/event/big-t-22/
LOCATION:The Saints Pub\, 2601 SE Morningside Blvd\, Port St. Lucie\, FL\, 34952\, United States
CATEGORIES:events
ORGANIZER;CN="The Saints Pub":MAILTO:info@thesaintspub.com
END:VEVENT
BEGIN:VEVENT
DTSTART;TZID=UTC:20250726T183000
DTEND;TZID=UTC:20250726T213000
DTSTAMP:20260423T064243
CREATED:20250623T154934Z
LAST-MODIFIED:20250623T154934Z
UID:5865-1753554600-1753565400@thesaintspub.com
SUMMARY:Radio Days
DESCRIPTION:
URL:https://thesaintspub.com/event/radio-days-2/
LOCATION:The Saints Pub\, 2601 SE Morningside Blvd\, Port St. Lucie\, FL\, 34952\, United States
CATEGORIES:events
ORGANIZER;CN="The Saints Pub":MAILTO:info@thesaintspub.com
END:VEVENT
END:VCALENDAR