BEGIN:VCALENDAR
VERSION:2.0
PRODID:-//thesaintspub.com - ECPv6.15.20//NONSGML v1.0//EN
CALSCALE:GREGORIAN
METHOD:PUBLISH
X-WR-CALNAME:thesaintspub.com
X-ORIGINAL-URL:https://thesaintspub.com
X-WR-CALDESC:Events for thesaintspub.com
REFRESH-INTERVAL;VALUE=DURATION:PT1H
X-Robots-Tag:noindex
X-PUBLISHED-TTL:PT1H
BEGIN:VTIMEZONE
TZID:UTC
BEGIN:STANDARD
TZOFFSETFROM:+0000
TZOFFSETTO:+0000
TZNAME:UTC
DTSTART:20240101T000000
END:STANDARD
END:VTIMEZONE
BEGIN:VEVENT
DTSTART;TZID=UTC:20250801T183000
DTEND;TZID=UTC:20250801T213000
DTSTAMP:20260423T045739
CREATED:20250724T073630Z
LAST-MODIFIED:20250724T073630Z
UID:5874-1754073000-1754083800@thesaintspub.com
SUMMARY:JROX
DESCRIPTION:
URL:https://thesaintspub.com/event/jrox-7/
LOCATION:The Saints Pub\, 2601 SE Morningside Blvd\, Port St. Lucie\, FL\, 34952\, United States
CATEGORIES:events
ORGANIZER;CN="The Saints Pub":MAILTO:info@thesaintspub.com
END:VEVENT
BEGIN:VEVENT
DTSTART;TZID=UTC:20250802T183000
DTEND;TZID=UTC:20250802T213000
DTSTAMP:20260423T045739
CREATED:20250724T073710Z
LAST-MODIFIED:20250724T073710Z
UID:5876-1754159400-1754170200@thesaintspub.com
SUMMARY:Shaboom
DESCRIPTION:
URL:https://thesaintspub.com/event/shaboom-27/
LOCATION:The Saints Pub\, 2601 SE Morningside Blvd\, Port St. Lucie\, FL\, 34952\, United States
CATEGORIES:events
ORGANIZER;CN="The Saints Pub":MAILTO:info@thesaintspub.com
END:VEVENT
BEGIN:VEVENT
DTSTART;TZID=UTC:20250807T180000
DTEND;TZID=UTC:20250807T210000
DTSTAMP:20260423T045739
CREATED:20250429T140852Z
LAST-MODIFIED:20250429T140947Z
UID:5834-1754589600-1754600400@thesaintspub.com
SUMMARY:Cup of Joe's
DESCRIPTION:
URL:https://thesaintspub.com/event/cup-of-joes-3/
LOCATION:The Saints Pub\, 2601 SE Morningside Blvd\, Port St. Lucie\, FL\, 34952\, United States
CATEGORIES:events
ORGANIZER;CN="The Saints Pub":MAILTO:info@thesaintspub.com
END:VEVENT
BEGIN:VEVENT
DTSTART;TZID=UTC:20250808T183000
DTEND;TZID=UTC:20250808T213000
DTSTAMP:20260423T045739
CREATED:20250724T074052Z
LAST-MODIFIED:20250724T074052Z
UID:5886-1754677800-1754688600@thesaintspub.com
SUMMARY:Alita & The Boyz
DESCRIPTION:
URL:https://thesaintspub.com/event/alita-the-boyz-15/
LOCATION:The Saints Pub\, 2601 SE Morningside Blvd\, Port St. Lucie\, FL\, 34952\, United States
CATEGORIES:events
ORGANIZER;CN="The Saints Pub":MAILTO:info@thesaintspub.com
END:VEVENT
BEGIN:VEVENT
DTSTART;TZID=UTC:20250809T183000
DTEND;TZID=UTC:20250809T213000
DTSTAMP:20260423T045739
CREATED:20250724T074151Z
LAST-MODIFIED:20250724T074151Z
UID:5888-1754764200-1754775000@thesaintspub.com
SUMMARY:Albert & Juan
DESCRIPTION:
URL:https://thesaintspub.com/event/albert-juan-12/
LOCATION:The Saints Pub\, 2601 SE Morningside Blvd\, Port St. Lucie\, FL\, 34952\, United States
CATEGORIES:events
ORGANIZER;CN="The Saints Pub":MAILTO:info@thesaintspub.com
END:VEVENT
BEGIN:VEVENT
DTSTART;TZID=UTC:20250815T183000
DTEND;TZID=UTC:20250815T213000
DTSTAMP:20260423T045739
CREATED:20250724T074309Z
LAST-MODIFIED:20250724T074309Z
UID:5890-1755282600-1755293400@thesaintspub.com
SUMMARY:The Terri Hines Band
DESCRIPTION:
URL:https://thesaintspub.com/event/the-terri-hines-band-74/
LOCATION:The Saints Pub\, 2601 SE Morningside Blvd\, Port St. Lucie\, FL\, 34952\, United States
CATEGORIES:events
ORGANIZER;CN="The Saints Pub":MAILTO:info@thesaintspub.com
END:VEVENT
BEGIN:VEVENT
DTSTART;TZID=UTC:20250816T183000
DTEND;TZID=UTC:20250816T213000
DTSTAMP:20260423T045739
CREATED:20250724T074820Z
LAST-MODIFIED:20250724T074820Z
UID:5902-1755369000-1755379800@thesaintspub.com
SUMMARY:Shaboom
DESCRIPTION:
URL:https://thesaintspub.com/event/shaboom-29/
LOCATION:The Saints Pub\, 2601 SE Morningside Blvd\, Port St. Lucie\, FL\, 34952\, United States
CATEGORIES:events
ORGANIZER;CN="The Saints Pub":MAILTO:info@thesaintspub.com
END:VEVENT
BEGIN:VEVENT
DTSTART;TZID=UTC:20250822T183000
DTEND;TZID=UTC:20250822T213000
DTSTAMP:20260423T045739
CREATED:20250724T074940Z
LAST-MODIFIED:20250724T074940Z
UID:5904-1755887400-1755898200@thesaintspub.com
SUMMARY:Big T
DESCRIPTION:
URL:https://thesaintspub.com/event/big-t-23/
LOCATION:The Saints Pub\, 2601 SE Morningside Blvd\, Port St. Lucie\, FL\, 34952\, United States
CATEGORIES:events
ORGANIZER;CN="The Saints Pub":MAILTO:info@thesaintspub.com
END:VEVENT
BEGIN:VEVENT
DTSTART;TZID=UTC:20250823T183000
DTEND;TZID=UTC:20250823T213000
DTSTAMP:20260423T045739
CREATED:20250724T075009Z
LAST-MODIFIED:20250724T075009Z
UID:5906-1755973800-1755984600@thesaintspub.com
SUMMARY:The Terri Hines Band
DESCRIPTION:
URL:https://thesaintspub.com/event/the-terri-hines-band-75/
LOCATION:The Saints Pub\, 2601 SE Morningside Blvd\, Port St. Lucie\, FL\, 34952\, United States
CATEGORIES:events
ORGANIZER;CN="The Saints Pub":MAILTO:info@thesaintspub.com
END:VEVENT
BEGIN:VEVENT
DTSTART;TZID=UTC:20250830T183000
DTEND;TZID=UTC:20250830T213000
DTSTAMP:20260423T045739
CREATED:20250724T075116Z
LAST-MODIFIED:20250724T075116Z
UID:5908-1756578600-1756589400@thesaintspub.com
SUMMARY:Radio Days
DESCRIPTION:
URL:https://thesaintspub.com/event/radio-days-3/
LOCATION:The Saints Pub\, 2601 SE Morningside Blvd\, Port St. Lucie\, FL\, 34952\, United States
CATEGORIES:events
ORGANIZER;CN="The Saints Pub":MAILTO:info@thesaintspub.com
END:VEVENT
END:VCALENDAR