BEGIN:VCALENDAR
VERSION:2.0
PRODID:-//thesaintspub.com - ECPv6.15.20//NONSGML v1.0//EN
CALSCALE:GREGORIAN
METHOD:PUBLISH
X-WR-CALNAME:thesaintspub.com
X-ORIGINAL-URL:https://thesaintspub.com
X-WR-CALDESC:Events for thesaintspub.com
REFRESH-INTERVAL;VALUE=DURATION:PT1H
X-Robots-Tag:noindex
X-PUBLISHED-TTL:PT1H
BEGIN:VTIMEZONE
TZID:UTC
BEGIN:STANDARD
TZOFFSETFROM:+0000
TZOFFSETTO:+0000
TZNAME:UTC
DTSTART:20230101T000000
END:STANDARD
END:VTIMEZONE
BEGIN:VEVENT
DTSTART;TZID=UTC:20240421T150000
DTEND;TZID=UTC:20240421T180000
DTSTAMP:20260424T132254
CREATED:20240401T114210Z
LAST-MODIFIED:20240412T201241Z
UID:4619-1713711600-1713722400@thesaintspub.com
SUMMARY:All You Can Eat Spaghetti & Meatball Dinner Featuring The Terri Hines Band
DESCRIPTION:
URL:https://thesaintspub.com/event/all-you-can-eat-spaghetti-meatball-dinner-featuring-the-terri-hines-band/
LOCATION:The Saints Pub\, 2601 SE Morningside Blvd\, Port St. Lucie\, FL\, 34952\, United States
CATEGORIES:events
END:VEVENT
END:VCALENDAR