BEGIN:VCALENDAR
VERSION:2.0
PRODID:-//thesaintspub.com - ECPv6.15.20//NONSGML v1.0//EN
CALSCALE:GREGORIAN
METHOD:PUBLISH
X-ORIGINAL-URL:https://thesaintspub.com
X-WR-CALDESC:Events for thesaintspub.com
REFRESH-INTERVAL;VALUE=DURATION:PT1H
X-Robots-Tag:noindex
X-PUBLISHED-TTL:PT1H
BEGIN:VTIMEZONE
TZID:UTC
BEGIN:STANDARD
TZOFFSETFROM:+0000
TZOFFSETTO:+0000
TZNAME:UTC
DTSTART:20240101T000000
END:STANDARD
END:VTIMEZONE
BEGIN:VEVENT
DTSTART;TZID=UTC:20250604T183000
DTEND;TZID=UTC:20250604T213000
DTSTAMP:20260423T090202
CREATED:20250429T121253Z
LAST-MODIFIED:20250429T121409Z
UID:5792-1749061800-1749072600@thesaintspub.com
SUMMARY:Top Clown Karaoke
DESCRIPTION:
URL:https://thesaintspub.com/event/top-clown-karaoke-184/
LOCATION:The Saints Pub\, 2601 SE Morningside Blvd\, Port St. Lucie\, FL\, 34952\, United States
CATEGORIES:events
ORGANIZER;CN="The Saints Pub":MAILTO:info@thesaintspub.com
END:VEVENT
BEGIN:VEVENT
DTSTART;TZID=UTC:20250604T190000
DTEND;TZID=UTC:20250604T203000
DTSTAMP:20260423T090202
CREATED:20250429T121226Z
LAST-MODIFIED:20250429T121226Z
UID:5790-1749063600-1749069000@thesaintspub.com
SUMMARY:Country Line Dancing in The Sandpiper Room
DESCRIPTION:
URL:https://thesaintspub.com/event/country-line-dancing-in-the-sandpiper-room-4/
LOCATION:The Saints Pub\, 2601 SE Morningside Blvd\, Port St. Lucie\, FL\, 34952\, United States
CATEGORIES:events
ORGANIZER;CN="The Saints Pub":MAILTO:info@thesaintspub.com
END:VEVENT
BEGIN:VEVENT
DTSTART;TZID=UTC:20250611T183000
DTEND;TZID=UTC:20250611T213000
DTSTAMP:20260423T090202
CREATED:20250429T121548Z
LAST-MODIFIED:20250429T121548Z
UID:5796-1749666600-1749677400@thesaintspub.com
SUMMARY:Top Clown Karaoke
DESCRIPTION:
URL:https://thesaintspub.com/event/top-clown-karaoke-185/
LOCATION:The Saints Pub\, 2601 SE Morningside Blvd\, Port St. Lucie\, FL\, 34952\, United States
CATEGORIES:events
ORGANIZER;CN="The Saints Pub":MAILTO:info@thesaintspub.com
END:VEVENT
BEGIN:VEVENT
DTSTART;TZID=UTC:20250611T190000
DTEND;TZID=UTC:20250611T203000
DTSTAMP:20260423T090202
CREATED:20250429T121613Z
LAST-MODIFIED:20250429T121613Z
UID:5798-1749668400-1749673800@thesaintspub.com
SUMMARY:Country Line Dancing in The Sandpiper Room
DESCRIPTION:
URL:https://thesaintspub.com/event/country-line-dancing-in-the-sandpiper-room-5/
LOCATION:The Saints Pub\, 2601 SE Morningside Blvd\, Port St. Lucie\, FL\, 34952\, United States
CATEGORIES:events
ORGANIZER;CN="The Saints Pub":MAILTO:info@thesaintspub.com
END:VEVENT
BEGIN:VEVENT
DTSTART;TZID=UTC:20250613T183000
DTEND;TZID=UTC:20250613T213000
DTSTAMP:20260423T090202
CREATED:20250429T121715Z
LAST-MODIFIED:20250429T121715Z
UID:5800-1749839400-1749850200@thesaintspub.com
SUMMARY:Alita & The Boyz
DESCRIPTION:
URL:https://thesaintspub.com/event/alita-the-boyz-13/
LOCATION:The Saints Pub\, 2601 SE Morningside Blvd\, Port St. Lucie\, FL\, 34952\, United States
CATEGORIES:events
ORGANIZER;CN="The Saints Pub":MAILTO:info@thesaintspub.com
END:VEVENT
BEGIN:VEVENT
DTSTART;TZID=UTC:20250614T183000
DTEND;TZID=UTC:20250614T213000
DTSTAMP:20260423T090202
CREATED:20250429T121822Z
LAST-MODIFIED:20250429T121822Z
UID:5802-1749925800-1749936600@thesaintspub.com
SUMMARY:Radio Days
DESCRIPTION:
URL:https://thesaintspub.com/event/radio-days/
LOCATION:The Saints Pub\, 2601 SE Morningside Blvd\, Port St. Lucie\, FL\, 34952\, United States
CATEGORIES:events
ORGANIZER;CN="The Saints Pub":MAILTO:info@thesaintspub.com
END:VEVENT
BEGIN:VEVENT
DTSTART;TZID=UTC:20250618T183000
DTEND;TZID=UTC:20250618T213000
DTSTAMP:20260423T090202
CREATED:20250429T121857Z
LAST-MODIFIED:20250429T121857Z
UID:5804-1750271400-1750282200@thesaintspub.com
SUMMARY:Top Clown Karaoke
DESCRIPTION:
URL:https://thesaintspub.com/event/top-clown-karaoke-186/
LOCATION:The Saints Pub\, 2601 SE Morningside Blvd\, Port St. Lucie\, FL\, 34952\, United States
CATEGORIES:events
ORGANIZER;CN="The Saints Pub":MAILTO:info@thesaintspub.com
END:VEVENT
BEGIN:VEVENT
DTSTART;TZID=UTC:20250618T190000
DTEND;TZID=UTC:20250618T203000
DTSTAMP:20260423T090202
CREATED:20250429T121923Z
LAST-MODIFIED:20250429T121923Z
UID:5806-1750273200-1750278600@thesaintspub.com
SUMMARY:Country Line Dancing in The Sandpiper Room
DESCRIPTION:
URL:https://thesaintspub.com/event/country-line-dancing-in-the-sandpiper-room-6/
LOCATION:The Saints Pub\, 2601 SE Morningside Blvd\, Port St. Lucie\, FL\, 34952\, United States
CATEGORIES:events
ORGANIZER;CN="The Saints Pub":MAILTO:info@thesaintspub.com
END:VEVENT
BEGIN:VEVENT
DTSTART;TZID=UTC:20250625T183000
DTEND;TZID=UTC:20250625T213000
DTSTAMP:20260423T090202
CREATED:20250429T122215Z
LAST-MODIFIED:20250429T122215Z
UID:5812-1750876200-1750887000@thesaintspub.com
SUMMARY:Top Clown Karaoke
DESCRIPTION:
URL:https://thesaintspub.com/event/top-clown-karaoke-187/
LOCATION:The Saints Pub\, 2601 SE Morningside Blvd\, Port St. Lucie\, FL\, 34952\, United States
CATEGORIES:events
ORGANIZER;CN="The Saints Pub":MAILTO:info@thesaintspub.com
END:VEVENT
BEGIN:VEVENT
DTSTART;TZID=UTC:20250625T190000
DTEND;TZID=UTC:20250625T203000
DTSTAMP:20260423T090202
CREATED:20250429T122251Z
LAST-MODIFIED:20250429T122251Z
UID:5814-1750878000-1750883400@thesaintspub.com
SUMMARY:Country Line Dancing in The Sandpiper Room
DESCRIPTION:
URL:https://thesaintspub.com/event/country-line-dancing-in-the-sandpiper-room-7/
LOCATION:The Saints Pub\, 2601 SE Morningside Blvd\, Port St. Lucie\, FL\, 34952\, United States
CATEGORIES:events
ORGANIZER;CN="The Saints Pub":MAILTO:info@thesaintspub.com
END:VEVENT
BEGIN:VEVENT
DTSTART;TZID=UTC:20250628T183000
DTEND;TZID=UTC:20250628T213000
DTSTAMP:20260423T090202
CREATED:20250429T122505Z
LAST-MODIFIED:20250429T122505Z
UID:5818-1751135400-1751146200@thesaintspub.com
SUMMARY:Big T
DESCRIPTION:
URL:https://thesaintspub.com/event/big-t-21/
LOCATION:The Saints Pub\, 2601 SE Morningside Blvd\, Port St. Lucie\, FL\, 34952\, United States
CATEGORIES:events
ORGANIZER;CN="The Saints Pub":MAILTO:info@thesaintspub.com
END:VEVENT
END:VCALENDAR