BEGIN:VCALENDAR
VERSION:2.0
PRODID:-//thesaintspub.com - ECPv6.15.20//NONSGML v1.0//EN
CALSCALE:GREGORIAN
METHOD:PUBLISH
X-WR-CALNAME:thesaintspub.com
X-ORIGINAL-URL:https://thesaintspub.com
X-WR-CALDESC:Events for thesaintspub.com
REFRESH-INTERVAL;VALUE=DURATION:PT1H
X-Robots-Tag:noindex
X-PUBLISHED-TTL:PT1H
BEGIN:VTIMEZONE
TZID:UTC
BEGIN:STANDARD
TZOFFSETFROM:+0000
TZOFFSETTO:+0000
TZNAME:UTC
DTSTART:20220101T000000
END:STANDARD
END:VTIMEZONE
BEGIN:VEVENT
DTSTART;TZID=UTC:20231011T183000
DTEND;TZID=UTC:20231011T213000
DTSTAMP:20260425T015418
CREATED:20230922T001543Z
LAST-MODIFIED:20230922T001644Z
UID:4326-1697049000-1697059800@thesaintspub.com
SUMMARY:Top Clown Karaoke
DESCRIPTION:
URL:https://thesaintspub.com/event/top-clown-karaoke-101/
LOCATION:Pub\, Charlottesville\, VA 123456 United States\, Charlottesville\, United States
CATEGORIES:events
ORGANIZER;CN="Pub":MAILTO:pubzinne@example.com
END:VEVENT
BEGIN:VEVENT
DTSTART;TZID=UTC:20231011T190000
DTEND;TZID=UTC:20231011T203000
DTSTAMP:20260425T015418
CREATED:20230922T001613Z
LAST-MODIFIED:20230922T001712Z
UID:4328-1697050800-1697056200@thesaintspub.com
SUMMARY:Line Dancing in The Sandpiper Room
DESCRIPTION:
URL:https://thesaintspub.com/event/line-dancing-in-the-sandpiper-room-46/
LOCATION:Pub\, Charlottesville\, VA 123456 United States\, Charlottesville\, United States
CATEGORIES:events
ORGANIZER;CN="Pub":MAILTO:pubzinne@example.com
END:VEVENT
END:VCALENDAR