BEGIN:VCALENDAR
VERSION:2.0
PRODID:-//thesaintspub.com - ECPv6.15.20//NONSGML v1.0//EN
CALSCALE:GREGORIAN
METHOD:PUBLISH
X-ORIGINAL-URL:https://thesaintspub.com
X-WR-CALDESC:Events for thesaintspub.com
REFRESH-INTERVAL;VALUE=DURATION:PT1H
X-Robots-Tag:noindex
X-PUBLISHED-TTL:PT1H
BEGIN:VTIMEZONE
TZID:UTC
BEGIN:STANDARD
TZOFFSETFROM:+0000
TZOFFSETTO:+0000
TZNAME:UTC
DTSTART:20220101T000000
END:STANDARD
END:VTIMEZONE
BEGIN:VEVENT
DTSTART;TZID=UTC:20231231T160000
DTEND;TZID=UTC:20231231T200000
DTSTAMP:20260424T173617
CREATED:20231121T200847Z
LAST-MODIFIED:20231221T221304Z
UID:4427-1704038400-1704052800@thesaintspub.com
SUMMARY:Irish New Years Party- Albert & Lenny
DESCRIPTION:
URL:https://thesaintspub.com/event/irish-new-years-party/
LOCATION:Pub\, Charlottesville\, VA 123456 United States\, Charlottesville\, United States
CATEGORIES:events
ORGANIZER;CN="Pub":MAILTO:pubzinne@example.com
END:VEVENT
BEGIN:VEVENT
DTSTART;TZID=UTC:20231231T190000
DTEND;TZID=UTC:20240101T000000
DTSTAMP:20260424T173617
CREATED:20231121T201735Z
LAST-MODIFIED:20231221T221220Z
UID:4429-1704049200-1704067200@thesaintspub.com
SUMMARY:New Years Eve Party Featuring Terri Hines
DESCRIPTION:
URL:https://thesaintspub.com/event/new-years-party-featuring-terri-hines/
LOCATION:Pub\, Charlottesville\, VA 123456 United States\, Charlottesville\, United States
CATEGORIES:events
ORGANIZER;CN="Pub":MAILTO:pubzinne@example.com
END:VEVENT
END:VCALENDAR