BEGIN:VCALENDAR
VERSION:2.0
PRODID:-//thesaintspub.com - ECPv6.15.20//NONSGML v1.0//EN
CALSCALE:GREGORIAN
METHOD:PUBLISH
X-ORIGINAL-URL:https://thesaintspub.com
X-WR-CALDESC:Events for thesaintspub.com
REFRESH-INTERVAL;VALUE=DURATION:PT1H
X-Robots-Tag:noindex
X-PUBLISHED-TTL:PT1H
BEGIN:VTIMEZONE
TZID:America/Halifax
BEGIN:DAYLIGHT
TZOFFSETFROM:-0400
TZOFFSETTO:-0300
TZNAME:ADT
DTSTART:20240310T060000
END:DAYLIGHT
BEGIN:STANDARD
TZOFFSETFROM:-0300
TZOFFSETTO:-0400
TZNAME:AST
DTSTART:20241103T050000
END:STANDARD
BEGIN:DAYLIGHT
TZOFFSETFROM:-0400
TZOFFSETTO:-0300
TZNAME:ADT
DTSTART:20250309T060000
END:DAYLIGHT
BEGIN:STANDARD
TZOFFSETFROM:-0300
TZOFFSETTO:-0400
TZNAME:AST
DTSTART:20251102T050000
END:STANDARD
BEGIN:DAYLIGHT
TZOFFSETFROM:-0400
TZOFFSETTO:-0300
TZNAME:ADT
DTSTART:20260308T060000
END:DAYLIGHT
BEGIN:STANDARD
TZOFFSETFROM:-0300
TZOFFSETTO:-0400
TZNAME:AST
DTSTART:20261101T050000
END:STANDARD
END:VTIMEZONE
BEGIN:VTIMEZONE
TZID:UTC
BEGIN:STANDARD
TZOFFSETFROM:+0000
TZOFFSETTO:+0000
TZNAME:UTC
DTSTART:20240101T000000
END:STANDARD
END:VTIMEZONE
BEGIN:VEVENT
DTSTART;TZID=America/Halifax:20251203T190000
DTEND;TZID=America/Halifax:20251203T203000
DTSTAMP:20260423T070652
CREATED:20251112T232716Z
LAST-MODIFIED:20251112T232716Z
UID:6226-1764788400-1764793800@thesaintspub.com
SUMMARY:Country Line Dancing in The Sandpiper Room
DESCRIPTION:
URL:https://thesaintspub.com/event/country-line-dancing-in-the-sandpiper-room-29/
LOCATION:The Saints Pub\, 2601 SE Morningside Blvd\, Port St. Lucie\, FL\, 34952\, United States
CATEGORIES:events
ORGANIZER;CN="The Saints Pub":MAILTO:info@thesaintspub.com
END:VEVENT
BEGIN:VEVENT
DTSTART;TZID=UTC:20251204T180000
DTEND;TZID=UTC:20251204T210000
DTSTAMP:20260423T070652
CREATED:20250429T141219Z
LAST-MODIFIED:20250429T141219Z
UID:5842-1764871200-1764882000@thesaintspub.com
SUMMARY:Cup of Joe's
DESCRIPTION:
URL:https://thesaintspub.com/event/cup-of-joes-7/
LOCATION:The Saints Pub\, 2601 SE Morningside Blvd\, Port St. Lucie\, FL\, 34952\, United States
CATEGORIES:events
ORGANIZER;CN="The Saints Pub":MAILTO:info@thesaintspub.com
END:VEVENT
BEGIN:VEVENT
DTSTART;TZID=UTC:20251205T183000
DTEND;TZID=UTC:20251205T213000
DTSTAMP:20260423T070652
CREATED:20251112T232859Z
LAST-MODIFIED:20251112T232859Z
UID:6228-1764959400-1764970200@thesaintspub.com
SUMMARY:Albert & Juan
DESCRIPTION:
URL:https://thesaintspub.com/event/albert-juan-15/
LOCATION:The Saints Pub\, 2601 SE Morningside Blvd\, Port St. Lucie\, FL\, 34952\, United States
CATEGORIES:events
ORGANIZER;CN="The Saints Pub":MAILTO:info@thesaintspub.com
END:VEVENT
BEGIN:VEVENT
DTSTART;TZID=UTC:20251206T183000
DTEND;TZID=UTC:20251206T213000
DTSTAMP:20260423T070652
CREATED:20251112T233002Z
LAST-MODIFIED:20251112T233002Z
UID:6230-1765045800-1765056600@thesaintspub.com
SUMMARY:The Terri Hines Band
DESCRIPTION:
URL:https://thesaintspub.com/event/the-terri-hines-band-82/
LOCATION:The Saints Pub\, 2601 SE Morningside Blvd\, Port St. Lucie\, FL\, 34952\, United States
CATEGORIES:events
ORGANIZER;CN="The Saints Pub":MAILTO:info@thesaintspub.com
END:VEVENT
BEGIN:VEVENT
DTSTART;TZID=America/Halifax:20251210T190000
DTEND;TZID=America/Halifax:20251210T203000
DTSTAMP:20260423T070652
CREATED:20251112T233213Z
LAST-MODIFIED:20251112T233213Z
UID:6234-1765393200-1765398600@thesaintspub.com
SUMMARY:Country Line Dancing in The Sandpiper Room
DESCRIPTION:
URL:https://thesaintspub.com/event/country-line-dancing-in-the-sandpiper-room-30/
LOCATION:The Saints Pub\, 2601 SE Morningside Blvd\, Port St. Lucie\, FL\, 34952\, United States
CATEGORIES:events
ORGANIZER;CN="The Saints Pub":MAILTO:info@thesaintspub.com
END:VEVENT
BEGIN:VEVENT
DTSTART;TZID=America/Halifax:20251217T190000
DTEND;TZID=America/Halifax:20251217T203000
DTSTAMP:20260423T070652
CREATED:20251112T233647Z
LAST-MODIFIED:20251112T233647Z
UID:6242-1765998000-1766003400@thesaintspub.com
SUMMARY:Country Line Dancing in The Sandpiper Room
DESCRIPTION:
URL:https://thesaintspub.com/event/country-line-dancing-in-the-sandpiper-room-31/
LOCATION:The Saints Pub\, 2601 SE Morningside Blvd\, Port St. Lucie\, FL\, 34952\, United States
CATEGORIES:events
ORGANIZER;CN="The Saints Pub":MAILTO:info@thesaintspub.com
END:VEVENT
BEGIN:VEVENT
DTSTART;TZID=UTC:20251219T183000
DTEND;TZID=UTC:20251219T213000
DTSTAMP:20260423T070652
CREATED:20251112T233830Z
LAST-MODIFIED:20251112T233830Z
UID:6244-1766169000-1766179800@thesaintspub.com
SUMMARY:The Terri Hines Band
DESCRIPTION:
URL:https://thesaintspub.com/event/the-terri-hines-band-83/
LOCATION:The Saints Pub\, 2601 SE Morningside Blvd\, Port St. Lucie\, FL\, 34952\, United States
CATEGORIES:events
ORGANIZER;CN="The Saints Pub":MAILTO:info@thesaintspub.com
END:VEVENT
END:VCALENDAR